From mboxrd@z Thu Jan  1 00:00:00 1970
Return-Path: <test-report-bounces@dpdk.org>
Received: from mails.dpdk.org (mails.dpdk.org [217.70.189.124])
	by inbox.dpdk.org (Postfix) with ESMTP id A9F0346538
	for <public@inbox.dpdk.org>; Wed,  9 Apr 2025 01:10:44 +0200 (CEST)
Received: from mails.dpdk.org (localhost [127.0.0.1])
	by mails.dpdk.org (Postfix) with ESMTP id 84187402C5;
	Wed,  9 Apr 2025 01:10:44 +0200 (CEST)
Received: from mail-pg1-f226.google.com (mail-pg1-f226.google.com
 [209.85.215.226])
 by mails.dpdk.org (Postfix) with ESMTP id 9800340265
 for <test-report@dpdk.org>; Wed,  9 Apr 2025 01:10:42 +0200 (CEST)
Received: by mail-pg1-f226.google.com with SMTP id
 41be03b00d2f7-af51596da56so5031708a12.0
 for <test-report@dpdk.org>; Tue, 08 Apr 2025 16:10:42 -0700 (PDT)
DKIM-Signature: v=1; a=rsa-sha256; c=relaxed/relaxed;
 d=iol.unh.edu; s=unh-iol; t=1744153841; x=1744758641; darn=dpdk.org;
 h=references:in-reply-to:cc:to:from:subject:message-id:date:from:to
 :cc:subject:date:message-id:reply-to;
 bh=9Pv7aFhcolUKjK7gPgm4UVzjNYSNTZJa7aDQngWvSLo=;
 b=Akfb5qsjuyS9jzJUFuach0eNXmdOMlQxGHRlM2iIywpDwbnG54n5UY43PJlF7rn6YY
 wi5jGhcvkiqpPzentAIeN/10b9WsFMk70d/o8au1UyenYqyliQajawdM2PODykeC5arY
 +02qod0VIEzJS7MHjAufZ6l8TgjPqYRi/DIb0=
X-Google-DKIM-Signature: v=1; a=rsa-sha256; c=relaxed/relaxed;
 d=1e100.net; s=20230601; t=1744153841; x=1744758641;
 h=references:in-reply-to:cc:to:from:subject:message-id:date
 :x-gm-message-state:from:to:cc:subject:date:message-id:reply-to;
 bh=9Pv7aFhcolUKjK7gPgm4UVzjNYSNTZJa7aDQngWvSLo=;
 b=uqPnWVwzYXsjQJPa5DpsIx6D8oJ5xBB1r0dBLTgtsxlfqhUIFTZhqXxXOraovZMRes
 cZ5X02NHoa7wZ8US2+8CSnZ5IqQTYW0sro1bUbYFKxSmvGV025kZFjLf0l3T4hgVvMNd
 e9AcF4QEABtiHsV0HG16KiDfmPt4nwMfFuqgf8nJolH0QFRSV+3dKKFVqkrOJTwO8YWf
 DFxmBrf6jWh5Zk7mxJpkKTHBp+GVaJPko6Goo3UxaQfIYz/kQeK5kewUEMGRHRbWe79j
 2Wve1J3MvuKA/DQ6Qp6U8/Vo0rmYAZDRIjDVTw74dN58JD4kCBzEQ1zepTYfyp415Xex
 u10g==
X-Gm-Message-State: AOJu0YxmMZVGaTxqG0ANpko1jnb4vXbruqZHiGWJnKSaroYW6adxvCFW
 BADhk589ek7WKSbK5/QHAhzBAJOl95OtU/2FWU9v0AMMX/tPUh67m02Sf+cH2W2aE++oHAeXSUl
 6Vtk5j0blEirC9s81uU07l9cNsssGJMWwaS/n/GvTJqkYNZWOPj7bUv6C
X-Gm-Gg: ASbGncvvc+a/70bkt4jquwGPcpm+vG7oXC5SAJG3v+FEoOUMF73bANMl2HprQWR9AjK
 prEJ5W0lRSH+OXxpocqYFyzPHhkgXQ825fe/trWw1qsplEoDIoQFCf438p+qVV1eIeouyllU3Z9
 tWOMieaYJbGw+aiUev2/GqnZ2qwKHF6Ovh4RBpcxKdzpWy4+k/LRpUUYkM2FB7A5jJDgsGlyUQU
 0HwPxIbRJLCvTM6iBbobdAq7O5P1fkmYmBriJJM2q8N6QY3Q98d+loQWbNFwzIV300D2On+Yh1r
 T/CRKeyETjOh5UQMY7BN1OlvJQQ2D/PljAE/C5im+t6Oh5TQdSmu
X-Google-Smtp-Source: AGHT+IFSS0zvMTDuz1nrg2R3npSr6tvvqaR7KONCwjtub43Jgga3wKsnQ/NfpJ4f2zmYCFBEH2cYPjk/qCga
X-Received: by 2002:a17:90b:582c:b0:2ef:114d:7bf8 with SMTP id
 98e67ed59e1d1-306dbb8e2b6mr1154524a91.6.1744153841609; 
 Tue, 08 Apr 2025 16:10:41 -0700 (PDT)
Received: from postal.iol.unh.edu (postal.iol.unh.edu.
 [2606:4100:3880:1234::84]) by smtp-relay.gmail.com with ESMTPS id
 98e67ed59e1d1-305983b66d3sm972165a91.10.2025.04.08.16.10.41
 (version=TLS1_2 cipher=ECDHE-ECDSA-AES128-GCM-SHA256 bits=128/128);
 Tue, 08 Apr 2025 16:10:41 -0700 (PDT)
X-Relaying-Domain: iol.unh.edu
Date: Tue, 08 Apr 2025 16:10:41 -0700 (PDT)
Message-ID: <67f5acf1.170a0220.360f85.8496SMTPIN_ADDED_MISSING@mx.google.com>
Received: from [172.21.0.5] (unknown [172.18.0.240])
 by postal.iol.unh.edu (Postfix) with ESMTP id C40036052471;
 Tue,  8 Apr 2025 19:10:40 -0400 (EDT)
Subject: |SUCCESS| pw152816 [PATCH] common/mlx5: fix build on Linux in dlopen
From: dpdklab@iol.unh.edu
To: Test Report <test-report@dpdk.org>
Cc: dpdk-test-reports@iol.unh.edu
In-Reply-To: <20250408074718.1322823-1-thomas@monjalon.net>
References: <20250408074718.1322823-1-thomas@monjalon.net>
Content-Type: text/plain
X-BeenThere: test-report@dpdk.org
X-Mailman-Version: 2.1.29
Precedence: list
List-Id: automatic DPDK test reports <test-report.dpdk.org>
List-Unsubscribe: <https://mails.dpdk.org/options/test-report>,
 <mailto:test-report-request@dpdk.org?subject=unsubscribe>
List-Archive: <http://mails.dpdk.org/archives/test-report/>
List-Post: <mailto:test-report@dpdk.org>
List-Help: <mailto:test-report-request@dpdk.org?subject=help>
List-Subscribe: <https://mails.dpdk.org/listinfo/test-report>,
 <mailto:test-report-request@dpdk.org?subject=subscribe>
Errors-To: test-report-bounces@dpdk.org

Test-Label: iol-unit-amd64-testing
Test-Status: SUCCESS
http://dpdk.org/patch/152816

_Testing PASS_

Submitter: Thomas Monjalon <thomas@monjalon.net>
Date: Tuesday, April 08 2025 07:47:17 
DPDK git baseline: Repo:dpdk
  Branch: master
  CommitID:edd3f4b1265e6da707c46ca9b6c39d332647baea

152816 --> testing pass

Upstream job id: Generic-Unit-Test-DPDK#329618

Test environment and result as below:

+-------------------+----------------+
|    Environment    | dpdk_unit_test |
+===================+================+
| CentOS Stream 10  | PASS           |
+-------------------+----------------+
| CentOS Stream 9   | PASS           |
+-------------------+----------------+
| Ubuntu 22.04      | PASS           |
+-------------------+----------------+
| Fedora 40 (Clang) | PASS           |
+-------------------+----------------+
| Ubuntu 20.04      | PASS           |
+-------------------+----------------+
| Debian 12         | PASS           |
+-------------------+----------------+
| Fedora 40         | PASS           |
+-------------------+----------------+
| Fedora 41 (Clang) | PASS           |
+-------------------+----------------+
| Fedora 41         | PASS           |
+-------------------+----------------+
| RHEL9             | PASS           |
+-------------------+----------------+
| RHEL8             | PASS           |
+-------------------+----------------+
| Ubuntu 24.04      | PASS           |
+-------------------+----------------+


CentOS Stream 10
	Kernel: Depends on container host
	Compiler: gcc 14.2.1 20241104 (Red Hat 14.2.1-6)

CentOS Stream 9
	Kernel: Depends on container host
	Compiler: gcc 11.5.0 20240719 (Red Hat 11.5.0-2)

Ubuntu 22.04
	Kernel: Depends on container host
	Compiler: gcc (Ubuntu 11.4.0-1ubuntu1~22.04) 11.4.0

Fedora 40 (Clang)
	Kernel: Depends on container host
	Compiler: clang 18.1.8 (Fedora 18.1.8-1.fc40)

Ubuntu 20.04
	Kernel: Depends on container host
	Compiler: gcc (Ubuntu 9.4.0-1ubuntu1~20.04.2) 9.4.0

Debian 12
	Kernel: Depends on container host
	Compiler: gcc (Debian 12.2.0-14) 12.2.0

Fedora 40
	Kernel: Depends on container host
	Compiler: gcc 14.2.1 20240912 (Red Hat 14.2.1-3)

Fedora 41 (Clang)
	Kernel: Depends on container host
	Compiler: clang 19.1.5 (Fedora 19.1.5-1.fc41)

Fedora 41
	Kernel: Depends on container host
	Compiler: gcc 14.2.1 20240912 (Red Hat 14.2.1-3)

RHEL9
	Kernel: Depends on container host
	Compiler: gcc 11.5.0 20240719 (Red Hat 11.5.0-2)

RHEL8
	Kernel: Depends on container host
	Compiler: gcc 8.5.0 20210514 (Red Hat 8.5.0-22)

Ubuntu 24.04
	Kernel: Depends on container host
	Compiler: gcc (Ubuntu 13.3.0-6ubuntu2~24.04) 13.3.0

To view detailed results, visit:
https://lab.dpdk.org/results/dashboard/patchsets/32961/

UNH-IOL DPDK Community Lab

To manage your email subscriptions, visit: 
https://lab.dpdk.org/results/dashboard/preferences/subscriptions/