From mboxrd@z Thu Jan 1 00:00:00 1970 Return-Path: Received: from mails.dpdk.org (mails.dpdk.org [217.70.189.124]) by inbox.dpdk.org (Postfix) with ESMTP id 6FBBE46538 for ; Wed, 9 Apr 2025 01:46:17 +0200 (CEST) Received: from mails.dpdk.org (localhost [127.0.0.1]) by mails.dpdk.org (Postfix) with ESMTP id 48482402C5; Wed, 9 Apr 2025 01:46:17 +0200 (CEST) Received: from mail-il1-f226.google.com (mail-il1-f226.google.com [209.85.166.226]) by mails.dpdk.org (Postfix) with ESMTP id 4D71C40265 for ; Wed, 9 Apr 2025 01:46:15 +0200 (CEST) Received: by mail-il1-f226.google.com with SMTP id e9e14a558f8ab-3d45503af24so55906525ab.2 for ; Tue, 08 Apr 2025 16:46:15 -0700 (PDT) DKIM-Signature: v=1; a=rsa-sha256; c=relaxed/relaxed; d=iol.unh.edu; s=unh-iol; t=1744155974; x=1744760774; darn=dpdk.org; h=references:in-reply-to:cc:to:from:subject:message-id:date:from:to :cc:subject:date:message-id:reply-to; bh=tUdMK3PtQU0OTCrNOm0HPqem0D0gchCsQoQvTl7EYbA=; b=aGqx5YTGS0oYhRJ9L/+8TcpCyieQtfz8KaX/Hk+6jKnJ4Miw18xoreE2aciZMVilgh 19k0khOfygW6zj4lV+BGRqZ5c9lrc+4OL9AEO0GaeSqy3UNqTQB1n0fPtKiqmrrl/w3S MYUH9rpf8iWSWrw/4k72aSotqURhNBPqlDhLU= X-Google-DKIM-Signature: v=1; a=rsa-sha256; c=relaxed/relaxed; d=1e100.net; s=20230601; t=1744155974; x=1744760774; h=references:in-reply-to:cc:to:from:subject:message-id:date :x-gm-message-state:from:to:cc:subject:date:message-id:reply-to; bh=tUdMK3PtQU0OTCrNOm0HPqem0D0gchCsQoQvTl7EYbA=; b=KCGJACf3xnNrthXcdM6jYrZJFQlAw73iilf5sFpXRQTqSkkq0L3zfFBibKFp7bcJOa Ew1psDDh6mC3lgiHriMSo0brQLUFWLkLhNVbHGcvocORxReNkcjBIsbbmYy/1m8VqY8c Z0i/9jbW/x+udAmyO6KvBTN9uNk8lrvyrXSdvOrmkV/veHNBX37F1uqlnHja7CoSspLv V77uepAKlQp1UgMUbg8cjhPqAQR+jBzWQjCuII/3oQWGMtSsx6newbiV5yEq53eXUF/X FSw5Vk4TQMbwZqp1fEBUB2uKuMBSvyfrBkXcj0FLnsQwD62vOKx3EDhGbLHg8WImq65v FJrA== X-Gm-Message-State: AOJu0YxKBKRm6gy9m5+uyE6J9fIxivc7yoQnTGY/aZFTxNZTZU30xOK1 cRqoWrCRfJeBGXuCpB/EbkcaJ4L8cuTNFPCoAjevL3J4vlNhK3Xgu6f022wu3Vhbj5ON/yMznw0 IUklW+VDMtb4gyloI3+c6bsbW6ZGy9UMii32Adgf3UpryIfC6fe0EB8Wq X-Gm-Gg: ASbGncuaHLjQAj8kLy1dQ4DNWFMgmG1CeZt/9l96W+ySKZapAZEs+2vNDf9e+RKIULz XiqZ3m1a2UYv5HuRAXS0JiDDxukrtd7tNvEUX/y/FWcez7IeRFn98SDocT57ww1bhKbWpIS+wy+ 2EYjComKimpuM6pxqdEVPiH+mJhhArOlQl218Vlz1sGDJ75Y2KkhRtHws5Sb4Nvikw2mkT/FIav IN+48uldL5TLRXqLnxUPwKTH960FRV0OFDL7XZwKcUetlkOIRIc5MVB+VVT35W5eMex3PTHI7ly GWJyKD2llhPOZ855QmOYtbbXM1Lxd9P50dAL2DqyT8lm5CizKXlb X-Google-Smtp-Source: AGHT+IHwyrT7udpDey5xf6h1gS58BTHa0Hy+cVUy+9dqQLcjsr/5jEPARizCkKU0sdeAuARJk5kwISPWccpv X-Received: by 2002:a05:6e02:1525:b0:3d3:f7ed:c907 with SMTP id e9e14a558f8ab-3d77c2b14c5mr8981235ab.15.1744155974584; Tue, 08 Apr 2025 16:46:14 -0700 (PDT) Received: from postal.iol.unh.edu (postal.iol.unh.edu. [2606:4100:3880:1234::84]) by smtp-relay.gmail.com with ESMTPS id e9e14a558f8ab-3d703b9840fsm2078935ab.35.2025.04.08.16.46.14 (version=TLS1_2 cipher=ECDHE-ECDSA-AES128-GCM-SHA256 bits=128/128); Tue, 08 Apr 2025 16:46:14 -0700 (PDT) X-Relaying-Domain: iol.unh.edu Date: Tue, 08 Apr 2025 16:46:14 -0700 (PDT) Message-ID: <67f5b546.050a0220.1d728.9cf0SMTPIN_ADDED_MISSING@mx.google.com> Received: from [172.21.0.5] (unknown [172.18.0.240]) by postal.iol.unh.edu (Postfix) with ESMTP id 0EB786052471; Tue, 8 Apr 2025 19:46:14 -0400 (EDT) Subject: |SUCCESS| pw152813-152815 [PATCH] [v6,3/3] net/macb: add necessary d From: dpdklab@iol.unh.edu To: Test Report Cc: dpdk-test-reports@iol.unh.edu In-Reply-To: <1744093356-313809-1-git-send-email-liwencheng@phytium.com.cn> References: <1744093356-313809-1-git-send-email-liwencheng@phytium.com.cn> Content-Type: text/plain X-BeenThere: test-report@dpdk.org X-Mailman-Version: 2.1.29 Precedence: list List-Id: automatic DPDK test reports List-Unsubscribe: , List-Archive: List-Post: List-Help: List-Subscribe: , Errors-To: test-report-bounces@dpdk.org Test-Label: iol-unit-arm64-testing Test-Status: SUCCESS http://dpdk.org/patch/152815 _Testing PASS_ Submitter: liwencheng Date: Tuesday, April 08 2025 06:22:36 DPDK git baseline: Repo:dpdk Branch: master CommitID:8ee74a69abcf48563f05adeafecd298bb03477a8 152813-152815 --> testing pass Upstream job id: Generic-Unit-Test-DPDK#329643 Test environment and result as below: +-----------------------------+----------------+--------------+---------------------------+------------------------------+ | Environment | dpdk_unit_test | lpm_autotest | cryptodev_sw_zuc_autotest | cryptodev_sw_snow3g_autotest | +=============================+================+==============+===========================+==============================+ | Fedora 40 (ARM) | PASS | SKIPPED | SKIPPED | SKIPPED | +-----------------------------+----------------+--------------+---------------------------+------------------------------+ | CentOS Stream 9 (ARM) | PASS | SKIPPED | SKIPPED | SKIPPED | +-----------------------------+----------------+--------------+---------------------------+------------------------------+ | Debian 12 (arm) | PASS | SKIPPED | PASS | PASS | +-----------------------------+----------------+--------------+---------------------------+------------------------------+ | CentOS Stream 10 (ARM) | PASS | SKIPPED | SKIPPED | SKIPPED | +-----------------------------+----------------+--------------+---------------------------+------------------------------+ | Fedora 40 (ARM Clang) | PASS | SKIPPED | SKIPPED | SKIPPED | +-----------------------------+----------------+--------------+---------------------------+------------------------------+ | Fedora 41 (ARM) | PASS | SKIPPED | SKIPPED | SKIPPED | +-----------------------------+----------------+--------------+---------------------------+------------------------------+ | Fedora 41 (ARM Clang) | PASS | SKIPPED | SKIPPED | SKIPPED | +-----------------------------+----------------+--------------+---------------------------+------------------------------+ | RHEL9 (ARM) | PASS | SKIPPED | SKIPPED | SKIPPED | +-----------------------------+----------------+--------------+---------------------------+------------------------------+ | Ubuntu 20.04 (ARM) | PASS | SKIPPED | SKIPPED | SKIPPED | +-----------------------------+----------------+--------------+---------------------------+------------------------------+ | Ubuntu 22.04 (ARM) | PASS | SKIPPED | SKIPPED | SKIPPED | +-----------------------------+----------------+--------------+---------------------------+------------------------------+ | Ubuntu 24.04 (ARM) | PASS | SKIPPED | SKIPPED | SKIPPED | +-----------------------------+----------------+--------------+---------------------------+------------------------------+ | 32-bit Ubuntu 22.04.4 (ARM) | PASS | SKIPPED | SKIPPED | SKIPPED | +-----------------------------+----------------+--------------+---------------------------+------------------------------+ | Ubuntu 20.04 ARM SVE | SKIPPED | PASS | SKIPPED | SKIPPED | +-----------------------------+----------------+--------------+---------------------------+------------------------------+ Fedora 40 (ARM) Kernel: Depends on container host Compiler: gcc 14.2.1 20240912 (Red Hat 14.2.1-3) CentOS Stream 9 (ARM) Kernel: Depends on container host Compiler: gcc 11.5.0 20240719 (Red Hat 11.5.0-2) Debian 12 (arm) Kernel: Depends on container host Compiler: gcc (Debian 12.2.0-14) 12.2.0 CentOS Stream 10 (ARM) Kernel: Depends on container host Compiler: gcc 14.2.1 20241104 (Red Hat 14.2.1-6) Fedora 40 (ARM Clang) Kernel: Depends on container host Compiler: clang 18.1.8 (Fedora 18.1.8-1.fc40) Fedora 41 (ARM) Kernel: Depends on container host Compiler: gcc 14.2.1 20240912 (Red Hat 14.2.1-3) Fedora 41 (ARM Clang) Kernel: Depends on container host Compiler: clang 19.1.5 (Fedora 19.1.5-1.fc41) RHEL9 (ARM) Kernel: Depends on container host Compiler: gcc 11.5.0 20240719 (Red Hat 11.5.0-2) Ubuntu 20.04 (ARM) Kernel: Depends on container host Compiler: gcc (Ubuntu 9.4.0-1ubuntu1~20.04.2) 9.4.0 Ubuntu 22.04 (ARM) Kernel: Depends on container host Compiler: gcc (Ubuntu 11.4.0-1ubuntu1~22.04) 11.4.0 Ubuntu 24.04 (ARM) Kernel: Depends on container host Compiler: gcc (Ubuntu 13.3.0-6ubuntu2~24.04) 13.3.0 32-bit Ubuntu 22.04.4 (ARM) Kernel: 5.15.83+ aarch64 Compiler: gcc (Ubuntu 11.4.0-1ubuntu1~22.04) 11.4.0 Ubuntu 20.04 ARM SVE Kernel: Depends on container host Compiler: gcc (Ubuntu 10.5.0-1ubuntu1~20.04) 10.5.0 To view detailed results, visit: https://lab.dpdk.org/results/dashboard/patchsets/32960/ UNH-IOL DPDK Community Lab To manage your email subscriptions, visit: https://lab.dpdk.org/results/dashboard/preferences/subscriptions/