From mboxrd@z Thu Jan 1 00:00:00 1970 Return-Path: Received: from mails.dpdk.org (mails.dpdk.org [217.70.189.124]) by inbox.dpdk.org (Postfix) with ESMTP id 914A546539 for ; Wed, 9 Apr 2025 02:22:29 +0200 (CEST) Received: from mails.dpdk.org (localhost [127.0.0.1]) by mails.dpdk.org (Postfix) with ESMTP id 8B8A5402C5; Wed, 9 Apr 2025 02:22:29 +0200 (CEST) Received: from mail-pl1-f226.google.com (mail-pl1-f226.google.com [209.85.214.226]) by mails.dpdk.org (Postfix) with ESMTP id 90D0540265 for ; Wed, 9 Apr 2025 02:22:28 +0200 (CEST) Received: by mail-pl1-f226.google.com with SMTP id d9443c01a7336-22548a28d0cso87832455ad.3 for ; Tue, 08 Apr 2025 17:22:28 -0700 (PDT) DKIM-Signature: v=1; a=rsa-sha256; c=relaxed/relaxed; d=iol.unh.edu; s=unh-iol; t=1744158148; x=1744762948; darn=dpdk.org; h=references:in-reply-to:cc:to:from:subject:message-id:date:from:to :cc:subject:date:message-id:reply-to; bh=quPfZd9PdQ3pG2bZfZ9Scg8js0EMfoaA40UEn6OpXwI=; b=LNvuWLa0zTzi1R/YxlnA7Oe22w0mxyg1Y7pmN/a3VqXC4YgF6GK8ON/9uPviEto70S K7DVJOg4P8Kkg6Ni+p9QhcBUNE1lBzm5dcOOIf5jtChfSLmcSYsZjamoKtcRHBfiRGFJ 2dZ6AHBdMy4pe/7CTyODOJxjaiQJFfUrIAQ2c= X-Google-DKIM-Signature: v=1; a=rsa-sha256; c=relaxed/relaxed; d=1e100.net; s=20230601; t=1744158148; x=1744762948; h=references:in-reply-to:cc:to:from:subject:message-id:date :x-gm-message-state:from:to:cc:subject:date:message-id:reply-to; bh=quPfZd9PdQ3pG2bZfZ9Scg8js0EMfoaA40UEn6OpXwI=; b=Xjy6rj+WETCIo9Exjtxo59cNwQ2JSi/A2/lBHEl8vq+bryzkimpzmney3UX0GUcrSO xsSLFplsMs4K+auyZWHD1db3nN4tUP6MpzrDPMFR7TjmDmnrQyvEK3YRVMLa5m6XgaRJ jXLA7MEbgXKL0h2ffaAK5/0k6PS6DzVsxdX18gA04p7C8jBrBvzJ4eXEH/HFPdqECKgX phsMk/0A/PXyJ4atl/+YSOl32a3UrESyzBwR6lfAnurri/UBXHHcFwaVUWmb2haFJq/9 hyvok2XqpJZZLC37923JYQhw3w78IcCFUjXVOmc0ofYFuyYVzux0tfpir6zIrFnI9+GO DIaw== X-Gm-Message-State: AOJu0YwuLH6JEqqWXGiezsW6o7Kvqo2LtnsgD6xJq+b9+/9YwsqrNBIN KUwMNS5CvHRKKx2P803kNEBLrc0Eku0nKZbjspxfhslJg+eEV6a5UKEB+iMaGzBJkANe/hkVzG/ CjGykZ/hBCYLFzYuxRMmp/8U6cqLLRO82hcTqLM47 X-Gm-Gg: ASbGncvVxIsxq4h7BV90CI3r33QS+JXlRlMI1JnzzkZ6dqQW7L4Q2IJswtj4dzPmjb6 sA67McbBUaUVH6y+p8926JoFon2KHVzOzeknXxAqqMiU+Bme7WNuYNnDYeTs1cMmKDG+CNb6NV4 LKPa0M8Xh2ZOvD1vsA01GK9aXJubrHF5IpQNQFaGOUuMsQiJZ6zPPx9o/1ois7G3tyRpBM9bYqb Acg/FgRbGlcy6MH+bYbmF3gtiwi6ELj11bNhmZe5FNF/T/pzv06BQ2VknbQrWBY/ts6he11IqGy 5OIpNjPUeQM2utgy6YalUwYm5Xs1MfcpJzgU5iva X-Google-Smtp-Source: AGHT+IHI+HspXmcmP8XxCGzocGieGJEuOgyLfZKWgomnbuVTD0UKYAMXWH+nhyGXH2Sz/b3JnTP9KvtksMof X-Received: by 2002:a17:902:ce06:b0:224:23be:c569 with SMTP id d9443c01a7336-22ac29a06a2mr19311595ad.22.1744158147741; Tue, 08 Apr 2025 17:22:27 -0700 (PDT) Received: from postal.iol.unh.edu (postal.iol.unh.edu. [132.177.123.84]) by smtp-relay.gmail.com with ESMTPS id d2e1a72fcca58-739d97f3769sm1029955b3a.10.2025.04.08.17.22.27 (version=TLS1_2 cipher=ECDHE-ECDSA-AES128-GCM-SHA256 bits=128/128); Tue, 08 Apr 2025 17:22:27 -0700 (PDT) X-Relaying-Domain: iol.unh.edu Date: Tue, 08 Apr 2025 17:22:27 -0700 (PDT) Message-ID: <67f5bdc3.050a0220.969b5.8a4bSMTPIN_ADDED_MISSING@mx.google.com> Received: from [172.21.0.5] (unknown [172.18.0.240]) by postal.iol.unh.edu (Postfix) with ESMTP id C26CA6052471; Tue, 8 Apr 2025 20:22:26 -0400 (EDT) Subject: |SUCCESS| pw152819-152823 [PATCH] [7/7] net/hns3: fix unrelease some From: dpdklab@iol.unh.edu To: Test Report Cc: dpdk-test-reports@iol.unh.edu In-Reply-To: <20250408083100.2845040-8-huangdengdui@huawei.com> References: <20250408083100.2845040-8-huangdengdui@huawei.com> Content-Type: text/plain X-BeenThere: test-report@dpdk.org X-Mailman-Version: 2.1.29 Precedence: list List-Id: automatic DPDK test reports List-Unsubscribe: , List-Archive: List-Post: List-Help: List-Subscribe: , Errors-To: test-report-bounces@dpdk.org Test-Label: iol-unit-amd64-testing Test-Status: SUCCESS http://dpdk.org/patch/152823 _Testing PASS_ Submitter: Dengdui Huang Date: Tuesday, April 08 2025 08:31:00 DPDK git baseline: Repo:dpdk Branch: master CommitID:0b2f016cd76d4fb382eea54b8a6aaf9474586fbc 152819-152823 --> testing pass Upstream job id: Generic-VM-Unit-Test-DPDK#27862 Test environment and result as below: +---------------------+----------------+ | Environment | dpdk_unit_test | +=====================+================+ | CentOS Stream 10 | PASS | +---------------------+----------------+ | CentOS Stream 9 | PASS | +---------------------+----------------+ | Debian 12 | PASS | +---------------------+----------------+ | Fedora 41 | PASS | +---------------------+----------------+ | Ubuntu 20.04 | PASS | +---------------------+----------------+ | Ubuntu 24.04 | PASS | +---------------------+----------------+ | Fedora 41 (Clang) | PASS | +---------------------+----------------+ | Fedora 40 | PASS | +---------------------+----------------+ | Fedora 40 (Clang) | PASS | +---------------------+----------------+ | RHEL9 | PASS | +---------------------+----------------+ | RHEL8 | PASS | +---------------------+----------------+ | Ubuntu 22.04 | PASS | +---------------------+----------------+ | Windows Server 2022 | PASS | +---------------------+----------------+ CentOS Stream 10 Kernel: Depends on container host Compiler: gcc 14.2.1 20241104 (Red Hat 14.2.1-6) CentOS Stream 9 Kernel: Depends on container host Compiler: gcc 11.5.0 20240719 (Red Hat 11.5.0-2) Debian 12 Kernel: Depends on container host Compiler: gcc (Debian 12.2.0-14) 12.2.0 Fedora 41 Kernel: Depends on container host Compiler: gcc 14.2.1 20240912 (Red Hat 14.2.1-3) Ubuntu 20.04 Kernel: Depends on container host Compiler: gcc (Ubuntu 9.4.0-1ubuntu1~20.04.2) 9.4.0 Ubuntu 24.04 Kernel: Depends on container host Compiler: gcc (Ubuntu 13.3.0-6ubuntu2~24.04) 13.3.0 Fedora 41 (Clang) Kernel: Depends on container host Compiler: clang 19.1.5 (Fedora 19.1.5-1.fc41) Fedora 40 Kernel: Depends on container host Compiler: gcc 14.2.1 20240912 (Red Hat 14.2.1-3) Fedora 40 (Clang) Kernel: Depends on container host Compiler: clang 18.1.8 (Fedora 18.1.8-1.fc40) RHEL9 Kernel: Depends on container host Compiler: gcc 11.5.0 20240719 (Red Hat 11.5.0-2) RHEL8 Kernel: Depends on container host Compiler: gcc 8.5.0 20210514 (Red Hat 8.5.0-22) Ubuntu 22.04 Kernel: Depends on container host Compiler: gcc (Ubuntu 11.4.0-1ubuntu1~22.04) 11.4.0 Windows Server 2022 Kernel: 10.0.20348.2031 Compiler: clang 15.0.7, gcc 14.1.0 (MinGW), and MSVC VS 19.39.33521 To view detailed results, visit: https://lab.dpdk.org/results/dashboard/patchsets/32962/ UNH-IOL DPDK Community Lab To manage your email subscriptions, visit: https://lab.dpdk.org/results/dashboard/preferences/subscriptions/