From mboxrd@z Thu Jan 1 00:00:00 1970 Return-Path: Received: from mails.dpdk.org (mails.dpdk.org [217.70.189.124]) by inbox.dpdk.org (Postfix) with ESMTP id A1D9F46539 for ; Wed, 9 Apr 2025 02:44:08 +0200 (CEST) Received: from mails.dpdk.org (localhost [127.0.0.1]) by mails.dpdk.org (Postfix) with ESMTP id 77910402C5; Wed, 9 Apr 2025 02:44:08 +0200 (CEST) Received: from mail-pg1-f226.google.com (mail-pg1-f226.google.com [209.85.215.226]) by mails.dpdk.org (Postfix) with ESMTP id 42D8340265 for ; Wed, 9 Apr 2025 02:44:07 +0200 (CEST) Received: by mail-pg1-f226.google.com with SMTP id 41be03b00d2f7-af548cb1f83so5576295a12.3 for ; Tue, 08 Apr 2025 17:44:06 -0700 (PDT) DKIM-Signature: v=1; a=rsa-sha256; c=relaxed/relaxed; d=iol.unh.edu; s=unh-iol; t=1744159446; x=1744764246; darn=dpdk.org; h=references:in-reply-to:cc:to:from:subject:message-id:date:from:to :cc:subject:date:message-id:reply-to; bh=qImW/aENhjiadaWhPz0xE2Mm8mzboZiGYDqn3SRQ3uE=; b=eEDlYPeHa+qx6CXTiW04t2RtthTtGySYe6bpGUzljy581JAVGCbWwC/N8OrUFckmjw X34dtlMQRLlGINKnqNGO8g9yIEMUpKI2qZ54vd3biQejuaFOTse1Vn+EqF1PiQumEN9b VmRgS5yXNw1hLvkOCFPHCP2NKIXEqHZ7kfO48= X-Google-DKIM-Signature: v=1; a=rsa-sha256; c=relaxed/relaxed; d=1e100.net; s=20230601; t=1744159446; x=1744764246; h=references:in-reply-to:cc:to:from:subject:message-id:date :x-gm-message-state:from:to:cc:subject:date:message-id:reply-to; bh=qImW/aENhjiadaWhPz0xE2Mm8mzboZiGYDqn3SRQ3uE=; b=pP5ND07rw9DVQj6zF0Z0MDmoHIdVIv8ObQaF37DggL/SQ9FzlY8QWe/nVgIKd9qXMr KUWKemzcoKdeseZXOowNLx+egvsipj5FigXhQG+uxV0IDrAFDVbAdzAOPsrbzunWHPII GWCkZtUfCnbdoCeyQ1T7H4RLcwik20owx75lgnKEg7iwjMuSxUv2ZryRVSSqx00PwuvA u55f5b9c2pkB4ws6f16kZRpND8b/JUlhWm2sfTg75sAbm/h3jHWJSjs10c8pCKD/PmYY aYdp3zmZCSKi+j/1GQnDdVc2QFf4xD7L6R17HgSbrQ06ZXehLCNRr+yNlZb7mOmjUzct rt8w== X-Gm-Message-State: AOJu0Yw9qk8tFHzxP8gx7y87JkNqPigPDbuPu05Qelpf5eQ7MrFY+Uqj mwzEOwCQub9yXMUqClJZYfnXQNIGfmyLj2a4hEHyUAvn8fLegoiQsX++uNQomix9b+Ag0FPk93/ v76NHs9OEyh8joEKokOenJXljLU6iGTbAwlKgH/L1UAQYFYuv+anPdlEd X-Gm-Gg: ASbGncsCD3WQkoSxH/E3C3m781wYsAC6JfHAGFyRbI0Ibe/no9Fzp3rUEMyIGheu84S Lrgnssx40oBrO5d4N8ytgXMGhLLTWA57Cj84sSd3NVOtTI5VWt9G0EAR0bHJ9LJN6fwr39BWmE+ vPfAkRYWYXduVCWM9MVM4meUSiFvrZCt4TeM/oHLgsxHlbUNwCt1vedDk0CTOmo5VLG7qaSbeiR y+kncWX5EP8jD1wDex9elUMnzZWpxrx4vHmZx4y0dIQPKI5OwpO6OKgoCdi8uZiMt8d8Z1JAybK g8kCImHSDh8nDNyUuPFNkftl6WE7bGgb8AP8pMXXLljLAae8L5IJ X-Google-Smtp-Source: AGHT+IH5jbRkFMGiWJ34eGsvfUwL7f59BDwOe3ADvYxp9PQOe4f8NG/45F1VzBUYKwuvzOV300jT63ghp8Nh X-Received: by 2002:a05:6a21:31c8:b0:1f5:837b:1868 with SMTP id adf61e73a8af0-2015afe0c2bmr689756637.29.1744159445954; Tue, 08 Apr 2025 17:44:05 -0700 (PDT) Received: from postal.iol.unh.edu (postal.iol.unh.edu. [2606:4100:3880:1234::84]) by smtp-relay.gmail.com with ESMTPS id 41be03b00d2f7-b02a0cf1fccsm1625a12.10.2025.04.08.17.44.05 (version=TLS1_2 cipher=ECDHE-ECDSA-AES128-GCM-SHA256 bits=128/128); Tue, 08 Apr 2025 17:44:05 -0700 (PDT) X-Relaying-Domain: iol.unh.edu Date: Tue, 08 Apr 2025 17:44:05 -0700 (PDT) Message-ID: <67f5c2d5.050a0220.872aa.0062SMTPIN_ADDED_MISSING@mx.google.com> Received: from [172.21.0.9] (unknown [172.18.0.240]) by postal.iol.unh.edu (Postfix) with ESMTP id 63C836052471; Tue, 8 Apr 2025 20:44:05 -0400 (EDT) Subject: |SUCCESS| pw152838 [PATCH] app/testpmd: revert auto attach/detach From: dpdklab@iol.unh.edu To: Test Report Cc: dpdk-test-reports@iol.unh.edu In-Reply-To: <20250408202436.158151-1-stephen@networkplumber.org> References: <20250408202436.158151-1-stephen@networkplumber.org> Content-Type: text/plain X-BeenThere: test-report@dpdk.org X-Mailman-Version: 2.1.29 Precedence: list List-Id: automatic DPDK test reports List-Unsubscribe: , List-Archive: List-Post: List-Help: List-Subscribe: , Errors-To: test-report-bounces@dpdk.org Test-Label: iol-unit-arm64-testing Test-Status: SUCCESS http://dpdk.org/patch/152838 _Testing PASS_ Submitter: Stephen Hemminger Date: Tuesday, April 08 2025 20:24:36 DPDK git baseline: Repo:dpdk Branch: master CommitID:0b2f016cd76d4fb382eea54b8a6aaf9474586fbc 152838 --> testing pass Upstream job id: Generic-Unit-Test-DPDK#329662 Test environment and result as below: +-----------------------------+----------------+--------------+---------------------------+------------------------------+ | Environment | dpdk_unit_test | lpm_autotest | cryptodev_sw_zuc_autotest | cryptodev_sw_snow3g_autotest | +=============================+================+==============+===========================+==============================+ | 32-bit Ubuntu 22.04.4 (ARM) | PASS | SKIPPED | SKIPPED | SKIPPED | +-----------------------------+----------------+--------------+---------------------------+------------------------------+ | CentOS Stream 10 (ARM) | PASS | SKIPPED | SKIPPED | SKIPPED | +-----------------------------+----------------+--------------+---------------------------+------------------------------+ | CentOS Stream 9 (ARM) | PASS | SKIPPED | SKIPPED | SKIPPED | +-----------------------------+----------------+--------------+---------------------------+------------------------------+ | Debian 12 (arm) | PASS | SKIPPED | PASS | PASS | +-----------------------------+----------------+--------------+---------------------------+------------------------------+ | Fedora 40 (ARM Clang) | PASS | SKIPPED | SKIPPED | SKIPPED | +-----------------------------+----------------+--------------+---------------------------+------------------------------+ | Fedora 40 (ARM) | PASS | SKIPPED | SKIPPED | SKIPPED | +-----------------------------+----------------+--------------+---------------------------+------------------------------+ | Fedora 41 (ARM) | PASS | SKIPPED | SKIPPED | SKIPPED | +-----------------------------+----------------+--------------+---------------------------+------------------------------+ | Fedora 41 (ARM Clang) | PASS | SKIPPED | SKIPPED | SKIPPED | +-----------------------------+----------------+--------------+---------------------------+------------------------------+ | RHEL9 (ARM) | PASS | SKIPPED | SKIPPED | SKIPPED | +-----------------------------+----------------+--------------+---------------------------+------------------------------+ | Ubuntu 24.04 (ARM) | PASS | SKIPPED | SKIPPED | SKIPPED | +-----------------------------+----------------+--------------+---------------------------+------------------------------+ | Ubuntu 20.04 (ARM) | PASS | SKIPPED | SKIPPED | SKIPPED | +-----------------------------+----------------+--------------+---------------------------+------------------------------+ | Ubuntu 22.04 (ARM) | PASS | SKIPPED | SKIPPED | SKIPPED | +-----------------------------+----------------+--------------+---------------------------+------------------------------+ | Ubuntu 20.04 ARM SVE | SKIPPED | PASS | SKIPPED | SKIPPED | +-----------------------------+----------------+--------------+---------------------------+------------------------------+ 32-bit Ubuntu 22.04.4 (ARM) Kernel: 5.15.83+ aarch64 Compiler: gcc (Ubuntu 11.4.0-1ubuntu1~22.04) 11.4.0 CentOS Stream 10 (ARM) Kernel: Depends on container host Compiler: gcc 14.2.1 20241104 (Red Hat 14.2.1-6) CentOS Stream 9 (ARM) Kernel: Depends on container host Compiler: gcc 11.5.0 20240719 (Red Hat 11.5.0-2) Debian 12 (arm) Kernel: Depends on container host Compiler: gcc (Debian 12.2.0-14) 12.2.0 Fedora 40 (ARM Clang) Kernel: Depends on container host Compiler: clang 18.1.8 (Fedora 18.1.8-1.fc40) Fedora 40 (ARM) Kernel: Depends on container host Compiler: gcc 14.2.1 20240912 (Red Hat 14.2.1-3) Fedora 41 (ARM) Kernel: Depends on container host Compiler: gcc 14.2.1 20240912 (Red Hat 14.2.1-3) Fedora 41 (ARM Clang) Kernel: Depends on container host Compiler: clang 19.1.5 (Fedora 19.1.5-1.fc41) RHEL9 (ARM) Kernel: Depends on container host Compiler: gcc 11.5.0 20240719 (Red Hat 11.5.0-2) Ubuntu 24.04 (ARM) Kernel: Depends on container host Compiler: gcc (Ubuntu 13.3.0-6ubuntu2~24.04) 13.3.0 Ubuntu 20.04 (ARM) Kernel: Depends on container host Compiler: gcc (Ubuntu 9.4.0-1ubuntu1~20.04.2) 9.4.0 Ubuntu 22.04 (ARM) Kernel: Depends on container host Compiler: gcc (Ubuntu 11.4.0-1ubuntu1~22.04) 11.4.0 Ubuntu 20.04 ARM SVE Kernel: Depends on container host Compiler: gcc (Ubuntu 10.5.0-1ubuntu1~20.04) 10.5.0 To view detailed results, visit: https://lab.dpdk.org/results/dashboard/patchsets/32972/ UNH-IOL DPDK Community Lab To manage your email subscriptions, visit: https://lab.dpdk.org/results/dashboard/preferences/subscriptions/