From mboxrd@z Thu Jan 1 00:00:00 1970 Return-Path: Received: from mails.dpdk.org (mails.dpdk.org [217.70.189.124]) by inbox.dpdk.org (Postfix) with ESMTP id 2B91E46539 for ; Wed, 9 Apr 2025 03:18:07 +0200 (CEST) Received: from mails.dpdk.org (localhost [127.0.0.1]) by mails.dpdk.org (Postfix) with ESMTP id F0879402C5; Wed, 9 Apr 2025 03:18:06 +0200 (CEST) Received: from mail-il1-f225.google.com (mail-il1-f225.google.com [209.85.166.225]) by mails.dpdk.org (Postfix) with ESMTP id 69BE540265 for ; Wed, 9 Apr 2025 03:18:06 +0200 (CEST) Received: by mail-il1-f225.google.com with SMTP id e9e14a558f8ab-3d434c84b7eso37748445ab.1 for ; Tue, 08 Apr 2025 18:18:06 -0700 (PDT) DKIM-Signature: v=1; a=rsa-sha256; c=relaxed/relaxed; d=iol.unh.edu; s=unh-iol; t=1744161485; x=1744766285; darn=dpdk.org; h=references:in-reply-to:cc:to:from:subject:message-id:date:from:to :cc:subject:date:message-id:reply-to; bh=gcQFdgSR4xHR9MXH1AiQonpwB08Kh8o9QOxi+VZvtQE=; b=Uts/G/QM681QpPrn42W5JZyLPkQYqb4Ng12xFPzlIaKlicMOCn00U6CgmQc3b1lr6w RcadZWF4PYyPlAlL8cO7Al6inUiznUzds/CD55UULInlz1Gvp+v05bPwiLFJCd3UrRhN AjCxGgCCHkVZ+ESkoosOG/iGP0gUBqzzZWbho= X-Google-DKIM-Signature: v=1; a=rsa-sha256; c=relaxed/relaxed; d=1e100.net; s=20230601; t=1744161485; x=1744766285; h=references:in-reply-to:cc:to:from:subject:message-id:date :x-gm-message-state:from:to:cc:subject:date:message-id:reply-to; bh=gcQFdgSR4xHR9MXH1AiQonpwB08Kh8o9QOxi+VZvtQE=; b=esMAQmV5rQZRFdI08LU181hKwZWSc+7mAZBSB8NvBb8t2KxE0HkNp4TCB5NPcbs1+N TueCdYV9dnqPvYpBQNDmNNxHlRrlbgEhMJQRh/CZyNmXN1cPXnDy8WcMYPJ68KZgXTAn CVB5WYRO17R9eugz1uv65tBOiA/5o3M3ryZGQuhCexjpM95+TVSSqpgSbXQZ6lmbNVWe P1AJuz3LNFrVVvWKytm8PcvA1Z9S3i9Du6q8HWpq8UCU4X2PJWVzFVw4DgcQIunpUK5A KD2ZCP79JMlNIlq1jkSl+gAbQ281pa3RPQQHDLEUdJx3qQ/9BNFtENPuJ8sRspdGNkZI UaDw== X-Gm-Message-State: AOJu0Ywvh4bhp/ZiFWqWvQa5BvU9Vf2oHCOidq65DZ6N07JWyuD/ZHwU ZRp9sDEivIDwVTVRlsE22ZlWtuPzV3fT2PIEtaBTFEqw3NAkIu45s8pIOetUeIE/iJrMN4CnvtC 72IlEhTIkIE6DWfsHHYq1iJUhu+IrdHzPw24E+woW X-Gm-Gg: ASbGncsj/0VzPpuvVPqwB6ZrTBmL7KGCpi4fnazppGMqwx4LLkEymyHsZecb0S98kD8 6D2gMbm9D1gsgYCtrhrrn/X3qsFPWyfU7edxtVY+zZvBgiVdDdgxsmB+H/X+T0ldnnuufwe9tgC uifZCvidwW6EoaBTfx6vVoTvkrGmQTg1urbOP5m9xJQZW4in+/Gg5R6FB7d1W9Z6wP+2j6AhKCq vC9QRaedI6lRSLEihXZx9QavKoSj1tF4wd/Ht/XbB8qo9nl9VUjlI9UJSKMFmaloXsYxZf/7Z/C msWuQ/SaiI2j5bMaesGqporDDiq2o2EpX9pfkdqW X-Google-Smtp-Source: AGHT+IF/jZHxxt7JUBB/FiORflVIBcX3zvuxtA2FY5ZyisyN99QSJu9lvx6es+poz+v59T3VF/NU/KQZmvbF X-Received: by 2002:a05:6e02:18ce:b0:3d4:6e2f:b487 with SMTP id e9e14a558f8ab-3d771920ed1mr12734025ab.0.1744161485648; Tue, 08 Apr 2025 18:18:05 -0700 (PDT) Received: from postal.iol.unh.edu (postal.iol.unh.edu. [132.177.123.84]) by smtp-relay.gmail.com with ESMTPS id e9e14a558f8ab-3d7dc596824sm128185ab.64.2025.04.08.18.18.05 (version=TLS1_2 cipher=ECDHE-ECDSA-AES128-GCM-SHA256 bits=128/128); Tue, 08 Apr 2025 18:18:05 -0700 (PDT) X-Relaying-Domain: iol.unh.edu Date: Tue, 08 Apr 2025 18:18:05 -0700 (PDT) Message-ID: <67f5cacd.050a0220.e5cb1.0379SMTPIN_ADDED_MISSING@mx.google.com> Received: from [172.21.0.5] (unknown [172.18.0.240]) by postal.iol.unh.edu (Postfix) with ESMTP id 19F0F6052471; Tue, 8 Apr 2025 21:18:05 -0400 (EDT) Subject: |SUCCESS| pw152813-152815 [PATCH] [v6,3/3] net/macb: add necessary d From: dpdklab@iol.unh.edu To: Test Report Cc: dpdk-test-reports@iol.unh.edu In-Reply-To: <1744093356-313809-1-git-send-email-liwencheng@phytium.com.cn> References: <1744093356-313809-1-git-send-email-liwencheng@phytium.com.cn> Content-Type: text/plain X-BeenThere: test-report@dpdk.org X-Mailman-Version: 2.1.29 Precedence: list List-Id: automatic DPDK test reports List-Unsubscribe: , List-Archive: List-Post: List-Help: List-Subscribe: , Errors-To: test-report-bounces@dpdk.org Test-Label: iol-compile-amd64-testing Test-Status: SUCCESS http://dpdk.org/patch/152815 _Testing PASS_ Submitter: liwencheng Date: Tuesday, April 08 2025 06:22:36 DPDK git baseline: Repo:dpdk Branch: master CommitID:8ee74a69abcf48563f05adeafecd298bb03477a8 152813-152815 --> testing pass Upstream job id: Windows-Compile-DPDK-Native#27764 Test environment and result as below: +-----------------------------------+--------------------+-------------------+------------------+-------------------+-------------------------+ | Environment | dpdk_meson_compile | dpdk_compile_spdk | dpdk_compile_ovs | dpdk_msvc_compile | dpdk_llvm_clang_compile | +===================================+====================+===================+==================+===================+=========================+ | CentOS Stream 9 | PASS | PASS | SKIPPED | SKIPPED | SKIPPED | +-----------------------------------+--------------------+-------------------+------------------+-------------------+-------------------------+ | CentOS Stream 10 | PASS | SKIPPED | SKIPPED | SKIPPED | SKIPPED | +-----------------------------------+--------------------+-------------------+------------------+-------------------+-------------------------+ | Debian 12 | PASS | PASS | SKIPPED | SKIPPED | SKIPPED | +-----------------------------------+--------------------+-------------------+------------------+-------------------+-------------------------+ | Fedora 40 (Clang) | PASS | PASS | SKIPPED | SKIPPED | SKIPPED | +-----------------------------------+--------------------+-------------------+------------------+-------------------+-------------------------+ | Fedora 40 | PASS | PASS | SKIPPED | SKIPPED | SKIPPED | +-----------------------------------+--------------------+-------------------+------------------+-------------------+-------------------------+ | RHEL8 | PASS | SKIPPED | SKIPPED | SKIPPED | SKIPPED | +-----------------------------------+--------------------+-------------------+------------------+-------------------+-------------------------+ | Fedora 41 (Clang) | PASS | PASS | PASS | SKIPPED | SKIPPED | +-----------------------------------+--------------------+-------------------+------------------+-------------------+-------------------------+ | openSUSE Leap 15 | PASS | SKIPPED | SKIPPED | SKIPPED | SKIPPED | +-----------------------------------+--------------------+-------------------+------------------+-------------------+-------------------------+ | RHEL9 | PASS | SKIPPED | SKIPPED | SKIPPED | SKIPPED | +-----------------------------------+--------------------+-------------------+------------------+-------------------+-------------------------+ | Ubuntu 20.04 | PASS | SKIPPED | SKIPPED | SKIPPED | SKIPPED | +-----------------------------------+--------------------+-------------------+------------------+-------------------+-------------------------+ | Ubuntu 22.04 | PASS | PASS | SKIPPED | SKIPPED | SKIPPED | +-----------------------------------+--------------------+-------------------+------------------+-------------------+-------------------------+ | Ubuntu 24.04 | PASS | PASS | PASS | SKIPPED | SKIPPED | +-----------------------------------+--------------------+-------------------+------------------+-------------------+-------------------------+ | Alpine | PASS | SKIPPED | SKIPPED | SKIPPED | SKIPPED | +-----------------------------------+--------------------+-------------------+------------------+-------------------+-------------------------+ | Ubuntu 24.04 32 Bit Cross Compile | PASS | SKIPPED | SKIPPED | SKIPPED | SKIPPED | +-----------------------------------+--------------------+-------------------+------------------+-------------------+-------------------------+ | FreeBSD 13.5 | PASS | SKIPPED | SKIPPED | SKIPPED | SKIPPED | +-----------------------------------+--------------------+-------------------+------------------+-------------------+-------------------------+ | FreeBSD 14.2 | PASS | SKIPPED | SKIPPED | SKIPPED | SKIPPED | +-----------------------------------+--------------------+-------------------+------------------+-------------------+-------------------------+ | Fedora 41 | PASS | PASS | PASS | SKIPPED | SKIPPED | +-----------------------------------+--------------------+-------------------+------------------+-------------------+-------------------------+ | Windows Server 2022 | SKIPPED | SKIPPED | SKIPPED | PASS | PASS | +-----------------------------------+--------------------+-------------------+------------------+-------------------+-------------------------+ CentOS Stream 9 Kernel: Depends on container host Compiler: gcc 11.5.0 20240719 (Red Hat 11.5.0-2) CentOS Stream 10 Kernel: Depends on container host Compiler: gcc 14.2.1 20241104 (Red Hat 14.2.1-6) Debian 12 Kernel: Depends on container host Compiler: gcc (Debian 12.2.0-14) 12.2.0 Fedora 40 (Clang) Kernel: Depends on container host Compiler: clang 18.1.8 (Fedora 18.1.8-1.fc40) Fedora 40 Kernel: Depends on container host Compiler: gcc 14.2.1 20240912 (Red Hat 14.2.1-3) RHEL8 Kernel: Depends on container host Compiler: gcc 8.5.0 20210514 (Red Hat 8.5.0-22) Fedora 41 (Clang) Kernel: Depends on container host Compiler: clang 19.1.5 (Fedora 19.1.5-1.fc41) openSUSE Leap 15 Kernel: Depends on container host Compiler: gcc (SUSE Linux) 7.5.0 RHEL9 Kernel: Depends on container host Compiler: gcc 11.5.0 20240719 (Red Hat 11.5.0-2) Ubuntu 20.04 Kernel: Depends on container host Compiler: gcc (Ubuntu 9.4.0-1ubuntu1~20.04.2) 9.4.0 Ubuntu 22.04 Kernel: Depends on container host Compiler: gcc (Ubuntu 11.4.0-1ubuntu1~22.04) 11.4.0 Ubuntu 24.04 Kernel: Depends on container host Compiler: gcc (Ubuntu 13.3.0-6ubuntu2~24.04) 13.3.0 Alpine Kernel: Depends on container host Compiler: gcc (Alpine 14.2.0) 14.2.0 Ubuntu 24.04 32 Bit Cross Compile Kernel: Depends on container host Compiler: gcc (Ubuntu 13.3.0-6ubuntu2~24.04) 13.3.0 FreeBSD 13.5 Kernel: 13.5-RELEASE Compiler: clang 19.1.7 FreeBSD 14.2 Kernel: 14.2-RELEASE Compiler: clang 18.1.6 Fedora 41 Kernel: Depends on container host Compiler: gcc 14.2.1 20240912 (Red Hat 14.2.1-3) Windows Server 2022 Kernel: 10.0.20348.2031 Compiler: clang 15.0.7, gcc 14.1.0 (MinGW), and MSVC VS 19.39.33521 To view detailed results, visit: https://lab.dpdk.org/results/dashboard/patchsets/32960/ UNH-IOL DPDK Community Lab To manage your email subscriptions, visit: https://lab.dpdk.org/results/dashboard/preferences/subscriptions/