From mboxrd@z Thu Jan  1 00:00:00 1970
Return-Path: <test-report-bounces@dpdk.org>
Received: from mails.dpdk.org (mails.dpdk.org [217.70.189.124])
	by inbox.dpdk.org (Postfix) with ESMTP id 1C0AE46539
	for <public@inbox.dpdk.org>; Wed,  9 Apr 2025 03:18:09 +0200 (CEST)
Received: from mails.dpdk.org (localhost [127.0.0.1])
	by mails.dpdk.org (Postfix) with ESMTP id 15091402C5;
	Wed,  9 Apr 2025 03:18:09 +0200 (CEST)
Received: from mail-qt1-f225.google.com (mail-qt1-f225.google.com
 [209.85.160.225])
 by mails.dpdk.org (Postfix) with ESMTP id D9F7E40265
 for <test-report@dpdk.org>; Wed,  9 Apr 2025 03:18:07 +0200 (CEST)
Received: by mail-qt1-f225.google.com with SMTP id
 d75a77b69052e-476f4e9cf92so46465351cf.3
 for <test-report@dpdk.org>; Tue, 08 Apr 2025 18:18:07 -0700 (PDT)
DKIM-Signature: v=1; a=rsa-sha256; c=relaxed/relaxed;
 d=iol.unh.edu; s=unh-iol; t=1744161487; x=1744766287; darn=dpdk.org;
 h=references:in-reply-to:cc:to:from:subject:message-id:date:from:to
 :cc:subject:date:message-id:reply-to;
 bh=z3KVMaiZDrv66pWe+65qt92aO1CKmoeTvGnpgcpg2OQ=;
 b=WapGABB15CWhfn/mO30YIOy33vr+MWYssXwcHJdJ0NdzpUfzJNt43EsoELrHUYpANj
 f3Q2hkJ1sBRpx/9l/XBEEXsbS/v+Yb5+spKGHYTDyNjuSOXg6Uwc2ijTqrxyJ7IJnZd5
 HnOT7G7UbW9g6SZGD776Gwk1kXJL1+xf85q/E=
X-Google-DKIM-Signature: v=1; a=rsa-sha256; c=relaxed/relaxed;
 d=1e100.net; s=20230601; t=1744161487; x=1744766287;
 h=references:in-reply-to:cc:to:from:subject:message-id:date
 :x-gm-message-state:from:to:cc:subject:date:message-id:reply-to;
 bh=z3KVMaiZDrv66pWe+65qt92aO1CKmoeTvGnpgcpg2OQ=;
 b=jo2FzzAKjIXx+qqmU09WhnAE3XB53MR8sdT7gcqvxs2v+5uxofF3wXZiRL4wX5xW5N
 U8Pqm9k1Mz6nuc9tqyZZe2MnouoAyVtOh7HXHbKbb3r66OLgNJQdwGxM8FaSpaOdpfkT
 HzN01l7kWT3DXoPpkrqB7b+OMJwk393qCKsRuASnLJdGCMDJ3/NAn/BYJzabk4nljdBd
 9XtU5xz+gxit90fZ1t9wLo8bkS9HjL2W5XfCm4GxA5wqGo98BZ9WLmxRUfPPE+i0onnK
 vePNH8244kB6JUhPf1d3e6hsstoHaA0IhpjxkZpe/StBlNNR2Ob2jtVsZ28DFLJd4QZD
 vLSg==
X-Gm-Message-State: AOJu0YymYaL9NfoXM40ija/OFW8TBmMFYe2JH4656DyIMDq7/SHn1KEI
 36/aVdQrLQNcWdA6Xi/ZM4/pidqwPwObC/aRB6wv8WtJxkavYmnojhwSBBYo8tPl7qKliEXIce+
 r9zA1nTaDAqYQGMioSNTfmTvc7Jkhys01Iccuf+V8
X-Gm-Gg: ASbGncvJ4sjF4qtUCM1hSmYs31uTDkjEGLxsC9obU0S/OCATfc3jvJkAoIhoeG8uVZ0
 R7zMu5OXMVlfLUG9PYYDDFqodKkjp7qfW5XrAp4n7YNHPmDhEGASPR8yPRtP4PgGaa09DMjtYey
 kSeYOYSyRvS/s2lkJShFNT1Pl6xJldlnRDqkiF8npd9sD2WYBA/m4kAbwofEN2hlVe667etIG/Q
 qGdpTA+FoU6zE1GPoDtI/N6t/yBRQ+bvTdjGzThI7rOydgMAbe+JYYJbtdWJjGffvz4s61mgA26
 oWiXwqjtf+DS72Nz57E8E6ZGxHCxPGhej9PKt7gD
X-Google-Smtp-Source: AGHT+IEduKfQZfdzK4ZURqGRLhWB+aK2v3TPlfQZvuDhLRncIqmONq1cJb1udiFeJMnTKpOnwGcC+6YZTXnt
X-Received: by 2002:a05:622a:211:b0:476:9b40:c2cd with SMTP id
 d75a77b69052e-4795f376cb2mr15718781cf.47.1744161487217; 
 Tue, 08 Apr 2025 18:18:07 -0700 (PDT)
Received: from postal.iol.unh.edu (postal.iol.unh.edu. [132.177.123.84])
 by smtp-relay.gmail.com with ESMTPS id
 d75a77b69052e-47964eb3c48sm1081cf.16.2025.04.08.18.18.07
 (version=TLS1_2 cipher=ECDHE-ECDSA-AES128-GCM-SHA256 bits=128/128);
 Tue, 08 Apr 2025 18:18:07 -0700 (PDT)
X-Relaying-Domain: iol.unh.edu
Date: Tue, 08 Apr 2025 18:18:07 -0700 (PDT)
Message-ID: <67f5cacf.050a0220.28dc87.000dSMTPIN_ADDED_MISSING@mx.google.com>
Received: from [172.21.0.7] (unknown [172.18.0.240])
 by postal.iol.unh.edu (Postfix) with ESMTP id E94776052471;
 Tue,  8 Apr 2025 21:18:06 -0400 (EDT)
Subject: |SUCCESS| pw152810-152812 [PATCH] [3/3] net/nfp: correct RSS algorit
From: dpdklab@iol.unh.edu
To: Test Report <test-report@dpdk.org>
Cc: dpdk-test-reports@iol.unh.edu
In-Reply-To: <20250408060203.473733-4-chaoyong.he@corigine.com>
References: <20250408060203.473733-4-chaoyong.he@corigine.com>
Content-Type: text/plain
X-BeenThere: test-report@dpdk.org
X-Mailman-Version: 2.1.29
Precedence: list
List-Id: automatic DPDK test reports <test-report.dpdk.org>
List-Unsubscribe: <https://mails.dpdk.org/options/test-report>,
 <mailto:test-report-request@dpdk.org?subject=unsubscribe>
List-Archive: <http://mails.dpdk.org/archives/test-report/>
List-Post: <mailto:test-report@dpdk.org>
List-Help: <mailto:test-report-request@dpdk.org?subject=help>
List-Subscribe: <https://mails.dpdk.org/listinfo/test-report>,
 <mailto:test-report-request@dpdk.org?subject=subscribe>
Errors-To: test-report-bounces@dpdk.org

Test-Label: iol-unit-arm64-testing
Test-Status: SUCCESS
http://dpdk.org/patch/152812

_Testing PASS_

Submitter: Chaoyong He <chaoyong.he@corigine.com>
Date: Tuesday, April 08 2025 06:02:03 
DPDK git baseline: Repo:dpdk
  Branch: master
  CommitID:8ee74a69abcf48563f05adeafecd298bb03477a8

152810-152812 --> testing pass

Upstream job id: Generic-Unit-Test-DPDK#329685

Test environment and result as below:

+-----------------------------+----------------+---------------------------+--------------+------------------------------+
|         Environment         | dpdk_unit_test | cryptodev_sw_zuc_autotest | lpm_autotest | cryptodev_sw_snow3g_autotest |
+=============================+================+===========================+==============+==============================+
| Fedora 40 (ARM)             | PASS           | SKIPPED                   | SKIPPED      | SKIPPED                      |
+-----------------------------+----------------+---------------------------+--------------+------------------------------+
| CentOS Stream 9 (ARM)       | PASS           | SKIPPED                   | SKIPPED      | SKIPPED                      |
+-----------------------------+----------------+---------------------------+--------------+------------------------------+
| Fedora 40 (ARM Clang)       | PASS           | SKIPPED                   | SKIPPED      | SKIPPED                      |
+-----------------------------+----------------+---------------------------+--------------+------------------------------+
| 32-bit Ubuntu 22.04.4 (ARM) | PASS           | SKIPPED                   | SKIPPED      | SKIPPED                      |
+-----------------------------+----------------+---------------------------+--------------+------------------------------+
| Ubuntu 20.04 (ARM)          | PASS           | SKIPPED                   | SKIPPED      | SKIPPED                      |
+-----------------------------+----------------+---------------------------+--------------+------------------------------+
| Debian 12 (arm)             | PASS           | PASS                      | SKIPPED      | PASS                         |
+-----------------------------+----------------+---------------------------+--------------+------------------------------+
| Fedora 41 (ARM Clang)       | PASS           | SKIPPED                   | SKIPPED      | SKIPPED                      |
+-----------------------------+----------------+---------------------------+--------------+------------------------------+
| Fedora 41 (ARM)             | PASS           | SKIPPED                   | SKIPPED      | SKIPPED                      |
+-----------------------------+----------------+---------------------------+--------------+------------------------------+
| RHEL9 (ARM)                 | PASS           | SKIPPED                   | SKIPPED      | SKIPPED                      |
+-----------------------------+----------------+---------------------------+--------------+------------------------------+
| CentOS Stream 10 (ARM)      | PASS           | SKIPPED                   | SKIPPED      | SKIPPED                      |
+-----------------------------+----------------+---------------------------+--------------+------------------------------+
| Ubuntu 22.04 (ARM)          | PASS           | SKIPPED                   | SKIPPED      | SKIPPED                      |
+-----------------------------+----------------+---------------------------+--------------+------------------------------+
| Ubuntu 24.04 (ARM)          | PASS           | SKIPPED                   | SKIPPED      | SKIPPED                      |
+-----------------------------+----------------+---------------------------+--------------+------------------------------+
| Ubuntu 20.04 ARM SVE        | SKIPPED        | SKIPPED                   | PASS         | SKIPPED                      |
+-----------------------------+----------------+---------------------------+--------------+------------------------------+


Fedora 40 (ARM)
	Kernel: Depends on container host
	Compiler: gcc 14.2.1 20240912 (Red Hat 14.2.1-3)

CentOS Stream 9 (ARM)
	Kernel: Depends on container host
	Compiler: gcc 11.5.0 20240719 (Red Hat 11.5.0-2)

Fedora 40 (ARM Clang)
	Kernel: Depends on container host
	Compiler: clang 18.1.8 (Fedora 18.1.8-1.fc40)

32-bit Ubuntu 22.04.4 (ARM)
	Kernel: 5.15.83+ aarch64
	Compiler: gcc (Ubuntu 11.4.0-1ubuntu1~22.04) 11.4.0

Ubuntu 20.04 (ARM)
	Kernel: Depends on container host
	Compiler: gcc (Ubuntu 9.4.0-1ubuntu1~20.04.2) 9.4.0

Debian 12 (arm)
	Kernel: Depends on container host
	Compiler: gcc (Debian 12.2.0-14) 12.2.0

Fedora 41 (ARM Clang)
	Kernel: Depends on container host
	Compiler: clang 19.1.5 (Fedora 19.1.5-1.fc41)

Fedora 41 (ARM)
	Kernel: Depends on container host
	Compiler: gcc 14.2.1 20240912 (Red Hat 14.2.1-3)

RHEL9 (ARM)
	Kernel: Depends on container host
	Compiler: gcc 11.5.0 20240719 (Red Hat 11.5.0-2)

CentOS Stream 10 (ARM)
	Kernel: Depends on container host
	Compiler: gcc 14.2.1 20241104 (Red Hat 14.2.1-6)

Ubuntu 22.04 (ARM)
	Kernel: Depends on container host
	Compiler: gcc (Ubuntu 11.4.0-1ubuntu1~22.04) 11.4.0

Ubuntu 24.04 (ARM)
	Kernel: Depends on container host
	Compiler: gcc (Ubuntu 13.3.0-6ubuntu2~24.04) 13.3.0

Ubuntu 20.04 ARM SVE
	Kernel: Depends on container host
	Compiler: gcc (Ubuntu 10.5.0-1ubuntu1~20.04) 10.5.0

To view detailed results, visit:
https://lab.dpdk.org/results/dashboard/patchsets/32959/

UNH-IOL DPDK Community Lab

To manage your email subscriptions, visit: 
https://lab.dpdk.org/results/dashboard/preferences/subscriptions/