From mboxrd@z Thu Jan  1 00:00:00 1970
Return-Path: <test-report-bounces@dpdk.org>
Received: from mails.dpdk.org (mails.dpdk.org [217.70.189.124])
	by inbox.dpdk.org (Postfix) with ESMTP id D612946539
	for <public@inbox.dpdk.org>; Wed,  9 Apr 2025 03:26:16 +0200 (CEST)
Received: from mails.dpdk.org (localhost [127.0.0.1])
	by mails.dpdk.org (Postfix) with ESMTP id ADAA3402DB;
	Wed,  9 Apr 2025 03:26:16 +0200 (CEST)
Received: from mail-pj1-f97.google.com (mail-pj1-f97.google.com
 [209.85.216.97]) by mails.dpdk.org (Postfix) with ESMTP id A74B740265
 for <test-report@dpdk.org>; Wed,  9 Apr 2025 03:26:15 +0200 (CEST)
Received: by mail-pj1-f97.google.com with SMTP id
 98e67ed59e1d1-303a66af07eso4827377a91.2
 for <test-report@dpdk.org>; Tue, 08 Apr 2025 18:26:15 -0700 (PDT)
DKIM-Signature: v=1; a=rsa-sha256; c=relaxed/relaxed;
 d=iol.unh.edu; s=unh-iol; t=1744161975; x=1744766775; darn=dpdk.org;
 h=references:in-reply-to:cc:to:from:subject:message-id:date:from:to
 :cc:subject:date:message-id:reply-to;
 bh=1qDi0zkFDSwu9O7rH0378GHT9rpUMk1KIGnij9Pc5pw=;
 b=if0lGXtE8Aj09mI/EHXq8x2ztfxeVwMM/2K2fKpn2vrkF2lPb5ampFvLqQPwywB+wc
 38bmBd7nBo7EH/jQzdo/cdsh1E3iYyk0RKhU0CToBDcy+mEGAeAxSaTGfy8UhPo3fpxY
 gFif339fJDyLkT1k2y653boosjZ3jO+Ms/uew=
X-Google-DKIM-Signature: v=1; a=rsa-sha256; c=relaxed/relaxed;
 d=1e100.net; s=20230601; t=1744161975; x=1744766775;
 h=references:in-reply-to:cc:to:from:subject:message-id:date
 :x-gm-message-state:from:to:cc:subject:date:message-id:reply-to;
 bh=1qDi0zkFDSwu9O7rH0378GHT9rpUMk1KIGnij9Pc5pw=;
 b=otdonDlE0gYiAcgP0TrhfQ/vb1DuhoVuto0cioyItmdnTcaktn7Qcq2KV32nsHUbUf
 7IaXZjgGJVQ5FJLeDjKMlBNZGEVFOWhR4yCKlR5PdnOm13pk/2a0XmZjLShSoKX9mOAX
 ovd3xiZSrDCLHnWjeNkKFatvDbQ40VU5cMzjoLBcgmK0cjo2K/j/5zxrbm+lGOASQdml
 oLnK03/nzkQz/yiySr5LvmtHX8JwoKan/7EQ53ravMlDj2OzE89aRNJZwObZtmqwv988
 T8XbpBdBjH7KuM1aKFX9y0TSQSZB1LZcERkYYtLqdwF4FJvuB6aFNzUdDFYuBkWo6MOs
 fy1A==
X-Gm-Message-State: AOJu0Yz9NlvuzVYA9OSwbF/iFfk8GNdboa5k+JPXvI+qm3BmfWpKz01P
 TgMkjZ4/rSjJUM3+ZKazTAA8t8INcmiMDc1lyqQ5/3ppEAIN9pQMhQ7gF0SzKlvSoYTmZ3+YLOf
 KKCUz8nhvAO60uoMixQ1hlzAQLwc/WpW8uJkY3NF0
X-Gm-Gg: ASbGncuroyJlMkN8PUQ/XYQLTm+n7UeAXDChs3IhhG5mivOfrdz5FWY2jPVfZ0j2oL9
 Xw0FQbcOtnNd0BkxCOqAmJhxCnZlDq02n35p6/y/8qHt2wWaTmqZXepPhfj1IFuSI6b3B8yPqek
 JfQ3SbzpzGYTR7jazYxP5wGRvEbb309sHrEu/kEuN9qWtfxrwg9DhhyaeuW0ibjhxMHboeG+31J
 ZMUaURx+GB4Yw7GonVjXwXby3CVt21hpAYHo+3/UjZtNBMy+4od3igiw9EMEMXhM35y6045IhX6
 NQ4EKKhdFXYWnF/F0cUpOUDUPde1HDz3ZUniI3FD
X-Google-Smtp-Source: AGHT+IHuPBzfiFu7EbBaZwhHy35y9ju4rTOJ4mUJ/xIhPoPK38rM6IMTset/FaVt8hu8YwNFPfBCqspZIXrq
X-Received: by 2002:a17:90b:3ccf:b0:2ff:784b:ffe with SMTP id
 98e67ed59e1d1-306dbb935aemr1619162a91.11.1744161974716; 
 Tue, 08 Apr 2025 18:26:14 -0700 (PDT)
Received: from postal.iol.unh.edu (postal.iol.unh.edu. [132.177.123.84])
 by smtp-relay.gmail.com with ESMTPS id
 98e67ed59e1d1-306dd1843easm65724a91.14.2025.04.08.18.26.14
 (version=TLS1_2 cipher=ECDHE-ECDSA-AES128-GCM-SHA256 bits=128/128);
 Tue, 08 Apr 2025 18:26:14 -0700 (PDT)
X-Relaying-Domain: iol.unh.edu
Date: Tue, 08 Apr 2025 18:26:14 -0700 (PDT)
Message-ID: <67f5ccb6.170a0220.33c794.154cSMTPIN_ADDED_MISSING@mx.google.com>
Received: from [172.17.0.4] (unknown [172.18.0.217])
 by postal.iol.unh.edu (Postfix) with ESMTP id A1B586052471;
 Tue,  8 Apr 2025 21:26:13 -0400 (EDT)
Subject: |SUCCESS| pw152810-152812 [PATCH] [3/3] net/nfp: correct RSS algorit
From: dpdklab@iol.unh.edu
To: Test Report <test-report@dpdk.org>
Cc: dpdk-test-reports@iol.unh.edu
In-Reply-To: <20250408060203.473733-4-chaoyong.he@corigine.com>
References: <20250408060203.473733-4-chaoyong.he@corigine.com>
Content-Type: text/plain
X-BeenThere: test-report@dpdk.org
X-Mailman-Version: 2.1.29
Precedence: list
List-Id: automatic DPDK test reports <test-report.dpdk.org>
List-Unsubscribe: <https://mails.dpdk.org/options/test-report>,
 <mailto:test-report-request@dpdk.org?subject=unsubscribe>
List-Archive: <http://mails.dpdk.org/archives/test-report/>
List-Post: <mailto:test-report@dpdk.org>
List-Help: <mailto:test-report-request@dpdk.org?subject=help>
List-Subscribe: <https://mails.dpdk.org/listinfo/test-report>,
 <mailto:test-report-request@dpdk.org?subject=subscribe>
Errors-To: test-report-bounces@dpdk.org

Test-Label: iol-abi-testing
Test-Status: SUCCESS
http://dpdk.org/patch/152812

_Testing PASS_

Submitter: Chaoyong He <chaoyong.he@corigine.com>
Date: Tuesday, April 08 2025 06:02:03 
DPDK git baseline: Repo:dpdk
  Branch: master
  CommitID:8ee74a69abcf48563f05adeafecd298bb03477a8

152810-152812 --> testing pass

Upstream job id: Generic-DPDK-Compile-ABI#122707

Test environment and result as below:

+-------------------+----------+
|    Environment    | abi_test |
+===================+==========+
| CentOS Stream 9   | PASS     |
+-------------------+----------+
| Fedora 40 (Clang) | PASS     |
+-------------------+----------+
| CentOS Stream 10  | PASS     |
+-------------------+----------+
| Debian 12         | PASS     |
+-------------------+----------+
| Fedora 41 (Clang) | PASS     |
+-------------------+----------+
| Fedora 41         | PASS     |
+-------------------+----------+
| RHEL8             | PASS     |
+-------------------+----------+
| openSUSE Leap 15  | PASS     |
+-------------------+----------+
| RHEL9             | PASS     |
+-------------------+----------+
| Ubuntu 22.04      | PASS     |
+-------------------+----------+
| Ubuntu 24.04      | PASS     |
+-------------------+----------+
| Fedora 40         | PASS     |
+-------------------+----------+


CentOS Stream 9
	Kernel: Depends on container host
	Compiler: gcc 11.5.0 20240719 (Red Hat 11.5.0-2)

Fedora 40 (Clang)
	Kernel: Depends on container host
	Compiler: clang 18.1.8 (Fedora 18.1.8-1.fc40)

CentOS Stream 10
	Kernel: Depends on container host
	Compiler: gcc 14.2.1 20241104 (Red Hat 14.2.1-6)

Debian 12
	Kernel: Depends on container host
	Compiler: gcc (Debian 12.2.0-14) 12.2.0

Fedora 41 (Clang)
	Kernel: Depends on container host
	Compiler: clang 19.1.5 (Fedora 19.1.5-1.fc41)

Fedora 41
	Kernel: Depends on container host
	Compiler: gcc 14.2.1 20240912 (Red Hat 14.2.1-3)

RHEL8
	Kernel: Depends on container host
	Compiler: gcc 8.5.0 20210514 (Red Hat 8.5.0-22)

openSUSE Leap 15
	Kernel: Depends on container host
	Compiler: gcc (SUSE Linux) 7.5.0

RHEL9
	Kernel: Depends on container host
	Compiler: gcc 11.5.0 20240719 (Red Hat 11.5.0-2)

Ubuntu 22.04
	Kernel: Depends on container host
	Compiler: gcc (Ubuntu 11.4.0-1ubuntu1~22.04) 11.4.0

Ubuntu 24.04
	Kernel: Depends on container host
	Compiler: gcc (Ubuntu 13.3.0-6ubuntu2~24.04) 13.3.0

Fedora 40
	Kernel: Depends on container host
	Compiler: gcc 14.2.1 20240912 (Red Hat 14.2.1-3)

To view detailed results, visit:
https://lab.dpdk.org/results/dashboard/patchsets/32959/

UNH-IOL DPDK Community Lab

To manage your email subscriptions, visit: 
https://lab.dpdk.org/results/dashboard/preferences/subscriptions/