From mboxrd@z Thu Jan 1 00:00:00 1970 Return-Path: Received: from mails.dpdk.org (mails.dpdk.org [217.70.189.124]) by inbox.dpdk.org (Postfix) with ESMTP id 7654C4653A for ; Wed, 9 Apr 2025 04:07:18 +0200 (CEST) Received: from mails.dpdk.org (localhost [127.0.0.1]) by mails.dpdk.org (Postfix) with ESMTP id 6B84A402D7; Wed, 9 Apr 2025 04:07:18 +0200 (CEST) Received: from mail-pf1-f225.google.com (mail-pf1-f225.google.com [209.85.210.225]) by mails.dpdk.org (Postfix) with ESMTP id 5121740265 for ; Wed, 9 Apr 2025 04:07:17 +0200 (CEST) Received: by mail-pf1-f225.google.com with SMTP id d2e1a72fcca58-736c3e7b390so5901781b3a.2 for ; Tue, 08 Apr 2025 19:07:17 -0700 (PDT) DKIM-Signature: v=1; a=rsa-sha256; c=relaxed/relaxed; d=iol.unh.edu; s=unh-iol; t=1744164436; x=1744769236; darn=dpdk.org; h=references:in-reply-to:cc:to:from:subject:message-id:date:from:to :cc:subject:date:message-id:reply-to; bh=LsIK6HuWjufx8p6wEPd4/I5TkYo8OJcpC+vtHXouwAg=; b=N1Ym0dyDx9gr2lb8baxmtKA4nnytdwTzorAyf2sGQczNrsxq+wDYuTMsxz5VpWLolQ p7mXFM83Sj/vaNw5vjgSPBGQ8257RmoHpgkJeWY5AaxZh9xF+tOz1C2P9HfyQU3I8/AL 1hFosGlLKNZhLsEZFSxdE92XIAwvyef6K8r6w= X-Google-DKIM-Signature: v=1; a=rsa-sha256; c=relaxed/relaxed; d=1e100.net; s=20230601; t=1744164436; x=1744769236; h=references:in-reply-to:cc:to:from:subject:message-id:date :x-gm-message-state:from:to:cc:subject:date:message-id:reply-to; bh=LsIK6HuWjufx8p6wEPd4/I5TkYo8OJcpC+vtHXouwAg=; b=KmMJRTw55dHtTu/AkVF14C+w6s8GA77sgoDmkFJQeOXdZYdFuJ29EoLZifssBo+tQI 3o4C60865prErL0LUncQT4+h5Il1PLcjIcikvtgzGQPdzYA4s9rV15D0s0ZHnHOqpbLC u3WX3o9oB9ylnSWmsnrDjgD5Jlrv7zkMXbHxD4zwdZLiaBQb7r/X/3rbTekJjXQ3oF7X vM4/JYmcXBN75ZuGp+vhIfDzcLu8J2LZ6nJYnO4LAyTuSdFVeTgyG2uXdBHWpIUewpBS 1Ox4y0vrg3CJsZtYFh/QcRJQrw37ErEl+lr5XT5BACgeGjlDdWl/NwfrIvjYfvefgfFS MipA== X-Gm-Message-State: AOJu0Yxh8f6FuTObeubvqJTKXY5F08FD1XBKrjvbBgybbRIkMCptRxXr ECOpO9E5Xgl+lw1/9UgP0pSiyn6YKn+nbyILgbN8BjJo8rpIPOoPUVXWgvLWadci6qAZdyEj+ha 7bd/AKK0UvLPHNlqzSSc0X9BNidVWwwsYz3YdQT48VM7sRfN0gXawcMa3 X-Gm-Gg: ASbGncv/aEOM67DTFs/yvgMoBEXeC8nA8mH86+qZkferwG1VAZHPhaBWPBlHTc+hELT rAbKRex2CbFxlA0hVq7cwD2b+mnY2Ocuq7ksYHD7289cXBPu8eKncZGp7bRZ1s+8cTYn22/3d39 SdeELU1AzJg04P4jUnfdGngIPn7db3EJSkh7QbGVDfmeNVWvqbB443SbV/LBBxnoPWbdAPQlJ5j rlugvxblj8pUzJfLppxLtBByELib+d7YDwwB3WmHQnCAE5B0GeH5J6scLgq8nHnRNOmMxD7sHxz a09BXsaYoYDV3p6xoFAhFn5GW/ZkyvsAt9fdxakrZqhhQixLEXPu X-Google-Smtp-Source: AGHT+IHPdl5CPvnNkyt2Ey2QvdbB6p3ZvEcHKqhYxMKVmQygwT4HP63J8dw+WhTuzNv/axS04LP/Y/LYNR63 X-Received: by 2002:a05:6a21:339d:b0:1f5:58be:b1e9 with SMTP id adf61e73a8af0-2015915563emr1508174637.4.1744164436300; Tue, 08 Apr 2025 19:07:16 -0700 (PDT) Received: from postal.iol.unh.edu (postal.iol.unh.edu. [2606:4100:3880:1234::84]) by smtp-relay.gmail.com with ESMTPS id 41be03b00d2f7-b02a0de7e6bsm20520a12.11.2025.04.08.19.07.16 (version=TLS1_2 cipher=ECDHE-ECDSA-AES128-GCM-SHA256 bits=128/128); Tue, 08 Apr 2025 19:07:16 -0700 (PDT) X-Relaying-Domain: iol.unh.edu Date: Tue, 08 Apr 2025 19:07:16 -0700 (PDT) Message-ID: <67f5d654.630a0220.dcdaf.07bfSMTPIN_ADDED_MISSING@mx.google.com> Received: from [172.21.0.6] (unknown [172.18.0.240]) by postal.iol.unh.edu (Postfix) with ESMTP id 7B4F66052471; Tue, 8 Apr 2025 22:07:15 -0400 (EDT) Subject: |SUCCESS| pw152838 [PATCH] app/testpmd: revert auto attach/detach From: dpdklab@iol.unh.edu To: Test Report Cc: dpdk-test-reports@iol.unh.edu In-Reply-To: <20250408202436.158151-1-stephen@networkplumber.org> References: <20250408202436.158151-1-stephen@networkplumber.org> Content-Type: text/plain X-BeenThere: test-report@dpdk.org X-Mailman-Version: 2.1.29 Precedence: list List-Id: automatic DPDK test reports List-Unsubscribe: , List-Archive: List-Post: List-Help: List-Subscribe: , Errors-To: test-report-bounces@dpdk.org Test-Label: iol-unit-amd64-testing Test-Status: SUCCESS http://dpdk.org/patch/152838 _Testing PASS_ Submitter: Stephen Hemminger Date: Tuesday, April 08 2025 20:24:36 DPDK git baseline: Repo:dpdk Branch: master CommitID:0b2f016cd76d4fb382eea54b8a6aaf9474586fbc 152838 --> testing pass Upstream job id: Generic-VM-Unit-Test-DPDK#27867 Test environment and result as below: +---------------------+----------------+ | Environment | dpdk_unit_test | +=====================+================+ | CentOS Stream 10 | PASS | +---------------------+----------------+ | CentOS Stream 9 | PASS | +---------------------+----------------+ | Fedora 41 | PASS | +---------------------+----------------+ | Debian 12 | PASS | +---------------------+----------------+ | Fedora 40 (Clang) | PASS | +---------------------+----------------+ | Fedora 40 | PASS | +---------------------+----------------+ | Ubuntu 20.04 | PASS | +---------------------+----------------+ | RHEL8 | PASS | +---------------------+----------------+ | Fedora 41 (Clang) | PASS | +---------------------+----------------+ | Ubuntu 22.04 | PASS | +---------------------+----------------+ | RHEL9 | PASS | +---------------------+----------------+ | Ubuntu 24.04 | PASS | +---------------------+----------------+ | Windows Server 2022 | PASS | +---------------------+----------------+ CentOS Stream 10 Kernel: Depends on container host Compiler: gcc 14.2.1 20241104 (Red Hat 14.2.1-6) CentOS Stream 9 Kernel: Depends on container host Compiler: gcc 11.5.0 20240719 (Red Hat 11.5.0-2) Fedora 41 Kernel: Depends on container host Compiler: gcc 14.2.1 20240912 (Red Hat 14.2.1-3) Debian 12 Kernel: Depends on container host Compiler: gcc (Debian 12.2.0-14) 12.2.0 Fedora 40 (Clang) Kernel: Depends on container host Compiler: clang 18.1.8 (Fedora 18.1.8-1.fc40) Fedora 40 Kernel: Depends on container host Compiler: gcc 14.2.1 20240912 (Red Hat 14.2.1-3) Ubuntu 20.04 Kernel: Depends on container host Compiler: gcc (Ubuntu 9.4.0-1ubuntu1~20.04.2) 9.4.0 RHEL8 Kernel: Depends on container host Compiler: gcc 8.5.0 20210514 (Red Hat 8.5.0-22) Fedora 41 (Clang) Kernel: Depends on container host Compiler: clang 19.1.5 (Fedora 19.1.5-1.fc41) Ubuntu 22.04 Kernel: Depends on container host Compiler: gcc (Ubuntu 11.4.0-1ubuntu1~22.04) 11.4.0 RHEL9 Kernel: Depends on container host Compiler: gcc 11.5.0 20240719 (Red Hat 11.5.0-2) Ubuntu 24.04 Kernel: Depends on container host Compiler: gcc (Ubuntu 13.3.0-6ubuntu2~24.04) 13.3.0 Windows Server 2022 Kernel: 10.0.20348.2031 Compiler: clang 15.0.7, gcc 14.1.0 (MinGW), and MSVC VS 19.39.33521 To view detailed results, visit: https://lab.dpdk.org/results/dashboard/patchsets/32972/ UNH-IOL DPDK Community Lab To manage your email subscriptions, visit: https://lab.dpdk.org/results/dashboard/preferences/subscriptions/