From mboxrd@z Thu Jan 1 00:00:00 1970 Return-Path: Received: from mails.dpdk.org (mails.dpdk.org [217.70.189.124]) by inbox.dpdk.org (Postfix) with ESMTP id 7F6C74653A for ; Wed, 9 Apr 2025 05:20:15 +0200 (CEST) Received: from mails.dpdk.org (localhost [127.0.0.1]) by mails.dpdk.org (Postfix) with ESMTP id 552B5402D1; Wed, 9 Apr 2025 05:20:15 +0200 (CEST) Received: from mail-il1-f226.google.com (mail-il1-f226.google.com [209.85.166.226]) by mails.dpdk.org (Postfix) with ESMTP id 44FDB40265 for ; Wed, 9 Apr 2025 05:20:14 +0200 (CEST) Received: by mail-il1-f226.google.com with SMTP id e9e14a558f8ab-3d57143ee39so49658375ab.1 for ; Tue, 08 Apr 2025 20:20:14 -0700 (PDT) DKIM-Signature: v=1; a=rsa-sha256; c=relaxed/relaxed; d=iol.unh.edu; s=unh-iol; t=1744168813; x=1744773613; darn=dpdk.org; h=references:in-reply-to:cc:to:from:subject:message-id:date:from:to :cc:subject:date:message-id:reply-to; bh=crRXoR/69V+IUDYlJeAlvoHt4vQWyRYgxk8Av3cfGxY=; b=dx384ZJMoMsBon3iBI63ftB7oJRhibV0vLnjofDqa5Ek1FQ3FEU2Kjakd8clz1E7rX s9xRENJUH5qr8Ux1XowKTvQ/0k3zMqztxx2M8brYuLeepQMwYWOePkLkI8W9986bNgM1 fKWA8OSODIcANEXwkAmL1ZHi+C86sIyA3fcPo= X-Google-DKIM-Signature: v=1; a=rsa-sha256; c=relaxed/relaxed; d=1e100.net; s=20230601; t=1744168813; x=1744773613; h=references:in-reply-to:cc:to:from:subject:message-id:date :x-gm-message-state:from:to:cc:subject:date:message-id:reply-to; bh=crRXoR/69V+IUDYlJeAlvoHt4vQWyRYgxk8Av3cfGxY=; b=oO+zHCUWnzOtbkDlOhRdh3yhwDhQjhO60Sv3zAG75kTCHRTvfpeq5aEWt5Aucuxen5 F1mITKEgeuNoMqmOXi5zR0hjkitc+2a2tVAdmKHU3//Kk0HcU4LLFTdmlw7k+Dhf4DBY 6X8Sgr45iYuR+3fNdEeVP1FI7bGCu9DY2pQGJKtpmDdmxMeBF7YxhMNnMmomL/NQKrRo 3ai6bcZ7LRDqGPsukcwpwTMcqE2EzZi8WV/EORjR532DowBsltDQaRna/ulw1LySp/Xt GCRseUD5d4KAmBzF2TqDBVavMwnwQwHuM7iFqON18V+KD/cmrw+807GJQxi4q+/GOhoR IChQ== X-Gm-Message-State: AOJu0YxyXUXDtIb/scJmyGELyVGq6nfvhUB/lNUphZ6AlcSrxE6DA0eB impc8diJmbZNz9jQYSGHglPMtYMDB2ZiS6673AyHRP4b1PARUkkZC3MoLWluduiL2iAp6aBanes sCLv2oFvxRBlc/lkM1wnvN9pp4GdTa46sex5raJ6XjWq/kCjTTyRuz9/L X-Gm-Gg: ASbGnctO2D1tzmA/PQFUxaLG7h1zGvZX7l10qa8SQ86XJtW70alCVLfCw/DO1KRYgXz 0AUz0m5CgkRRzFbb8BACZC5pU3DBX8jDdK3PGk8TzPCpvBOBYZmqLbGMD/xiiqIfDfQ6RPK/D2b pFtdmxh/CYo75a0vSFLKN8R1WpQRSC81sGv1uElSsU+aZw2b0mKFROUhmal05SoRzS581n6c9vW 6geqnwbXqOcbrDr4SkybiiLRTPErU9SWT7DIz09reyypgGme5ADbfY5MZbSn3RaMI+ybYbOJ78i l5ds02k/L9CYrsHhEBWlUwlIeWHlJ2n1JhJUCYQ0IaFxKEedZfLF X-Google-Smtp-Source: AGHT+IGPPyXnWWt0w1h+HL3+He/r8Uenlov0RexSSxlDtYK5t6dy0DCcxxV/0AgyjODmFVz9LGbyo8S2QBXI X-Received: by 2002:a05:6e02:3004:b0:3d3:fdb8:1796 with SMTP id e9e14a558f8ab-3d7b45fd15emr9459965ab.2.1744168813488; Tue, 08 Apr 2025 20:20:13 -0700 (PDT) Received: from postal.iol.unh.edu (postal.iol.unh.edu. [2606:4100:3880:1234::84]) by smtp-relay.gmail.com with ESMTPS id 8926c6da1cb9f-4f505d41cf3sm31771173.39.2025.04.08.20.20.13 (version=TLS1_2 cipher=ECDHE-ECDSA-AES128-GCM-SHA256 bits=128/128); Tue, 08 Apr 2025 20:20:13 -0700 (PDT) X-Relaying-Domain: iol.unh.edu Date: Tue, 08 Apr 2025 20:20:13 -0700 (PDT) Message-ID: <67f5e76d.050a0220.205c9.08bfSMTPIN_ADDED_MISSING@mx.google.com> Received: from [172.21.0.5] (unknown [172.18.0.240]) by postal.iol.unh.edu (Postfix) with ESMTP id F0A566052471; Tue, 8 Apr 2025 23:20:12 -0400 (EDT) Subject: |SUCCESS| pw152810-152812 [PATCH] [3/3] net/nfp: correct RSS algorit From: dpdklab@iol.unh.edu To: Test Report Cc: dpdk-test-reports@iol.unh.edu In-Reply-To: <20250408060203.473733-4-chaoyong.he@corigine.com> References: <20250408060203.473733-4-chaoyong.he@corigine.com> Content-Type: text/plain X-BeenThere: test-report@dpdk.org X-Mailman-Version: 2.1.29 Precedence: list List-Id: automatic DPDK test reports List-Unsubscribe: , List-Archive: List-Post: List-Help: List-Subscribe: , Errors-To: test-report-bounces@dpdk.org Test-Label: iol-unit-amd64-testing Test-Status: SUCCESS http://dpdk.org/patch/152812 _Testing PASS_ Submitter: Chaoyong He Date: Tuesday, April 08 2025 06:02:03 DPDK git baseline: Repo:dpdk Branch: master CommitID:8ee74a69abcf48563f05adeafecd298bb03477a8 152810-152812 --> testing pass Upstream job id: Generic-VM-Unit-Test-DPDK#27869 Test environment and result as below: +---------------------+----------------+ | Environment | dpdk_unit_test | +=====================+================+ | Fedora 40 | PASS | +---------------------+----------------+ | CentOS Stream 9 | PASS | +---------------------+----------------+ | CentOS Stream 10 | PASS | +---------------------+----------------+ | Debian 12 | PASS | +---------------------+----------------+ | Fedora 40 (Clang) | PASS | +---------------------+----------------+ | Ubuntu 20.04 | PASS | +---------------------+----------------+ | RHEL9 | PASS | +---------------------+----------------+ | RHEL8 | PASS | +---------------------+----------------+ | Ubuntu 22.04 | PASS | +---------------------+----------------+ | Ubuntu 24.04 | PASS | +---------------------+----------------+ | Fedora 41 (Clang) | PASS | +---------------------+----------------+ | Fedora 41 | PASS | +---------------------+----------------+ | Windows Server 2022 | PASS | +---------------------+----------------+ Fedora 40 Kernel: Depends on container host Compiler: gcc 14.2.1 20240912 (Red Hat 14.2.1-3) CentOS Stream 9 Kernel: Depends on container host Compiler: gcc 11.5.0 20240719 (Red Hat 11.5.0-2) CentOS Stream 10 Kernel: Depends on container host Compiler: gcc 14.2.1 20241104 (Red Hat 14.2.1-6) Debian 12 Kernel: Depends on container host Compiler: gcc (Debian 12.2.0-14) 12.2.0 Fedora 40 (Clang) Kernel: Depends on container host Compiler: clang 18.1.8 (Fedora 18.1.8-1.fc40) Ubuntu 20.04 Kernel: Depends on container host Compiler: gcc (Ubuntu 9.4.0-1ubuntu1~20.04.2) 9.4.0 RHEL9 Kernel: Depends on container host Compiler: gcc 11.5.0 20240719 (Red Hat 11.5.0-2) RHEL8 Kernel: Depends on container host Compiler: gcc 8.5.0 20210514 (Red Hat 8.5.0-22) Ubuntu 22.04 Kernel: Depends on container host Compiler: gcc (Ubuntu 11.4.0-1ubuntu1~22.04) 11.4.0 Ubuntu 24.04 Kernel: Depends on container host Compiler: gcc (Ubuntu 13.3.0-6ubuntu2~24.04) 13.3.0 Fedora 41 (Clang) Kernel: Depends on container host Compiler: clang 19.1.5 (Fedora 19.1.5-1.fc41) Fedora 41 Kernel: Depends on container host Compiler: gcc 14.2.1 20240912 (Red Hat 14.2.1-3) Windows Server 2022 Kernel: 10.0.20348.2031 Compiler: clang 15.0.7, gcc 14.1.0 (MinGW), and MSVC VS 19.39.33521 To view detailed results, visit: https://lab.dpdk.org/results/dashboard/patchsets/32959/ UNH-IOL DPDK Community Lab To manage your email subscriptions, visit: https://lab.dpdk.org/results/dashboard/preferences/subscriptions/