From mboxrd@z Thu Jan 1 00:00:00 1970 Return-Path: Received: from mails.dpdk.org (mails.dpdk.org [217.70.189.124]) by inbox.dpdk.org (Postfix) with ESMTP id 0CEEE4653A for ; Wed, 9 Apr 2025 05:44:23 +0200 (CEST) Received: from mails.dpdk.org (localhost [127.0.0.1]) by mails.dpdk.org (Postfix) with ESMTP id 07E82402D1; Wed, 9 Apr 2025 05:44:23 +0200 (CEST) Received: from mail-ot1-f97.google.com (mail-ot1-f97.google.com [209.85.210.97]) by mails.dpdk.org (Postfix) with ESMTP id 3C92940265 for ; Wed, 9 Apr 2025 05:44:21 +0200 (CEST) Received: by mail-ot1-f97.google.com with SMTP id 46e09a7af769-72bc3987a05so194225a34.1 for ; Tue, 08 Apr 2025 20:44:21 -0700 (PDT) DKIM-Signature: v=1; a=rsa-sha256; c=relaxed/relaxed; d=iol.unh.edu; s=unh-iol; t=1744170260; x=1744775060; darn=dpdk.org; h=references:in-reply-to:cc:to:from:subject:message-id:date:from:to :cc:subject:date:message-id:reply-to; bh=l3eoJJh4w9LmC1ek6m4VIFBMOgOTih2j3F+iv1g/zac=; b=CaaDixBlOV2ZV/8pV0nhepzQEJRi3bYf/Y+9t9WqHM9LA737Bon9TiM06fmfHZtSZM r0xND4H5B9ys4MSzOeB88w8iIs8UZ/suHKcHUR6hZgc1B2fgO/MDoXR5VIdYzCmtnfzV KYFZYnhXb/4XKyPcXZaS/WkXiLLPBukjaKZr8= X-Google-DKIM-Signature: v=1; a=rsa-sha256; c=relaxed/relaxed; d=1e100.net; s=20230601; t=1744170260; x=1744775060; h=references:in-reply-to:cc:to:from:subject:message-id:date :x-gm-message-state:from:to:cc:subject:date:message-id:reply-to; bh=l3eoJJh4w9LmC1ek6m4VIFBMOgOTih2j3F+iv1g/zac=; b=X3mKqTNE6uaO0QeIKuIDktZ8HYB+YN64MA/bPXaSd+GB+h2zyPfvJXlGoLYwgTW66F bsFGj/+KyeugnI/uhBpshqvVFefc1h0C6/ew6KSUkg3G+y2Q3nnoNssLzv6egS7kAlpm EeRhjHa9dg1MKwqpCYJxkcykXdosAvVE+2bqYvasv1W4RJFfr7pb86sTlfsJac/g1stv Y+cczOUK7wIUl+spiBrv2PYs8RQjEZn5eRZe+WsO8iwpB902P3sRNXyDZP835rXDUigr 0kfCw1by7uIZomXz4ji5W1p0uAcXMK1Yc79yhrJ/kSonM2O6CXRT698rVI6qn9GwvmLE cqWg== X-Gm-Message-State: AOJu0YwgUHPzCpm75wKmbI074F62dmXOwYN4wlXyp671Dbc0msyt259n S46dVVO6i5MLXwAwgXLE0TxPt3KxtD8+XRA7/ztce342Ywb9/MOnbia0ZPc9S2h+HTgpEoyA0/s VsXPbMr5QKwOKhmz+7Sk+NTxlbBQr4UCw8D8O37T4lTAxhLgbp0vvBSRV X-Gm-Gg: ASbGncsI/XzGZAZOqOFAjZHjPnojZ8T3QyVK3WY/YAF4uM3guLqgs1StlrRNxyj03q9 8S+jWC3TORn3b4J+DcpCAfmDvnBM8+YdIkaE4NSIbZa2bwGbb+dqa/Dl1MACboFyq9Hu2zhkXXm M+A0NNxkBSq9BgMIbyiBlSX98zMWR/0JQ8GkROVwyw1KdDU2KalxNOc8P7b0xhXguhUhw+u07rP htyAgZ7l4tM9rRE/eRHsSvRaipwRHxDODAT1Td7P4IJxy5OySzpWA+znvrBdBb8eGhTVQbu1kba +2x0xhXeWy5Ihc4iFCLQcfysOUauJRDSxMvuPJ1Wn0ADV6yudESY X-Google-Smtp-Source: AGHT+IHIFSnxmaWyyl5R3vskmoKQx53TRNuyks13yB+zZ1WKXqvyufGuxqqHdDJuNzJwayZt59pXYUWHmtZO X-Received: by 2002:a05:6830:6605:b0:72c:4023:aa19 with SMTP id 46e09a7af769-72e64aafc86mr4427438a34.7.1744170260383; Tue, 08 Apr 2025 20:44:20 -0700 (PDT) Received: from postal.iol.unh.edu (postal.iol.unh.edu. [2606:4100:3880:1234::84]) by smtp-relay.gmail.com with ESMTPS id 586e51a60fabf-2d0969c2714sm49105fac.17.2025.04.08.20.44.20 (version=TLS1_2 cipher=ECDHE-ECDSA-AES128-GCM-SHA256 bits=128/128); Tue, 08 Apr 2025 20:44:20 -0700 (PDT) X-Relaying-Domain: iol.unh.edu Date: Tue, 08 Apr 2025 20:44:20 -0700 (PDT) Message-ID: <67f5ed14.050a0220.5e8f2.0d13SMTPIN_ADDED_MISSING@mx.google.com> Received: from [172.21.0.5] (unknown [172.18.0.240]) by postal.iol.unh.edu (Postfix) with ESMTP id D7EF66052471; Tue, 8 Apr 2025 23:44:19 -0400 (EDT) Subject: |SUCCESS| pw152810-152812 [PATCH] [3/3] net/nfp: correct RSS algorit From: dpdklab@iol.unh.edu To: Test Report Cc: dpdk-test-reports@iol.unh.edu In-Reply-To: <20250408060203.473733-4-chaoyong.he@corigine.com> References: <20250408060203.473733-4-chaoyong.he@corigine.com> Content-Type: text/plain X-BeenThere: test-report@dpdk.org X-Mailman-Version: 2.1.29 Precedence: list List-Id: automatic DPDK test reports List-Unsubscribe: , List-Archive: List-Post: List-Help: List-Subscribe: , Errors-To: test-report-bounces@dpdk.org Test-Label: iol-unit-amd64-testing Test-Status: SUCCESS http://dpdk.org/patch/152812 _Testing PASS_ Submitter: Chaoyong He Date: Tuesday, April 08 2025 06:02:03 DPDK git baseline: Repo:dpdk Branch: master CommitID:8ee74a69abcf48563f05adeafecd298bb03477a8 152810-152812 --> testing pass Upstream job id: Generic-VM-Unit-Test-DPDK#27870 Test environment and result as below: +---------------------+----------------+ | Environment | dpdk_unit_test | +=====================+================+ | Fedora 40 | PASS | +---------------------+----------------+ | CentOS Stream 9 | PASS | +---------------------+----------------+ | CentOS Stream 10 | PASS | +---------------------+----------------+ | Debian 12 | PASS | +---------------------+----------------+ | Fedora 40 (Clang) | PASS | +---------------------+----------------+ | Ubuntu 20.04 | PASS | +---------------------+----------------+ | RHEL9 | PASS | +---------------------+----------------+ | RHEL8 | PASS | +---------------------+----------------+ | Ubuntu 22.04 | PASS | +---------------------+----------------+ | Ubuntu 24.04 | PASS | +---------------------+----------------+ | Fedora 41 (Clang) | PASS | +---------------------+----------------+ | Fedora 41 | PASS | +---------------------+----------------+ | Windows Server 2022 | PASS | +---------------------+----------------+ Fedora 40 Kernel: Depends on container host Compiler: gcc 14.2.1 20240912 (Red Hat 14.2.1-3) CentOS Stream 9 Kernel: Depends on container host Compiler: gcc 11.5.0 20240719 (Red Hat 11.5.0-2) CentOS Stream 10 Kernel: Depends on container host Compiler: gcc 14.2.1 20241104 (Red Hat 14.2.1-6) Debian 12 Kernel: Depends on container host Compiler: gcc (Debian 12.2.0-14) 12.2.0 Fedora 40 (Clang) Kernel: Depends on container host Compiler: clang 18.1.8 (Fedora 18.1.8-1.fc40) Ubuntu 20.04 Kernel: Depends on container host Compiler: gcc (Ubuntu 9.4.0-1ubuntu1~20.04.2) 9.4.0 RHEL9 Kernel: Depends on container host Compiler: gcc 11.5.0 20240719 (Red Hat 11.5.0-2) RHEL8 Kernel: Depends on container host Compiler: gcc 8.5.0 20210514 (Red Hat 8.5.0-22) Ubuntu 22.04 Kernel: Depends on container host Compiler: gcc (Ubuntu 11.4.0-1ubuntu1~22.04) 11.4.0 Ubuntu 24.04 Kernel: Depends on container host Compiler: gcc (Ubuntu 13.3.0-6ubuntu2~24.04) 13.3.0 Fedora 41 (Clang) Kernel: Depends on container host Compiler: clang 19.1.5 (Fedora 19.1.5-1.fc41) Fedora 41 Kernel: Depends on container host Compiler: gcc 14.2.1 20240912 (Red Hat 14.2.1-3) Windows Server 2022 Kernel: 10.0.20348.2031 Compiler: clang 15.0.7, gcc 14.1.0 (MinGW), and MSVC VS 19.39.33521 To view detailed results, visit: https://lab.dpdk.org/results/dashboard/patchsets/32959/ UNH-IOL DPDK Community Lab To manage your email subscriptions, visit: https://lab.dpdk.org/results/dashboard/preferences/subscriptions/