From mboxrd@z Thu Jan 1 00:00:00 1970 Return-Path: Received: from mails.dpdk.org (mails.dpdk.org [217.70.189.124]) by inbox.dpdk.org (Postfix) with ESMTP id 52F634653B for ; Wed, 9 Apr 2025 06:31:08 +0200 (CEST) Received: from mails.dpdk.org (localhost [127.0.0.1]) by mails.dpdk.org (Postfix) with ESMTP id 4DD7240430; Wed, 9 Apr 2025 06:31:08 +0200 (CEST) Received: from mail-il1-f226.google.com (mail-il1-f226.google.com [209.85.166.226]) by mails.dpdk.org (Postfix) with ESMTP id 92ED0402D7 for ; Wed, 9 Apr 2025 06:31:06 +0200 (CEST) Received: by mail-il1-f226.google.com with SMTP id e9e14a558f8ab-3d442a77a03so18022385ab.1 for ; Tue, 08 Apr 2025 21:31:06 -0700 (PDT) DKIM-Signature: v=1; a=rsa-sha256; c=relaxed/relaxed; d=iol.unh.edu; s=unh-iol; t=1744173066; x=1744777866; darn=dpdk.org; h=references:in-reply-to:cc:to:from:subject:message-id:date:from:to :cc:subject:date:message-id:reply-to; bh=S2CyZy/gpxzTd0V7oqjQ2b7cacq0JG+yECmlYjVkw4o=; b=IfmQbgKUAhxsRkG4wTIDfjiPoXLq98MfKbbwVsm0McXetrFLfQ8Ft+sREpF+FxXBUH UeX9FHlfWinVU4lL5oOsxQLoZo0hgH1cKhGPqhyqew4lUEpT5XTIZYUGmY31iUstKlZB KahZLu0undZhrsIuDqpajSbuu3YbXZPBvQeWs= X-Google-DKIM-Signature: v=1; a=rsa-sha256; c=relaxed/relaxed; d=1e100.net; s=20230601; t=1744173066; x=1744777866; h=references:in-reply-to:cc:to:from:subject:message-id:date :x-gm-message-state:from:to:cc:subject:date:message-id:reply-to; bh=S2CyZy/gpxzTd0V7oqjQ2b7cacq0JG+yECmlYjVkw4o=; b=Z5pZknvQvzvdGaMtVAA9TswKgzlDZ6f5w6XFxL3YPa7hMq0HwFLR7o3jXmIVcKTdew FT2JZ4vD4uBiIFmfzscEfQ5S78oACN3hIjGqej6bkiZ9GgZCHDz8HtX+PRCVkpvsUeOA Ho6DOQSobZ7FvWOOblW3oYxWfUDjdwtK6vVDoDG1/isAmaaaUsEKfKjUscImg8h2YwM4 WjCZ8K2JczIM8eGJ6gB1CQ9tlIP43H+nZ8zfaES/GpkJJyOPUYMuckAbVsE2eCv+v7a4 YkfodU1yXMG/tz6TkSd24ckEOahgti8YD5jrIFacrkX998yrDxV8LWq8d6G2+hfLuy4Y e1IA== X-Gm-Message-State: AOJu0Yw67KP6salvkgUmudkJzUSmj0qTjpI209/ILiYW0cd0xOLkjs7D OjiHa5F7dUOnvGYTq5WyGvf5NCbr1sXhomdT4hV5ll6cK0+jhPRGDBRY71b1/CY9w10shWuaKm/ HJVfVhmkQw1MbZdhvKPePQbGAjEatP54HtP8mhkwo X-Gm-Gg: ASbGncuP9JtgJkHYNI0KBISHDgBhfGrFdE3nuNqdzCIjQ+tDe2/bMCxoIZ5V8mTpmGI ppBnttA2bTxPTsFfBgbzgMftEz59cdanHFjW+S54IeHaln9vld1GGQkFz6545kzsjbZ6foaH4kp k/g5iL6NSppqf+s/wSHPx4Fcz4/tjqX2BWrHA1Axl5TYOCS8cMtXsM5pTT5H+fvyo0+q2drM7Qg M1CR6W+08Ea5dxLQ0CmUsxMQNGiVl7cr/wi6ehx5u2SivHxX5dgNLbSUD0yAVMTHfbctb8vxZxA /E9973C7RYKVcyAvQaO4+6RCai88201K2GYL55DW X-Google-Smtp-Source: AGHT+IEh4Rl4N3EOBLNJA3GcT9rYa4Xd9Givf4Hws8md5RGkwn3jKzNnK1ZLOkWtgdxCB/6nudd3GMy6MQIn X-Received: by 2002:a05:6e02:17c9:b0:3d5:890b:8db with SMTP id e9e14a558f8ab-3d776c9d0d0mr15659085ab.8.1744173065921; Tue, 08 Apr 2025 21:31:05 -0700 (PDT) Received: from postal.iol.unh.edu (postal.iol.unh.edu. [132.177.123.84]) by smtp-relay.gmail.com with ESMTPS id e9e14a558f8ab-3d7dc5858e0sm604265ab.45.2025.04.08.21.31.05 (version=TLS1_2 cipher=ECDHE-ECDSA-AES128-GCM-SHA256 bits=128/128); Tue, 08 Apr 2025 21:31:05 -0700 (PDT) X-Relaying-Domain: iol.unh.edu Date: Tue, 08 Apr 2025 21:31:05 -0700 (PDT) Message-ID: <67f5f809.920a0220.4c4d1.1053SMTPIN_ADDED_MISSING@mx.google.com> Received: from [172.21.0.6] (unknown [172.18.0.240]) by postal.iol.unh.edu (Postfix) with ESMTP id 685756052471; Wed, 9 Apr 2025 00:31:05 -0400 (EDT) Subject: |SUCCESS| pw152840-152845 [PATCH] [v5,6/6] bus/vmbus: set event for From: dpdklab@iol.unh.edu To: Test Report Cc: dpdk-test-reports@iol.unh.edu In-Reply-To: <1744149236-30264-7-git-send-email-longli@linuxonhyperv.com> References: <1744149236-30264-7-git-send-email-longli@linuxonhyperv.com> Content-Type: text/plain X-BeenThere: test-report@dpdk.org X-Mailman-Version: 2.1.29 Precedence: list List-Id: automatic DPDK test reports List-Unsubscribe: , List-Archive: List-Post: List-Help: List-Subscribe: , Errors-To: test-report-bounces@dpdk.org Test-Label: iol-unit-amd64-testing Test-Status: SUCCESS http://dpdk.org/patch/152845 _Testing PASS_ Submitter: Long Li Date: Tuesday, April 08 2025 21:53:56 DPDK git baseline: Repo:dpdk Branch: master CommitID:0b2f016cd76d4fb382eea54b8a6aaf9474586fbc 152840-152845 --> testing pass Upstream job id: Generic-Unit-Test-DPDK#329735 Test environment and result as below: +-------------------+----------------+ | Environment | dpdk_unit_test | +===================+================+ | CentOS Stream 10 | PASS | +-------------------+----------------+ | CentOS Stream 9 | PASS | +-------------------+----------------+ | Fedora 40 | PASS | +-------------------+----------------+ | Debian 12 | PASS | +-------------------+----------------+ | Fedora 41 | PASS | +-------------------+----------------+ | Fedora 40 (Clang) | PASS | +-------------------+----------------+ | RHEL8 | PASS | +-------------------+----------------+ | Fedora 41 (Clang) | PASS | +-------------------+----------------+ | RHEL9 | PASS | +-------------------+----------------+ | Ubuntu 22.04 | PASS | +-------------------+----------------+ | Ubuntu 20.04 | PASS | +-------------------+----------------+ | Ubuntu 24.04 | PASS | +-------------------+----------------+ CentOS Stream 10 Kernel: Depends on container host Compiler: gcc 14.2.1 20241104 (Red Hat 14.2.1-6) CentOS Stream 9 Kernel: Depends on container host Compiler: gcc 11.5.0 20240719 (Red Hat 11.5.0-2) Fedora 40 Kernel: Depends on container host Compiler: gcc 14.2.1 20240912 (Red Hat 14.2.1-3) Debian 12 Kernel: Depends on container host Compiler: gcc (Debian 12.2.0-14) 12.2.0 Fedora 41 Kernel: Depends on container host Compiler: gcc 14.2.1 20240912 (Red Hat 14.2.1-3) Fedora 40 (Clang) Kernel: Depends on container host Compiler: clang 18.1.8 (Fedora 18.1.8-1.fc40) RHEL8 Kernel: Depends on container host Compiler: gcc 8.5.0 20210514 (Red Hat 8.5.0-22) Fedora 41 (Clang) Kernel: Depends on container host Compiler: clang 19.1.5 (Fedora 19.1.5-1.fc41) RHEL9 Kernel: Depends on container host Compiler: gcc 11.5.0 20240719 (Red Hat 11.5.0-2) Ubuntu 22.04 Kernel: Depends on container host Compiler: gcc (Ubuntu 11.4.0-1ubuntu1~22.04) 11.4.0 Ubuntu 20.04 Kernel: Depends on container host Compiler: gcc (Ubuntu 9.4.0-1ubuntu1~20.04.2) 9.4.0 Ubuntu 24.04 Kernel: Depends on container host Compiler: gcc (Ubuntu 13.3.0-6ubuntu2~24.04) 13.3.0 To view detailed results, visit: https://lab.dpdk.org/results/dashboard/patchsets/32974/ UNH-IOL DPDK Community Lab To manage your email subscriptions, visit: https://lab.dpdk.org/results/dashboard/preferences/subscriptions/