From mboxrd@z Thu Jan 1 00:00:00 1970 Return-Path: Received: from mails.dpdk.org (mails.dpdk.org [217.70.189.124]) by inbox.dpdk.org (Postfix) with ESMTP id EDA074653B for ; Wed, 9 Apr 2025 06:35:31 +0200 (CEST) Received: from mails.dpdk.org (localhost [127.0.0.1]) by mails.dpdk.org (Postfix) with ESMTP id C617B40430; Wed, 9 Apr 2025 06:35:31 +0200 (CEST) Received: from mail-pl1-f226.google.com (mail-pl1-f226.google.com [209.85.214.226]) by mails.dpdk.org (Postfix) with ESMTP id 07000402D7 for ; Wed, 9 Apr 2025 06:35:31 +0200 (CEST) Received: by mail-pl1-f226.google.com with SMTP id d9443c01a7336-227a8cdd241so73574115ad.3 for ; Tue, 08 Apr 2025 21:35:30 -0700 (PDT) DKIM-Signature: v=1; a=rsa-sha256; c=relaxed/relaxed; d=iol.unh.edu; s=unh-iol; t=1744173330; x=1744778130; darn=dpdk.org; h=references:in-reply-to:cc:to:from:subject:message-id:date:from:to :cc:subject:date:message-id:reply-to; bh=otXV6Yh/tasokbIgu6xMUhMZu5VnJFk8JbfXMIK8NS0=; b=Smo5ZCszsxm9pd8M2OCX7XkqWE+9ceqxEIyod3IVqUCP5vOiWmvTY64SPdUfd4E6TK N15adO3Px0erZe4pHVzkVVua2jWTBSDyoJVcS7O4PIkfUTmSYR0CNHST4wkYDyi6JRPw xcck7F5l+gQc43+pNeXqn2ErEOsREGWA11JTo= X-Google-DKIM-Signature: v=1; a=rsa-sha256; c=relaxed/relaxed; d=1e100.net; s=20230601; t=1744173330; x=1744778130; h=references:in-reply-to:cc:to:from:subject:message-id:date :x-gm-message-state:from:to:cc:subject:date:message-id:reply-to; bh=otXV6Yh/tasokbIgu6xMUhMZu5VnJFk8JbfXMIK8NS0=; b=N25Z8QhTY/c4zAffCLypFTp3mFBzSlySMdOOOZe4jmTjWEe+unvWJqNXGIMXT1macs ftix1E15DzLRE1YKaz08Y7M0XHtLZQ4WLGvU/6Wf3qLLqCrJlYCd57dNVEyJI+lGl/Cj cwNq6nypM70PY9eoxB+GO2lnXV2P2kl3XPcES046VJAdf3qba45AW5ygZgpVLcfB42TS rJlfCql1OzrH08TOJN0eAyeQHSmWsmHGGl/5TsttSKT/0jGyg6DHDLy4AngawXXIODyt /2u0YOlLec0TTCWMYTT1cJZc8VrIA/LsBQi5tCZLce5fGYfufS8OAXzss+Akc4xdpYcL iARQ== X-Gm-Message-State: AOJu0YzdeBFNwsh873aV4rMRfMu0u6leIpmLHhbJUFDB3kyoH31imNi7 oPam3ArnVgHCi14Fllzhu7A8rM/hAHxdfNp2ka+Z5vAyGob9blMszaNLV5On/RQ33A9TMnTHX+3 R/SAs1gByF8y5G70KsHMW08ZL8aqPGSEb7mVQcCwM X-Gm-Gg: ASbGncsKIzmu29dHqKoJGUwos+zb3MrTWN387mDuLIechbRew2yRoFAWCoizCV9xFTy KQPxsrhHrYtQJXlLWF7FdLbxGYEvNEQ42sWaqUScR8hXLNb2MhK4wmVyUtaSn1LBWcmA2O++0Dd 7Xqn1ba3wiBoxnJBG3+cwcYTWSWbiVdn0Xhzn5/ooe/vYDoL2mv3/94vMMzpTLbkOBl8i8hk7FQ ptUpOH1jkDEaYCipH4+ynZ/0dGVleloWhWqG/yit/SO8GXskydeq5DipfJKge0AXgC8MdcvQ8FL iw0JtuWvDSA3hUCWwY6g4aRchSfyLQp3dsGFRIUq X-Google-Smtp-Source: AGHT+IHDUHQ5BixdFf2PF1mmKB0wppM7NUuSfdwYjIbnF27OZueKh9SghHbmWrtQtB/8vuZUCdblr07mAwOe X-Received: by 2002:a17:903:32cb:b0:220:c164:6ee1 with SMTP id d9443c01a7336-22ac2a1df5cmr25780295ad.32.1744173330086; Tue, 08 Apr 2025 21:35:30 -0700 (PDT) Received: from postal.iol.unh.edu (postal.iol.unh.edu. [132.177.123.84]) by smtp-relay.gmail.com with ESMTPS id d9443c01a7336-22ac7b6badesm46935ad.36.2025.04.08.21.35.29 (version=TLS1_2 cipher=ECDHE-ECDSA-AES128-GCM-SHA256 bits=128/128); Tue, 08 Apr 2025 21:35:30 -0700 (PDT) X-Relaying-Domain: iol.unh.edu Date: Tue, 08 Apr 2025 21:35:30 -0700 (PDT) Message-ID: <67f5f912.170a0220.171613.012eSMTPIN_ADDED_MISSING@mx.google.com> Received: from [172.21.0.5] (unknown [172.18.0.240]) by postal.iol.unh.edu (Postfix) with ESMTP id 801EB6052471; Wed, 9 Apr 2025 00:35:29 -0400 (EDT) Subject: |SUCCESS| pw152840-152845 [PATCH] [v5,6/6] bus/vmbus: set event for From: dpdklab@iol.unh.edu To: Test Report Cc: dpdk-test-reports@iol.unh.edu In-Reply-To: <1744149236-30264-7-git-send-email-longli@linuxonhyperv.com> References: <1744149236-30264-7-git-send-email-longli@linuxonhyperv.com> Content-Type: text/plain X-BeenThere: test-report@dpdk.org X-Mailman-Version: 2.1.29 Precedence: list List-Id: automatic DPDK test reports List-Unsubscribe: , List-Archive: List-Post: List-Help: List-Subscribe: , Errors-To: test-report-bounces@dpdk.org Test-Label: iol-unit-arm64-testing Test-Status: SUCCESS http://dpdk.org/patch/152845 _Testing PASS_ Submitter: Long Li Date: Tuesday, April 08 2025 21:53:56 DPDK git baseline: Repo:dpdk Branch: master CommitID:0b2f016cd76d4fb382eea54b8a6aaf9474586fbc 152840-152845 --> testing pass Upstream job id: Generic-Unit-Test-DPDK#329747 Test environment and result as below: +-----------------------------+----------------+--------------+---------------------------+------------------------------+ | Environment | dpdk_unit_test | lpm_autotest | cryptodev_sw_zuc_autotest | cryptodev_sw_snow3g_autotest | +=============================+================+==============+===========================+==============================+ | 32-bit Ubuntu 22.04.4 (ARM) | PASS | SKIPPED | SKIPPED | SKIPPED | +-----------------------------+----------------+--------------+---------------------------+------------------------------+ | CentOS Stream 10 (ARM) | PASS | SKIPPED | SKIPPED | SKIPPED | +-----------------------------+----------------+--------------+---------------------------+------------------------------+ | Debian 12 (arm) | PASS | SKIPPED | PASS | PASS | +-----------------------------+----------------+--------------+---------------------------+------------------------------+ | CentOS Stream 9 (ARM) | PASS | SKIPPED | SKIPPED | SKIPPED | +-----------------------------+----------------+--------------+---------------------------+------------------------------+ | Fedora 40 (ARM) | PASS | SKIPPED | SKIPPED | SKIPPED | +-----------------------------+----------------+--------------+---------------------------+------------------------------+ | Fedora 40 (ARM Clang) | PASS | SKIPPED | SKIPPED | SKIPPED | +-----------------------------+----------------+--------------+---------------------------+------------------------------+ | Fedora 41 (ARM Clang) | PASS | SKIPPED | SKIPPED | SKIPPED | +-----------------------------+----------------+--------------+---------------------------+------------------------------+ | Fedora 41 (ARM) | PASS | SKIPPED | SKIPPED | SKIPPED | +-----------------------------+----------------+--------------+---------------------------+------------------------------+ | RHEL9 (ARM) | PASS | SKIPPED | SKIPPED | SKIPPED | +-----------------------------+----------------+--------------+---------------------------+------------------------------+ | Ubuntu 20.04 (ARM) | PASS | SKIPPED | SKIPPED | SKIPPED | +-----------------------------+----------------+--------------+---------------------------+------------------------------+ | Ubuntu 22.04 (ARM) | PASS | SKIPPED | SKIPPED | SKIPPED | +-----------------------------+----------------+--------------+---------------------------+------------------------------+ | Ubuntu 24.04 (ARM) | PASS | SKIPPED | SKIPPED | SKIPPED | +-----------------------------+----------------+--------------+---------------------------+------------------------------+ | Ubuntu 20.04 ARM SVE | SKIPPED | PASS | SKIPPED | SKIPPED | +-----------------------------+----------------+--------------+---------------------------+------------------------------+ 32-bit Ubuntu 22.04.4 (ARM) Kernel: 5.15.83+ aarch64 Compiler: gcc (Ubuntu 11.4.0-1ubuntu1~22.04) 11.4.0 CentOS Stream 10 (ARM) Kernel: Depends on container host Compiler: gcc 14.2.1 20241104 (Red Hat 14.2.1-6) Debian 12 (arm) Kernel: Depends on container host Compiler: gcc (Debian 12.2.0-14) 12.2.0 CentOS Stream 9 (ARM) Kernel: Depends on container host Compiler: gcc 11.5.0 20240719 (Red Hat 11.5.0-2) Fedora 40 (ARM) Kernel: Depends on container host Compiler: gcc 14.2.1 20240912 (Red Hat 14.2.1-3) Fedora 40 (ARM Clang) Kernel: Depends on container host Compiler: clang 18.1.8 (Fedora 18.1.8-1.fc40) Fedora 41 (ARM Clang) Kernel: Depends on container host Compiler: clang 19.1.5 (Fedora 19.1.5-1.fc41) Fedora 41 (ARM) Kernel: Depends on container host Compiler: gcc 14.2.1 20240912 (Red Hat 14.2.1-3) RHEL9 (ARM) Kernel: Depends on container host Compiler: gcc 11.5.0 20240719 (Red Hat 11.5.0-2) Ubuntu 20.04 (ARM) Kernel: Depends on container host Compiler: gcc (Ubuntu 9.4.0-1ubuntu1~20.04.2) 9.4.0 Ubuntu 22.04 (ARM) Kernel: Depends on container host Compiler: gcc (Ubuntu 11.4.0-1ubuntu1~22.04) 11.4.0 Ubuntu 24.04 (ARM) Kernel: Depends on container host Compiler: gcc (Ubuntu 13.3.0-6ubuntu2~24.04) 13.3.0 Ubuntu 20.04 ARM SVE Kernel: Depends on container host Compiler: gcc (Ubuntu 10.5.0-1ubuntu1~20.04) 10.5.0 To view detailed results, visit: https://lab.dpdk.org/results/dashboard/patchsets/32974/ UNH-IOL DPDK Community Lab To manage your email subscriptions, visit: https://lab.dpdk.org/results/dashboard/preferences/subscriptions/