From mboxrd@z Thu Jan 1 00:00:00 1970 Return-Path: Received: from mails.dpdk.org (mails.dpdk.org [217.70.189.124]) by inbox.dpdk.org (Postfix) with ESMTP id 756AC4653B for ; Wed, 9 Apr 2025 07:03:48 +0200 (CEST) Received: from mails.dpdk.org (localhost [127.0.0.1]) by mails.dpdk.org (Postfix) with ESMTP id 49FC340609; Wed, 9 Apr 2025 07:03:48 +0200 (CEST) Received: from mail-io1-f100.google.com (mail-io1-f100.google.com [209.85.166.100]) by mails.dpdk.org (Postfix) with ESMTP id 44FE8402D7 for ; Wed, 9 Apr 2025 07:03:47 +0200 (CEST) Received: by mail-io1-f100.google.com with SMTP id ca18e2360f4ac-85b41281b50so171882139f.3 for ; Tue, 08 Apr 2025 22:03:47 -0700 (PDT) DKIM-Signature: v=1; a=rsa-sha256; c=relaxed/relaxed; d=iol.unh.edu; s=unh-iol; t=1744175026; x=1744779826; darn=dpdk.org; h=references:in-reply-to:cc:to:from:subject:message-id:date:from:to :cc:subject:date:message-id:reply-to; bh=hHeQ0qia2TwVB/D7bmlc/6b+6oIVC9aR3mh/ShfjCvM=; b=K6YM8ijgMW8t+K0uEF6mk7ddY9igN4F4OgucX9TsLGDgtzC537JOM0F4A/Fmr9/+s4 o1230qh9N6DFI5lqRkpGfMD9HI9rKwtVNRT/Dabl23LbczLElW5TYKRyeatDUXdbpTDR 17a5rmcF5lbjx11LCB05rQGMYHRKQ+oFGTvTY= X-Google-DKIM-Signature: v=1; a=rsa-sha256; c=relaxed/relaxed; d=1e100.net; s=20230601; t=1744175026; x=1744779826; h=references:in-reply-to:cc:to:from:subject:message-id:date :x-gm-message-state:from:to:cc:subject:date:message-id:reply-to; bh=hHeQ0qia2TwVB/D7bmlc/6b+6oIVC9aR3mh/ShfjCvM=; b=kMrJgZ/cjNLEv2BnGftn1xjqlfsLEl0aVH2PsdzV3StR4Xz8ABlISElpyscBRgV9Vi dv93xRR2sgkvxXXT5di17hrEmN1I8RVm5xVO7uQm1hQ+fFzXowzvuaoI5ZZKUghjJo1Q fI1qmP/jyfpWUjxWrxt0bKFkiPQB4XBK6/M2876Hv/NtASZ4O0aLlYeZXr9h6gNh4v0v MpNLvDz1Vk7cyXKiM/b4/vtOkdSPFVMKrEdCCj2o+5h7dxN/e+9pUYQ+DDOZu1qS75XR fHevHyop3ez2MuCbbHK80jet7DTsg2kSO3slJJba4JulW8sfbpLlKVo2j2VmqYYz3tLD qImw== X-Gm-Message-State: AOJu0YykqCNOjhoidNRote8Gnm5YGupAenIHEXU1ZzZvHOx/XrigSl++ VRELGRryOvy1QbKlwg3CyEaxwFCXsJdhulzR1y9dVclX4gxbPzhx3foFw6ihJxfjpKxznu3lVgu 4bAlc9XqeKU+EjtB/YGqkCTraWUVubo3HSu5J4IySU6gfpbHAbYswlurZ X-Gm-Gg: ASbGncvVVbsLTjYGx21aqJJpes+4apV9Ev0L4YPz5n4vXIuVlWcwNj3/sB2EdtiWB1E nVc78uFUHuNxAexowPcAYlHJcFFNIUzseR3aCsGI9LAx9om8uK5Ec8bWaLgn5QChN5pePKDSTid YKchcjELX7HQF1D+vbg5dYpKi318NsjlAkZMS/itJg+E8mMLv03F8NtWmGujPPJ6Ncc6mtJQZOp Tgb87W+pUquVj3YBbUAAu/DObPqCQ6TWxODAG6MX6trclF6rE+td/VoukwP9bJT2YEH3/BWerBM s2kvaLS0ip1Lqfr6Otr6nOyVxEAp0yGWr472MI5BP7cTLcq7MZqR X-Google-Smtp-Source: AGHT+IHMFmzoRbiwz8y3eriJG1yuTN4tsf6K0EKmXFLxuSukTZXztvlcFa/BfE9nFGZCN+M/gkWG1F+K/KTr X-Received: by 2002:a05:6602:274b:b0:85b:3791:b2ed with SMTP id ca18e2360f4ac-861611ccbb1mr202331839f.8.1744175026552; Tue, 08 Apr 2025 22:03:46 -0700 (PDT) Received: from postal.iol.unh.edu (postal.iol.unh.edu. [2606:4100:3880:1234::84]) by smtp-relay.gmail.com with ESMTPS id 8926c6da1cb9f-4f505e2e782sm56069173.60.2025.04.08.22.03.46 (version=TLS1_2 cipher=ECDHE-ECDSA-AES128-GCM-SHA256 bits=128/128); Tue, 08 Apr 2025 22:03:46 -0700 (PDT) X-Relaying-Domain: iol.unh.edu Date: Tue, 08 Apr 2025 22:03:46 -0700 (PDT) Message-ID: <67f5ffb2.050a0220.255dc7.1179SMTPIN_ADDED_MISSING@mx.google.com> Received: from [172.21.0.6] (unknown [172.18.0.240]) by postal.iol.unh.edu (Postfix) with ESMTP id 180736052471; Wed, 9 Apr 2025 01:03:46 -0400 (EDT) Subject: |SUCCESS| pw152840-152845 [PATCH] [v5,6/6] bus/vmbus: set event for From: dpdklab@iol.unh.edu To: Test Report Cc: dpdk-test-reports@iol.unh.edu In-Reply-To: <1744149236-30264-7-git-send-email-longli@linuxonhyperv.com> References: <1744149236-30264-7-git-send-email-longli@linuxonhyperv.com> Content-Type: text/plain X-BeenThere: test-report@dpdk.org X-Mailman-Version: 2.1.29 Precedence: list List-Id: automatic DPDK test reports List-Unsubscribe: , List-Archive: List-Post: List-Help: List-Subscribe: , Errors-To: test-report-bounces@dpdk.org Test-Label: iol-compile-amd64-testing Test-Status: SUCCESS http://dpdk.org/patch/152845 _Testing PASS_ Submitter: Long Li Date: Tuesday, April 08 2025 21:53:56 DPDK git baseline: Repo:dpdk Branch: master CommitID:0b2f016cd76d4fb382eea54b8a6aaf9474586fbc 152840-152845 --> testing pass Upstream job id: Generic-DPDK-Compile-Meson#378481 Test environment and result as below: +-----------------------------------+--------------------+-------------------+------------------+-------------------+-------------------------+----------------------+ | Environment | dpdk_meson_compile | dpdk_compile_spdk | dpdk_compile_ovs | dpdk_msvc_compile | dpdk_llvm_clang_compile | dpdk_mingw64_compile | +===================================+====================+===================+==================+===================+=========================+======================+ | CentOS Stream 10 | PASS | SKIPPED | SKIPPED | SKIPPED | SKIPPED | SKIPPED | +-----------------------------------+--------------------+-------------------+------------------+-------------------+-------------------------+----------------------+ | CentOS Stream 9 | PASS | PASS | SKIPPED | SKIPPED | SKIPPED | SKIPPED | +-----------------------------------+--------------------+-------------------+------------------+-------------------+-------------------------+----------------------+ | Fedora 40 | PASS | PASS | SKIPPED | SKIPPED | SKIPPED | SKIPPED | +-----------------------------------+--------------------+-------------------+------------------+-------------------+-------------------------+----------------------+ | Fedora 40 (Clang) | PASS | PASS | SKIPPED | SKIPPED | SKIPPED | SKIPPED | +-----------------------------------+--------------------+-------------------+------------------+-------------------+-------------------------+----------------------+ | Debian 12 | PASS | PASS | SKIPPED | SKIPPED | SKIPPED | SKIPPED | +-----------------------------------+--------------------+-------------------+------------------+-------------------+-------------------------+----------------------+ | Fedora 41 | PASS | PASS | PASS | SKIPPED | SKIPPED | SKIPPED | +-----------------------------------+--------------------+-------------------+------------------+-------------------+-------------------------+----------------------+ | RHEL8 | PASS | SKIPPED | SKIPPED | SKIPPED | SKIPPED | SKIPPED | +-----------------------------------+--------------------+-------------------+------------------+-------------------+-------------------------+----------------------+ | openSUSE Leap 15 | PASS | SKIPPED | SKIPPED | SKIPPED | SKIPPED | SKIPPED | +-----------------------------------+--------------------+-------------------+------------------+-------------------+-------------------------+----------------------+ | Fedora 41 (Clang) | PASS | PASS | PASS | SKIPPED | SKIPPED | SKIPPED | +-----------------------------------+--------------------+-------------------+------------------+-------------------+-------------------------+----------------------+ | RHEL9 | PASS | SKIPPED | SKIPPED | SKIPPED | SKIPPED | SKIPPED | +-----------------------------------+--------------------+-------------------+------------------+-------------------+-------------------------+----------------------+ | Ubuntu 20.04 | PASS | SKIPPED | SKIPPED | SKIPPED | SKIPPED | SKIPPED | +-----------------------------------+--------------------+-------------------+------------------+-------------------+-------------------------+----------------------+ | Ubuntu 22.04 | PASS | PASS | SKIPPED | SKIPPED | SKIPPED | SKIPPED | +-----------------------------------+--------------------+-------------------+------------------+-------------------+-------------------------+----------------------+ | Ubuntu 24.04 | PASS | PASS | PASS | SKIPPED | SKIPPED | SKIPPED | +-----------------------------------+--------------------+-------------------+------------------+-------------------+-------------------------+----------------------+ | Alpine | PASS | SKIPPED | SKIPPED | SKIPPED | SKIPPED | SKIPPED | +-----------------------------------+--------------------+-------------------+------------------+-------------------+-------------------------+----------------------+ | Ubuntu 24.04 32 Bit Cross Compile | PASS | SKIPPED | SKIPPED | SKIPPED | SKIPPED | SKIPPED | +-----------------------------------+--------------------+-------------------+------------------+-------------------+-------------------------+----------------------+ | FreeBSD 13.5 | PASS | SKIPPED | SKIPPED | SKIPPED | SKIPPED | SKIPPED | +-----------------------------------+--------------------+-------------------+------------------+-------------------+-------------------------+----------------------+ | FreeBSD 14.2 | PASS | SKIPPED | SKIPPED | SKIPPED | SKIPPED | SKIPPED | +-----------------------------------+--------------------+-------------------+------------------+-------------------+-------------------------+----------------------+ | Windows Server 2022 | SKIPPED | SKIPPED | SKIPPED | PASS | PASS | PASS | +-----------------------------------+--------------------+-------------------+------------------+-------------------+-------------------------+----------------------+ CentOS Stream 10 Kernel: Depends on container host Compiler: gcc 14.2.1 20241104 (Red Hat 14.2.1-6) CentOS Stream 9 Kernel: Depends on container host Compiler: gcc 11.5.0 20240719 (Red Hat 11.5.0-2) Fedora 40 Kernel: Depends on container host Compiler: gcc 14.2.1 20240912 (Red Hat 14.2.1-3) Fedora 40 (Clang) Kernel: Depends on container host Compiler: clang 18.1.8 (Fedora 18.1.8-1.fc40) Debian 12 Kernel: Depends on container host Compiler: gcc (Debian 12.2.0-14) 12.2.0 Fedora 41 Kernel: Depends on container host Compiler: gcc 14.2.1 20240912 (Red Hat 14.2.1-3) RHEL8 Kernel: Depends on container host Compiler: gcc 8.5.0 20210514 (Red Hat 8.5.0-22) openSUSE Leap 15 Kernel: Depends on container host Compiler: gcc (SUSE Linux) 7.5.0 Fedora 41 (Clang) Kernel: Depends on container host Compiler: clang 19.1.5 (Fedora 19.1.5-1.fc41) RHEL9 Kernel: Depends on container host Compiler: gcc 11.5.0 20240719 (Red Hat 11.5.0-2) Ubuntu 20.04 Kernel: Depends on container host Compiler: gcc (Ubuntu 9.4.0-1ubuntu1~20.04.2) 9.4.0 Ubuntu 22.04 Kernel: Depends on container host Compiler: gcc (Ubuntu 11.4.0-1ubuntu1~22.04) 11.4.0 Ubuntu 24.04 Kernel: Depends on container host Compiler: gcc (Ubuntu 13.3.0-6ubuntu2~24.04) 13.3.0 Alpine Kernel: Depends on container host Compiler: gcc (Alpine 14.2.0) 14.2.0 Ubuntu 24.04 32 Bit Cross Compile Kernel: Depends on container host Compiler: gcc (Ubuntu 13.3.0-6ubuntu2~24.04) 13.3.0 FreeBSD 13.5 Kernel: 13.5-RELEASE Compiler: clang 19.1.7 FreeBSD 14.2 Kernel: 14.2-RELEASE Compiler: clang 18.1.6 Windows Server 2022 Kernel: 10.0.20348.2031 Compiler: clang 15.0.7, gcc 14.1.0 (MinGW), and MSVC VS 19.39.33521 To view detailed results, visit: https://lab.dpdk.org/results/dashboard/patchsets/32974/ UNH-IOL DPDK Community Lab To manage your email subscriptions, visit: https://lab.dpdk.org/results/dashboard/preferences/subscriptions/