From mboxrd@z Thu Jan  1 00:00:00 1970
Return-Path: <test-report-bounces@dpdk.org>
Received: from mails.dpdk.org (mails.dpdk.org [217.70.189.124])
	by inbox.dpdk.org (Postfix) with ESMTP id 31F884653B
	for <public@inbox.dpdk.org>; Wed,  9 Apr 2025 07:11:45 +0200 (CEST)
Received: from mails.dpdk.org (localhost [127.0.0.1])
	by mails.dpdk.org (Postfix) with ESMTP id 170B540609;
	Wed,  9 Apr 2025 07:11:45 +0200 (CEST)
Received: from mail-pl1-f227.google.com (mail-pl1-f227.google.com
 [209.85.214.227])
 by mails.dpdk.org (Postfix) with ESMTP id 1B362402D7
 for <test-report@dpdk.org>; Wed,  9 Apr 2025 07:11:44 +0200 (CEST)
Received: by mail-pl1-f227.google.com with SMTP id
 d9443c01a7336-2295d78b433so63102565ad.2
 for <test-report@dpdk.org>; Tue, 08 Apr 2025 22:11:44 -0700 (PDT)
DKIM-Signature: v=1; a=rsa-sha256; c=relaxed/relaxed;
 d=iol.unh.edu; s=unh-iol; t=1744175503; x=1744780303; darn=dpdk.org;
 h=references:in-reply-to:cc:to:from:subject:message-id:date:from:to
 :cc:subject:date:message-id:reply-to;
 bh=quJiKKogKjk6XJ9FFYISEY6J2Dp8WqpOm4VyfK6UdPo=;
 b=CtMi6RCOynG+X+4EUAYOYUXlFYaszgQ1xYFSoe1iL5aL/z7560ivKWZU3WMqJmrr00
 PjPo6KjIGr9MCz/PSZQWnOU4XXXWOll1fm6Tc+szl1WSaz9mhJ5UrqLLLQEsUN8tB4PE
 RCxTz0oIPXFl96ekmmWkPWjpusdowyUSPVGrE=
X-Google-DKIM-Signature: v=1; a=rsa-sha256; c=relaxed/relaxed;
 d=1e100.net; s=20230601; t=1744175503; x=1744780303;
 h=references:in-reply-to:cc:to:from:subject:message-id:date
 :x-gm-message-state:from:to:cc:subject:date:message-id:reply-to;
 bh=quJiKKogKjk6XJ9FFYISEY6J2Dp8WqpOm4VyfK6UdPo=;
 b=NEEcW55hExIus8gaFrrmDAeguPWOVP/qOan9ndELSC6RfQrWiFKPV85TvQg1uY8vci
 KwARI85P6tN+SkqXZ72tW7TUtYYjprIVChgX2vXlljs4iSLBWexlSigVheF7caZbJ8KY
 IOoDhVvlbeZTn4gW+IUgNcWurF17JgscvSYoK20dNmOflKWWv+XyyDtM5GXAbkQtmG8+
 SLqyvWXVzLz8I9UyBtmkXLA/YGFbUwwJFXyeV2gr9TjNKj8x8CiVzH00zjP8a5XmTIS5
 Z1ZzCfM8wwB3UPFZVsKn8D/cn6gRFd/zMfpT3TiBrESlBoCb3Gwm4l19uZL79Qb9+a2E
 usnw==
X-Gm-Message-State: AOJu0YzQKf9x2TQiJQ1ZchZ82rRAyC26g+Yk5QHuMNr6DOx81pq2I5Sb
 UpRdVMognBGmCNvrL+eUBpsgYzT06VgavLjTsSOTeZNFF+bKGfqr2chZWsSkm7KwPUhbILr0m61
 CUEVeFKu2GnJWH6fgzdZsiboa5VOx772DyYwKx1aDh7XBKOyGtVH+ZLfy
X-Gm-Gg: ASbGnctGn4ju5qu+YeQ3JhogVomc7Pl8IDBRFRA6Vji4zS5oYbwogaAbonB8m1u07dk
 8rOHQy4pBdaeIRymDowBNeoTVjMsiWQbC+mY7uPXpCfeR006bf22S25FTtOAsPMwn/vdmfFwe79
 wX8wM1a8AS/WiItlm4ILr9KQh3BKQK7G/5Uw7U0sgRfytyau75r847cNRTSFHKRYE/1/f/1t4PH
 MpaLAMHUxAi4tvfxnRPX8iosy7Zayf+K52/4Zg+K30BqD6+NPqNhNrY9pwaSw5x5dEMCcApG/9T
 crRfZeQIy6h7ZvhkYSyJ2LRq77DH5LfjmXH44hjjQDnkg2Yn9sLi
X-Google-Smtp-Source: AGHT+IHS9S64zO3/PHuxtSoVf7wbFf459buE+jZYbbGpcNN5xzPIFFkSra4mXbEDjLScBlFj10J8HpxntLo4
X-Received: by 2002:a17:902:ce89:b0:223:4b8d:32f1 with SMTP id
 d9443c01a7336-22ac3f3186amr21956965ad.1.1744175503171; 
 Tue, 08 Apr 2025 22:11:43 -0700 (PDT)
Received: from postal.iol.unh.edu (postal.iol.unh.edu.
 [2606:4100:3880:1234::84]) by smtp-relay.gmail.com with ESMTPS id
 d9443c01a7336-22ac7cb5327sm100995ad.115.2025.04.08.22.11.43
 (version=TLS1_2 cipher=ECDHE-ECDSA-AES128-GCM-SHA256 bits=128/128);
 Tue, 08 Apr 2025 22:11:43 -0700 (PDT)
X-Relaying-Domain: iol.unh.edu
Date: Tue, 08 Apr 2025 22:11:43 -0700 (PDT)
Message-ID: <67f6018f.170a0220.128cb5.03faSMTPIN_ADDED_MISSING@mx.google.com>
Received: from [172.21.0.7] (unknown [172.18.0.240])
 by postal.iol.unh.edu (Postfix) with ESMTP id 699966052471;
 Wed,  9 Apr 2025 01:11:42 -0400 (EDT)
Subject: |SUCCESS| pw152839 [PATCH] [v4,1/1] mbuf: enable to be compiled with
From: dpdklab@iol.unh.edu
To: Test Report <test-report@dpdk.org>
Cc: dpdk-test-reports@iol.unh.edu
In-Reply-To: <1744147477-23715-2-git-send-email-andremue@linux.microsoft.com>
References: <1744147477-23715-2-git-send-email-andremue@linux.microsoft.com>
Content-Type: text/plain
X-BeenThere: test-report@dpdk.org
X-Mailman-Version: 2.1.29
Precedence: list
List-Id: automatic DPDK test reports <test-report.dpdk.org>
List-Unsubscribe: <https://mails.dpdk.org/options/test-report>,
 <mailto:test-report-request@dpdk.org?subject=unsubscribe>
List-Archive: <http://mails.dpdk.org/archives/test-report/>
List-Post: <mailto:test-report@dpdk.org>
List-Help: <mailto:test-report-request@dpdk.org?subject=help>
List-Subscribe: <https://mails.dpdk.org/listinfo/test-report>,
 <mailto:test-report-request@dpdk.org?subject=subscribe>
Errors-To: test-report-bounces@dpdk.org

Test-Label: iol-unit-arm64-testing
Test-Status: SUCCESS
http://dpdk.org/patch/152839

_Testing PASS_

Submitter: Andre Muezerie <andremue@linux.microsoft.com>
Date: Tuesday, April 08 2025 21:24:37 
DPDK git baseline: Repo:dpdk
  Branch: master
  CommitID:8ee74a69abcf48563f05adeafecd298bb03477a8

152839 --> testing pass

Upstream job id: Generic-Unit-Test-DPDK#329766

Test environment and result as below:

+-----------------------------+----------------+------------------------------+--------------+---------------------------+
|         Environment         | dpdk_unit_test | cryptodev_sw_snow3g_autotest | lpm_autotest | cryptodev_sw_zuc_autotest |
+=============================+================+==============================+==============+===========================+
| 32-bit Ubuntu 22.04.4 (ARM) | PASS           | SKIPPED                      | SKIPPED      | SKIPPED                   |
+-----------------------------+----------------+------------------------------+--------------+---------------------------+
| Debian 12 (arm)             | PASS           | PASS                         | SKIPPED      | PASS                      |
+-----------------------------+----------------+------------------------------+--------------+---------------------------+
| CentOS Stream 9 (ARM)       | PASS           | SKIPPED                      | SKIPPED      | SKIPPED                   |
+-----------------------------+----------------+------------------------------+--------------+---------------------------+
| Fedora 40 (ARM)             | PASS           | SKIPPED                      | SKIPPED      | SKIPPED                   |
+-----------------------------+----------------+------------------------------+--------------+---------------------------+
| CentOS Stream 10 (ARM)      | PASS           | SKIPPED                      | SKIPPED      | SKIPPED                   |
+-----------------------------+----------------+------------------------------+--------------+---------------------------+
| Fedora 41 (ARM)             | PASS           | SKIPPED                      | SKIPPED      | SKIPPED                   |
+-----------------------------+----------------+------------------------------+--------------+---------------------------+
| Fedora 40 (ARM Clang)       | PASS           | SKIPPED                      | SKIPPED      | SKIPPED                   |
+-----------------------------+----------------+------------------------------+--------------+---------------------------+
| Fedora 41 (ARM Clang)       | PASS           | SKIPPED                      | SKIPPED      | SKIPPED                   |
+-----------------------------+----------------+------------------------------+--------------+---------------------------+
| Ubuntu 20.04 (ARM)          | PASS           | SKIPPED                      | SKIPPED      | SKIPPED                   |
+-----------------------------+----------------+------------------------------+--------------+---------------------------+
| RHEL9 (ARM)                 | PASS           | SKIPPED                      | SKIPPED      | SKIPPED                   |
+-----------------------------+----------------+------------------------------+--------------+---------------------------+
| Ubuntu 24.04 (ARM)          | PASS           | SKIPPED                      | SKIPPED      | SKIPPED                   |
+-----------------------------+----------------+------------------------------+--------------+---------------------------+
| Ubuntu 22.04 (ARM)          | PASS           | SKIPPED                      | SKIPPED      | SKIPPED                   |
+-----------------------------+----------------+------------------------------+--------------+---------------------------+
| Ubuntu 20.04 ARM SVE        | SKIPPED        | SKIPPED                      | PASS         | SKIPPED                   |
+-----------------------------+----------------+------------------------------+--------------+---------------------------+


32-bit Ubuntu 22.04.4 (ARM)
	Kernel: 5.15.83+ aarch64
	Compiler: gcc (Ubuntu 11.4.0-1ubuntu1~22.04) 11.4.0

Debian 12 (arm)
	Kernel: Depends on container host
	Compiler: gcc (Debian 12.2.0-14) 12.2.0

CentOS Stream 9 (ARM)
	Kernel: Depends on container host
	Compiler: gcc 11.5.0 20240719 (Red Hat 11.5.0-2)

Fedora 40 (ARM)
	Kernel: Depends on container host
	Compiler: gcc 14.2.1 20240912 (Red Hat 14.2.1-3)

CentOS Stream 10 (ARM)
	Kernel: Depends on container host
	Compiler: gcc 14.2.1 20241104 (Red Hat 14.2.1-6)

Fedora 41 (ARM)
	Kernel: Depends on container host
	Compiler: gcc 14.2.1 20240912 (Red Hat 14.2.1-3)

Fedora 40 (ARM Clang)
	Kernel: Depends on container host
	Compiler: clang 18.1.8 (Fedora 18.1.8-1.fc40)

Fedora 41 (ARM Clang)
	Kernel: Depends on container host
	Compiler: clang 19.1.5 (Fedora 19.1.5-1.fc41)

Ubuntu 20.04 (ARM)
	Kernel: Depends on container host
	Compiler: gcc (Ubuntu 9.4.0-1ubuntu1~20.04.2) 9.4.0

RHEL9 (ARM)
	Kernel: Depends on container host
	Compiler: gcc 11.5.0 20240719 (Red Hat 11.5.0-2)

Ubuntu 24.04 (ARM)
	Kernel: Depends on container host
	Compiler: gcc (Ubuntu 13.3.0-6ubuntu2~24.04) 13.3.0

Ubuntu 22.04 (ARM)
	Kernel: Depends on container host
	Compiler: gcc (Ubuntu 11.4.0-1ubuntu1~22.04) 11.4.0

Ubuntu 20.04 ARM SVE
	Kernel: Depends on container host
	Compiler: gcc (Ubuntu 10.5.0-1ubuntu1~20.04) 10.5.0

To view detailed results, visit:
https://lab.dpdk.org/results/dashboard/patchsets/32973/

UNH-IOL DPDK Community Lab

To manage your email subscriptions, visit: 
https://lab.dpdk.org/results/dashboard/preferences/subscriptions/