From mboxrd@z Thu Jan 1 00:00:00 1970 Return-Path: Received: from mails.dpdk.org (mails.dpdk.org [217.70.189.124]) by inbox.dpdk.org (Postfix) with ESMTP id 745C74653B for ; Wed, 9 Apr 2025 07:14:45 +0200 (CEST) Received: from mails.dpdk.org (localhost [127.0.0.1]) by mails.dpdk.org (Postfix) with ESMTP id 6ED2E40609; Wed, 9 Apr 2025 07:14:45 +0200 (CEST) Received: from mail-pj1-f100.google.com (mail-pj1-f100.google.com [209.85.216.100]) by mails.dpdk.org (Postfix) with ESMTP id B2BDC402D7 for ; Wed, 9 Apr 2025 07:14:44 +0200 (CEST) Received: by mail-pj1-f100.google.com with SMTP id 98e67ed59e1d1-30572effb26so5799353a91.0 for ; Tue, 08 Apr 2025 22:14:44 -0700 (PDT) DKIM-Signature: v=1; a=rsa-sha256; c=relaxed/relaxed; d=iol.unh.edu; s=unh-iol; t=1744175684; x=1744780484; darn=dpdk.org; h=references:in-reply-to:cc:to:from:subject:message-id:date:from:to :cc:subject:date:message-id:reply-to; bh=KJ8yPMJrQWWLCpvDm4RcqBvSly0V2Gz/2xTQf11wqk8=; b=USCrW2RMJexZpzg81WqkcBBOGAwTErf56cBKmEKO/KreHdA51Y8FIkQnSyxvv9pDEx LJo7JLuOkoO5tCoGKgT+vCpCEc4neDBVwiqbGSie3aeoB2KN+Vs2II/yO4Kzh2sLr6ee IGxl9WtbjQ5YQnt9b8Uwpuzn/ZNVuXBjy6fNU= X-Google-DKIM-Signature: v=1; a=rsa-sha256; c=relaxed/relaxed; d=1e100.net; s=20230601; t=1744175684; x=1744780484; h=references:in-reply-to:cc:to:from:subject:message-id:date :x-gm-message-state:from:to:cc:subject:date:message-id:reply-to; bh=KJ8yPMJrQWWLCpvDm4RcqBvSly0V2Gz/2xTQf11wqk8=; b=QcVvWvg6xXXxwBjdtr4/T8TeZAK8qlxt/oiYovKjs5LaPgc+WmBOo2a4pNUTX8zodY n5SMd2pFkykS5Hus9D5LM/zmAGjz+MiAdl0ROi7LrqeEBOETx992qZxmSGrn1ed8lEj/ Z/Xd3pwOf8+7ZUP9LyEwbUrxtNmGucifDRCPHjfWzEOO/+frEPuY64IZzNz7hJtdLWIG PWSLuftj//OS9lLUnbmUDC18dpeqpeFby8CC8YJ6Cquj0W9MnsRg6MhICfddiHAUnCrU HpgHM7fhWrAmsmw8Ys4dr80QuoMJ3ZBJ4xAVdVBaupT2fG+zYxg6XL8QFYsY+eD2r2FF /qwg== X-Gm-Message-State: AOJu0YxPIs5XyCqnCJjy7YV7TsPwVj2A5IwcWvG22mKK/V95jQll84hd 1aKVhOtz8pIu383bdOfB/9nTr7O9wAQNfGU3T3SCqqfBTAZXCLZxHwUVmi/R6TDOUnp/zekcfIv 8pY6FXsGaw5zVVWl9OW+0i/ZeOvrEO4Vo86Sq4wrrArjtXE8gE1a2J2uH X-Gm-Gg: ASbGncs0acEs93JnpvHiv/RIdy+ahQKfAMSoSNBjGPbM8RCGIsIk47WqVey7FJHai9Z KrrDGkgw32L7+HEZD5m0skj6VQNNRi0XV0xvj960BHE62/VuhKcHOgtji+riOnUIAPgQQZCwogF p4owpmKHRph7HHbZ4Tum66erNUy7eQ8JmikXppNmqtjeLVbbEDGwah2Pe3xHWATKVcRts58D2EO zXk/zSOgjH8YpxE5vQAgmuz3VRdSomNCDib92z3hJb2z+Gz21PpEzkhbCA4haqOiy1t+dRrTNBb Z1lAw07v9bcafyz+Gk6T2vv2EZaahXgEK5YD8841PpZbgRwHiIR2 X-Google-Smtp-Source: AGHT+IGRBvj+CqO/j/6sUfkUokSleCT9QriaUFwrI3Q2JQhOjPr2i6y4zZ0e6IhSEsejGWnwLW2+C8VStGEt X-Received: by 2002:a17:90a:f947:b0:2ff:58c7:a71f with SMTP id 98e67ed59e1d1-306dbc40815mr1824252a91.32.1744175683899; Tue, 08 Apr 2025 22:14:43 -0700 (PDT) Received: from postal.iol.unh.edu (postal.iol.unh.edu. [2606:4100:3880:1234::84]) by smtp-relay.gmail.com with ESMTPS id d9443c01a7336-22ac7c971f1sm105845ad.89.2025.04.08.22.14.43 (version=TLS1_2 cipher=ECDHE-ECDSA-AES128-GCM-SHA256 bits=128/128); Tue, 08 Apr 2025 22:14:43 -0700 (PDT) X-Relaying-Domain: iol.unh.edu Date: Tue, 08 Apr 2025 22:14:43 -0700 (PDT) Message-ID: <67f60243.170a0220.85e5a.0299SMTPIN_ADDED_MISSING@mx.google.com> Received: from [172.21.0.7] (unknown [172.18.0.240]) by postal.iol.unh.edu (Postfix) with ESMTP id 2ADC26052471; Wed, 9 Apr 2025 01:14:43 -0400 (EDT) Subject: |SUCCESS| pw152840-152845 [PATCH] [v5,6/6] bus/vmbus: set event for From: dpdklab@iol.unh.edu To: Test Report Cc: dpdk-test-reports@iol.unh.edu In-Reply-To: <1744149236-30264-7-git-send-email-longli@linuxonhyperv.com> References: <1744149236-30264-7-git-send-email-longli@linuxonhyperv.com> Content-Type: text/plain X-BeenThere: test-report@dpdk.org X-Mailman-Version: 2.1.29 Precedence: list List-Id: automatic DPDK test reports List-Unsubscribe: , List-Archive: List-Post: List-Help: List-Subscribe: , Errors-To: test-report-bounces@dpdk.org Test-Label: iol-compile-arm64-testing Test-Status: SUCCESS http://dpdk.org/patch/152845 _Testing PASS_ Submitter: Long Li Date: Tuesday, April 08 2025 21:53:56 DPDK git baseline: Repo:dpdk Branch: master CommitID:0b2f016cd76d4fb382eea54b8a6aaf9474586fbc 152840-152845 --> testing pass Upstream job id: Generic-DPDK-Compile-Meson#378499 Test environment and result as below: +----------------------------------------+--------------------+ | Environment | dpdk_meson_compile | +========================================+====================+ | RHEL9 (ARM) | PASS | +----------------------------------------+--------------------+ | Ubuntu 20.04 ARM GCC Cross Compile | PASS | +----------------------------------------+--------------------+ | Fedora 40 (ARM) | PASS | +----------------------------------------+--------------------+ | Ubuntu 20.04 ARM SVE | PASS | +----------------------------------------+--------------------+ | Debian 12 with MUSDK | PASS | +----------------------------------------+--------------------+ | Fedora 40 (ARM Clang) | PASS | +----------------------------------------+--------------------+ | Fedora 41 (ARM) | PASS | +----------------------------------------+--------------------+ | Ubuntu 22.04 (ARM) | PASS | +----------------------------------------+--------------------+ | CentOS Stream 9 (ARM) | PASS | +----------------------------------------+--------------------+ | Debian 12 (arm) | PASS | +----------------------------------------+--------------------+ | CentOS Stream 10 (ARM) | PASS | +----------------------------------------+--------------------+ | Fedora 41 (ARM Clang) | PASS | +----------------------------------------+--------------------+ | Ubuntu 24.04 (ARM) | PASS | +----------------------------------------+--------------------+ | Ubuntu 20.04 (ARM) | PASS | +----------------------------------------+--------------------+ | Ubuntu 20.04 ARM Clang Cross Compile | PASS | +----------------------------------------+--------------------+ | Ubuntu 20.04 aarch32 GCC Cross Compile | PASS | +----------------------------------------+--------------------+ RHEL9 (ARM) Kernel: Depends on container host Compiler: gcc 11.5.0 20240719 (Red Hat 11.5.0-2) Ubuntu 20.04 ARM GCC Cross Compile Kernel: Depends on container host Compiler: aarch64-linux-gnu-gcc (Ubuntu 9.4.0-1ubuntu1~20.04.2) 9.4.0 Fedora 40 (ARM) Kernel: Depends on container host Compiler: gcc 14.2.1 20240912 (Red Hat 14.2.1-3) Ubuntu 20.04 ARM SVE Kernel: Depends on container host Compiler: gcc (Ubuntu 10.5.0-1ubuntu1~20.04) 10.5.0 Debian 12 with MUSDK Kernel: Depends on container host Compiler: gcc (Debian 12.2.0-14) 12.2.0 Fedora 40 (ARM Clang) Kernel: Depends on container host Compiler: clang 18.1.8 (Fedora 18.1.8-1.fc40) Fedora 41 (ARM) Kernel: Depends on container host Compiler: gcc 14.2.1 20240912 (Red Hat 14.2.1-3) Ubuntu 22.04 (ARM) Kernel: Depends on container host Compiler: gcc (Ubuntu 11.4.0-1ubuntu1~22.04) 11.4.0 CentOS Stream 9 (ARM) Kernel: Depends on container host Compiler: gcc 11.5.0 20240719 (Red Hat 11.5.0-2) Debian 12 (arm) Kernel: Depends on container host Compiler: gcc (Debian 12.2.0-14) 12.2.0 CentOS Stream 10 (ARM) Kernel: Depends on container host Compiler: gcc 14.2.1 20241104 (Red Hat 14.2.1-6) Fedora 41 (ARM Clang) Kernel: Depends on container host Compiler: clang 19.1.5 (Fedora 19.1.5-1.fc41) Ubuntu 24.04 (ARM) Kernel: Depends on container host Compiler: gcc (Ubuntu 13.3.0-6ubuntu2~24.04) 13.3.0 Ubuntu 20.04 (ARM) Kernel: Depends on container host Compiler: gcc (Ubuntu 9.4.0-1ubuntu1~20.04.2) 9.4.0 Ubuntu 20.04 ARM Clang Cross Compile Kernel: Depends on container host Compiler: clang 10.0.0-4ubuntu1 Ubuntu 20.04 aarch32 GCC Cross Compile Kernel: Depends on container host Compiler: gcc 9.4.0 To view detailed results, visit: https://lab.dpdk.org/results/dashboard/patchsets/32974/ UNH-IOL DPDK Community Lab To manage your email subscriptions, visit: https://lab.dpdk.org/results/dashboard/preferences/subscriptions/