From mboxrd@z Thu Jan 1 00:00:00 1970 Return-Path: Received: from mails.dpdk.org (mails.dpdk.org [217.70.189.124]) by inbox.dpdk.org (Postfix) with ESMTP id D4C774653B for ; Wed, 9 Apr 2025 07:44:19 +0200 (CEST) Received: from mails.dpdk.org (localhost [127.0.0.1]) by mails.dpdk.org (Postfix) with ESMTP id ADDFC402D7; Wed, 9 Apr 2025 07:44:19 +0200 (CEST) Received: from mail-pl1-f225.google.com (mail-pl1-f225.google.com [209.85.214.225]) by mails.dpdk.org (Postfix) with ESMTP id 1759D402D3 for ; Wed, 9 Apr 2025 07:44:19 +0200 (CEST) Received: by mail-pl1-f225.google.com with SMTP id d9443c01a7336-227914acd20so2899845ad.1 for ; Tue, 08 Apr 2025 22:44:18 -0700 (PDT) DKIM-Signature: v=1; a=rsa-sha256; c=relaxed/relaxed; d=iol.unh.edu; s=unh-iol; t=1744177458; x=1744782258; darn=dpdk.org; h=references:in-reply-to:cc:to:from:subject:message-id:date:from:to :cc:subject:date:message-id:reply-to; bh=Nh+LPMCY7x8+HoAdCaqtYW4BsXCVJ8aji3cv2ruz27k=; b=hEvdgLaKqJ9JzrbTQ2bspV4/qmQ4BC1PizP3ve0JzdFereGherlGNXR+6g0cpkpTzi 2yPzZcIwlLteGfl1WyLQN/foAbka4kmxCOg2SykQxiT+dzN8a/otEgz4+XpDi28sXh9W N+iVBBechlft4k9s0/bAxNdxwJxYwgFzTx/yM= X-Google-DKIM-Signature: v=1; a=rsa-sha256; c=relaxed/relaxed; d=1e100.net; s=20230601; t=1744177458; x=1744782258; h=references:in-reply-to:cc:to:from:subject:message-id:date :x-gm-message-state:from:to:cc:subject:date:message-id:reply-to; bh=Nh+LPMCY7x8+HoAdCaqtYW4BsXCVJ8aji3cv2ruz27k=; b=ualEwMFoz0gsQCNd1+5CLyVMBt64dzxhKr7boXvgQ+Z2cza2qegnzcZaT8UsXeqLie WkVy2Szf4sQCLBMIu5vSRMKR7kQJv2E3tAbsIwHCrVaddmTIaRpg1bvmNSFwbCvqk1w7 ejP3IwkuxrByVKFmic/+OXf1O09ff/DaZAlvk48FD1yvncpoDBGDAGiFfN2DrXLQbfjo rXbGPhKhaJxy7ZKc4M2RWhHOCsa3soVDtHfVgAWmFdgmvbcPdoFeUQ59pQwq/BKeW//w CEPyDczdakedv1CctipS4GAuxXgaede2uq5AS1w89PSAMpy6DzAhhDsxtH8AlKtsWU9K kBuw== X-Gm-Message-State: AOJu0YwHM6tRbh9zUeTrjSNcZ+jMNrsx3ZfjBJkYzLJpp9bnMhJ0aABF vO+0KqxphiieE2MI6WTBBVdPya22bcToI/RtHj0y/BW2qTyCZuad6dxEdcns7GSMMsR4EcHfcrv uO7G8Co8KMH7rJFO99kLLzBe/nHPoILRYrwKpXaG0 X-Gm-Gg: ASbGnctV5tJIPeFcPMTTeY9Z8spU8rYn85GxTqwq5ivK4fNpsu0t3OMxA9hX9b04edW K9sS6271c5PYfKiOVgxKYX+htfl/Xzo2bjNrJmE1HVDJPcjbZ2D8Ppow9QmqrQEMnIRa3g5sfz7 ypg/cWnRlvcmA2qpwXFsz2wPSD0MZYlWlI4ozzSV13Vt9wF6IvDBmrQiN6V4RceOyILAUONzg+6 rignzgBRbd6mtssOJbwgJFRcVVArDAkw5BbZcWBqddjAGGJnk+6iFZ/vCe7wDb2pLjFR4fwWOX5 v9LHuLAneWWNESr4caYi1hkvsMvB9XbZZMR78f54 X-Google-Smtp-Source: AGHT+IGCuEJze5jK0/4crvvS/o9bSpzS3Ud4eqjZRbuVsuzbaNZd1xv+ic9h85NHC5usOVfLDseQWOECQ738 X-Received: by 2002:a17:902:d4d0:b0:215:742e:5cff with SMTP id d9443c01a7336-22ac32b60f0mr28000715ad.16.1744177458097; Tue, 08 Apr 2025 22:44:18 -0700 (PDT) Received: from postal.iol.unh.edu (postal.iol.unh.edu. [132.177.123.84]) by smtp-relay.gmail.com with ESMTPS id d9443c01a7336-22ac7c93b3dsm161595ad.77.2025.04.08.22.44.17 (version=TLS1_2 cipher=ECDHE-ECDSA-AES128-GCM-SHA256 bits=128/128); Tue, 08 Apr 2025 22:44:18 -0700 (PDT) X-Relaying-Domain: iol.unh.edu Date: Tue, 08 Apr 2025 22:44:18 -0700 (PDT) Message-ID: <67f60932.170a0220.8d574.0459SMTPIN_ADDED_MISSING@mx.google.com> Received: from [172.17.0.5] (unknown [172.18.0.217]) by postal.iol.unh.edu (Postfix) with ESMTP id 4878A6052471; Wed, 9 Apr 2025 01:44:17 -0400 (EDT) Subject: |SUCCESS| pw152847-152848 [PATCH] [v5,3/3] hash_readwrite_autotest: From: dpdklab@iol.unh.edu To: Test Report Cc: dpdk-test-reports@iol.unh.edu In-Reply-To: <1744161658-7874-4-git-send-email-andremue@linux.microsoft.com> References: <1744161658-7874-4-git-send-email-andremue@linux.microsoft.com> Content-Type: text/plain X-BeenThere: test-report@dpdk.org X-Mailman-Version: 2.1.29 Precedence: list List-Id: automatic DPDK test reports List-Unsubscribe: , List-Archive: List-Post: List-Help: List-Subscribe: , Errors-To: test-report-bounces@dpdk.org Test-Label: iol-unit-amd64-testing Test-Status: SUCCESS http://dpdk.org/patch/152848 _Testing PASS_ Submitter: Andre Muezerie Date: Wednesday, April 09 2025 01:20:58 DPDK git baseline: Repo:dpdk Branch: master CommitID:8ee74a69abcf48563f05adeafecd298bb03477a8 152847-152848 --> testing pass Upstream job id: Generic-VM-Unit-Test-DPDK#27872 Test environment and result as below: +---------------------+----------------+ | Environment | dpdk_unit_test | +=====================+================+ | Debian 12 | PASS | +---------------------+----------------+ | Fedora 40 (Clang) | PASS | +---------------------+----------------+ | Fedora 40 | PASS | +---------------------+----------------+ | CentOS Stream 10 | PASS | +---------------------+----------------+ | Fedora 41 (Clang) | PASS | +---------------------+----------------+ | Fedora 41 | PASS | +---------------------+----------------+ | RHEL8 | PASS | +---------------------+----------------+ | CentOS Stream 9 | PASS | +---------------------+----------------+ | Ubuntu 22.04 | PASS | +---------------------+----------------+ | RHEL9 | PASS | +---------------------+----------------+ | Ubuntu 20.04 | PASS | +---------------------+----------------+ | Ubuntu 24.04 | PASS | +---------------------+----------------+ | Windows Server 2022 | PASS | +---------------------+----------------+ Debian 12 Kernel: Depends on container host Compiler: gcc (Debian 12.2.0-14) 12.2.0 Fedora 40 (Clang) Kernel: Depends on container host Compiler: clang 18.1.8 (Fedora 18.1.8-1.fc40) Fedora 40 Kernel: Depends on container host Compiler: gcc 14.2.1 20240912 (Red Hat 14.2.1-3) CentOS Stream 10 Kernel: Depends on container host Compiler: gcc 14.2.1 20241104 (Red Hat 14.2.1-6) Fedora 41 (Clang) Kernel: Depends on container host Compiler: clang 19.1.5 (Fedora 19.1.5-1.fc41) Fedora 41 Kernel: Depends on container host Compiler: gcc 14.2.1 20240912 (Red Hat 14.2.1-3) RHEL8 Kernel: Depends on container host Compiler: gcc 8.5.0 20210514 (Red Hat 8.5.0-22) CentOS Stream 9 Kernel: Depends on container host Compiler: gcc 11.5.0 20240719 (Red Hat 11.5.0-2) Ubuntu 22.04 Kernel: Depends on container host Compiler: gcc (Ubuntu 11.4.0-1ubuntu1~22.04) 11.4.0 RHEL9 Kernel: Depends on container host Compiler: gcc 11.5.0 20240719 (Red Hat 11.5.0-2) Ubuntu 20.04 Kernel: Depends on container host Compiler: gcc (Ubuntu 9.4.0-1ubuntu1~20.04.2) 9.4.0 Ubuntu 24.04 Kernel: Depends on container host Compiler: gcc (Ubuntu 13.3.0-6ubuntu2~24.04) 13.3.0 Windows Server 2022 Kernel: 10.0.20348.2031 Compiler: clang 15.0.7, gcc 14.1.0 (MinGW), and MSVC VS 19.39.33521 To view detailed results, visit: https://lab.dpdk.org/results/dashboard/patchsets/32975/ UNH-IOL DPDK Community Lab To manage your email subscriptions, visit: https://lab.dpdk.org/results/dashboard/preferences/subscriptions/