From mboxrd@z Thu Jan 1 00:00:00 1970 Return-Path: Received: from mails.dpdk.org (mails.dpdk.org [217.70.189.124]) by inbox.dpdk.org (Postfix) with ESMTP id 500EE4653E for ; Wed, 9 Apr 2025 08:17:02 +0200 (CEST) Received: from mails.dpdk.org (localhost [127.0.0.1]) by mails.dpdk.org (Postfix) with ESMTP id 4C37040611; Wed, 9 Apr 2025 08:17:02 +0200 (CEST) Received: from mail-pl1-f226.google.com (mail-pl1-f226.google.com [209.85.214.226]) by mails.dpdk.org (Postfix) with ESMTP id DCA43402B7 for ; Wed, 9 Apr 2025 08:17:00 +0200 (CEST) Received: by mail-pl1-f226.google.com with SMTP id d9443c01a7336-223f4c06e9fso3842845ad.1 for ; Tue, 08 Apr 2025 23:17:00 -0700 (PDT) DKIM-Signature: v=1; a=rsa-sha256; c=relaxed/relaxed; d=iol.unh.edu; s=unh-iol; t=1744179420; x=1744784220; darn=dpdk.org; h=references:in-reply-to:cc:to:from:subject:message-id:date:from:to :cc:subject:date:message-id:reply-to; bh=aHSfFXTr8Tci+ilP2S3nMMuNsnXH2ALK9Sgtb/Ol52M=; b=dXaFaLD+Nuk0CQVzkaa7bI8bztJIGgAhLw8Iu61V/ChezaoPck8d151vOeiLpvTpeS BRqw/sUzBeovvIlKFHJhSas6khx34QcDpIfugwkci34ZmVYcwkbpI44IMbBue7nwz7tM +YF6BGbStKGPDhxB1eSeaDdhifhFUM+GQr1qE= X-Google-DKIM-Signature: v=1; a=rsa-sha256; c=relaxed/relaxed; d=1e100.net; s=20230601; t=1744179420; x=1744784220; h=references:in-reply-to:cc:to:from:subject:message-id:date :x-gm-message-state:from:to:cc:subject:date:message-id:reply-to; bh=aHSfFXTr8Tci+ilP2S3nMMuNsnXH2ALK9Sgtb/Ol52M=; b=pAft9e+AU1FTX24BMiJ0lpHNgECZFIJV3wnx7mJraJ2jgt5X35a7uAoPT2KiPcTRMQ +csEeXxpKGXC2C7WvCzQmsPcthacbQZGdnmLQoGiXaiO6C6d6cA9F9Ljx7tw+iHIkfdu 9JvU7bTHJyGQFWOXi/zyfbX/qcKpjY0gTevIwju77oJnu0RKHcTAIbPhtITASce+hAR8 dFwn3SjsdwK12t8Nj0Z6zN4qo6JXNo+AJAfEhTZdEY2jqkFYqz8IyymydNWzJnD/Wdeg reNh7Gjtl0K19N8BeqoimZq4frLF96gEYpjzpgZK+vbw1h3KBxjw2YqmNcVjmnUNUyjg eH6g== X-Gm-Message-State: AOJu0YzLpttmxCOuAuwgNNCe7sD2D6GPnFWuJqI7QHCLP1uklHNyAdJB 95QpyI18OqXw19oId7H0lP1kZYVqXdNWRYkaR6zTDc8LsGcjXITJ9DYdAXgmFHnprPKwn8miTSq WBJ2ji8zxdEuiTfEimGlWrJkts7LEGv+jEWABPsemYjGR9Qq3RKhTgFNv X-Gm-Gg: ASbGncvwywLtINIM0QxucHOzR3BF6zlr09UxEoHddrUgdOwZsOgkjI3cTCQU8s1Cc2Z Gd3T0WjP+7HFg6Ccemq3tIY8S7ugyCCpFwcxO/zKldsUPSxL5O8Yvdrdl87Mea9jkqELuN5ac05 9suMz8lSmIwjoGhNsZHAMt0HHttyqEciPwmLpctfMnREkfR5Yl/H5gq72FM4mQM6FYvYqXJoIQb 0JZNy6R4J7BW7ih1QDUz0Sj0TZV9Wep34noVvmt4stKbMuIVbVdH62lQV559yWTOauINEefe1aM s3p0HrtF64tdSHDKdP8wsLMRN25Af3nIRCQUYZLiOaiTEViy X-Google-Smtp-Source: AGHT+IEqMahH9CQUo4q6QCV9kGnLAkavoSC/EKjUGqt5tGvjXBk9C5TOLQWq50LDaimH4RvYmw8UQgir6o43 X-Received: by 2002:a17:903:3c6b:b0:215:44fe:163d with SMTP id d9443c01a7336-22ac32b61c6mr28064595ad.17.1744179420054; Tue, 08 Apr 2025 23:17:00 -0700 (PDT) Received: from postal.iol.unh.edu (postal.iol.unh.edu. [2606:4100:3880:1234::84]) by smtp-relay.gmail.com with ESMTPS id d9443c01a7336-22ac7caf6bcsm224565ad.97.2025.04.08.23.16.59 (version=TLS1_2 cipher=ECDHE-ECDSA-AES128-GCM-SHA256 bits=128/128); Tue, 08 Apr 2025 23:17:00 -0700 (PDT) X-Relaying-Domain: iol.unh.edu Date: Tue, 08 Apr 2025 23:17:00 -0700 (PDT) Message-ID: <67f610dc.170a0220.c0d1c.059fSMTPIN_ADDED_MISSING@mx.google.com> Received: from [172.21.0.8] (unknown [172.18.0.240]) by postal.iol.unh.edu (Postfix) with ESMTP id 8209B6052471; Wed, 9 Apr 2025 02:16:59 -0400 (EDT) Subject: |SUCCESS| pw152840-152845 [PATCH] [v5,6/6] bus/vmbus: set event for From: dpdklab@iol.unh.edu To: Test Report Cc: dpdk-test-reports@iol.unh.edu In-Reply-To: <1744149236-30264-7-git-send-email-longli@linuxonhyperv.com> References: <1744149236-30264-7-git-send-email-longli@linuxonhyperv.com> Content-Type: text/plain X-BeenThere: test-report@dpdk.org X-Mailman-Version: 2.1.29 Precedence: list List-Id: automatic DPDK test reports List-Unsubscribe: , List-Archive: List-Post: List-Help: List-Subscribe: , Errors-To: test-report-bounces@dpdk.org Test-Label: iol-unit-amd64-testing Test-Status: SUCCESS http://dpdk.org/patch/152845 _Testing PASS_ Submitter: Long Li Date: Tuesday, April 08 2025 21:53:56 DPDK git baseline: Repo:dpdk Branch: master CommitID:0b2f016cd76d4fb382eea54b8a6aaf9474586fbc 152840-152845 --> testing pass Upstream job id: Generic-VM-Unit-Test-DPDK#27873 Test environment and result as below: +---------------------+----------------+ | Environment | dpdk_unit_test | +=====================+================+ | CentOS Stream 10 | PASS | +---------------------+----------------+ | CentOS Stream 9 | PASS | +---------------------+----------------+ | Fedora 40 | PASS | +---------------------+----------------+ | Debian 12 | PASS | +---------------------+----------------+ | Fedora 41 | PASS | +---------------------+----------------+ | Fedora 40 (Clang) | PASS | +---------------------+----------------+ | RHEL8 | PASS | +---------------------+----------------+ | Fedora 41 (Clang) | PASS | +---------------------+----------------+ | RHEL9 | PASS | +---------------------+----------------+ | Ubuntu 22.04 | PASS | +---------------------+----------------+ | Ubuntu 20.04 | PASS | +---------------------+----------------+ | Ubuntu 24.04 | PASS | +---------------------+----------------+ | Windows Server 2022 | PASS | +---------------------+----------------+ CentOS Stream 10 Kernel: Depends on container host Compiler: gcc 14.2.1 20241104 (Red Hat 14.2.1-6) CentOS Stream 9 Kernel: Depends on container host Compiler: gcc 11.5.0 20240719 (Red Hat 11.5.0-2) Fedora 40 Kernel: Depends on container host Compiler: gcc 14.2.1 20240912 (Red Hat 14.2.1-3) Debian 12 Kernel: Depends on container host Compiler: gcc (Debian 12.2.0-14) 12.2.0 Fedora 41 Kernel: Depends on container host Compiler: gcc 14.2.1 20240912 (Red Hat 14.2.1-3) Fedora 40 (Clang) Kernel: Depends on container host Compiler: clang 18.1.8 (Fedora 18.1.8-1.fc40) RHEL8 Kernel: Depends on container host Compiler: gcc 8.5.0 20210514 (Red Hat 8.5.0-22) Fedora 41 (Clang) Kernel: Depends on container host Compiler: clang 19.1.5 (Fedora 19.1.5-1.fc41) RHEL9 Kernel: Depends on container host Compiler: gcc 11.5.0 20240719 (Red Hat 11.5.0-2) Ubuntu 22.04 Kernel: Depends on container host Compiler: gcc (Ubuntu 11.4.0-1ubuntu1~22.04) 11.4.0 Ubuntu 20.04 Kernel: Depends on container host Compiler: gcc (Ubuntu 9.4.0-1ubuntu1~20.04.2) 9.4.0 Ubuntu 24.04 Kernel: Depends on container host Compiler: gcc (Ubuntu 13.3.0-6ubuntu2~24.04) 13.3.0 Windows Server 2022 Kernel: 10.0.20348.2031 Compiler: clang 15.0.7, gcc 14.1.0 (MinGW), and MSVC VS 19.39.33521 To view detailed results, visit: https://lab.dpdk.org/results/dashboard/patchsets/32974/ UNH-IOL DPDK Community Lab To manage your email subscriptions, visit: https://lab.dpdk.org/results/dashboard/preferences/subscriptions/