From mboxrd@z Thu Jan 1 00:00:00 1970 Return-Path: Received: from mails.dpdk.org (mails.dpdk.org [217.70.189.124]) by inbox.dpdk.org (Postfix) with ESMTP id 44D1E4653E for ; Wed, 9 Apr 2025 08:43:24 +0200 (CEST) Received: from mails.dpdk.org (localhost [127.0.0.1]) by mails.dpdk.org (Postfix) with ESMTP id 4BD2B402ED; Wed, 9 Apr 2025 08:43:23 +0200 (CEST) Received: from mail-il1-f228.google.com (mail-il1-f228.google.com [209.85.166.228]) by mails.dpdk.org (Postfix) with ESMTP id A94A9402B7 for ; Wed, 9 Apr 2025 08:43:21 +0200 (CEST) Received: by mail-il1-f228.google.com with SMTP id e9e14a558f8ab-3cfc8772469so30377645ab.3 for ; Tue, 08 Apr 2025 23:43:21 -0700 (PDT) DKIM-Signature: v=1; a=rsa-sha256; c=relaxed/relaxed; d=iol.unh.edu; s=unh-iol; t=1744181001; x=1744785801; darn=dpdk.org; h=references:in-reply-to:cc:to:from:subject:message-id:date:from:to :cc:subject:date:message-id:reply-to; bh=n7Z2+xl59tS1A30SKZOdPZ1qjvGsAmD8QZMUiEESodY=; b=bLk6bzkqhkPLE3JvjpYNr6EQjCShY8f/A4fEcvlda2COlm+AGBuOPxes/eWNVT2gDB ns/j5POwGRx/sp0HDq/63goEqiI3JQYuMLUoupPuPjwwWvj87h7DHNKUZR1zvKAZ13DW ttFs+7Y5HEfeoFxXmLldUXmDTNsdUCUha1lGw= X-Google-DKIM-Signature: v=1; a=rsa-sha256; c=relaxed/relaxed; d=1e100.net; s=20230601; t=1744181001; x=1744785801; h=references:in-reply-to:cc:to:from:subject:message-id:date :x-gm-message-state:from:to:cc:subject:date:message-id:reply-to; bh=n7Z2+xl59tS1A30SKZOdPZ1qjvGsAmD8QZMUiEESodY=; b=BsOZlwFATa3s9sN/G3HuaB+28GaXtl6UuzIHxlVE5I6Mkf3Fapmk0OlQnJx6ZKYBUA zVbDUkkWeDRHY6B4QFhSZD1B9l6eqcWx6tZdn5MpzM74NTxbWulAaiW50IttpuNZOJiX ClBbUjFZl0JwB67OBInn+E3npVWfoUrehdIynyRpM62/ZY0kngMItiXOLjAsGdEsQWH9 2Z7cswDSb6FCsRd+x1g1PUfMAiPlVOUKtdxQKRnzAePe0e/9T9jMJZsBZKISZR8ZWtWC PkDWUPVOlo2B1chokAQDiJnyU46/FtrB3iH0N0ckP4WGkZtWjCE3guAJ2/Rb7fxjK9BC XlkQ== X-Gm-Message-State: AOJu0Yx3D57ix2bTQHSQN+0Ch14ejgTFiukDJ/jOOACYObEMngoaA7JS oFvQhOPXGh2yH8FgT7TFEkYV0oGDnNtuhJ7c7nmpnVmQylvJogifo/w5s7qyaCH+CGVs61gkfbf fUT/BGyqoycRjhU5BATWqniIhJnP57HrnQWTyF/aR9329eh9u0KpGddWo X-Gm-Gg: ASbGnctjyFbkyepROK+YFrDyYAcs3F9OAcgKU3NIDAZNJSuuVO9AYzgPMHIOpWBrbjx 2Nq4FaKZaBiVDjBbY+ny0DbLyb6mcZSF9OjzhyabhzrI6x+vxn46GrFLD93GqlFFSysItWJXeeR qHWe0pckybLNAb6vFkHI3FdXGLssUPLzXdrvvODeNNfwWWfgLzjpPrmAajLaheKUe4B6tw0+lSJ 0376P1zGUQC8eR5adK1FSba3RyxApzKhgphPTgZCwY+CSCaLoT++GAKcUhiD5i6sAwUKjafOKD1 rgEStmDy7FBBhZv3Ynzx1IAhgliWGJSkmMBj0ExhbnmTJE6Q X-Google-Smtp-Source: AGHT+IH+7fOWKzZfuGfFRG56jDdgqQQipPRS915w5DNkrLnw8D4VuGkjdlWJw3NJA9plunucoC0f/oA4nMzC X-Received: by 2002:a05:6e02:3813:b0:3d2:6768:c4fa with SMTP id e9e14a558f8ab-3d77c2b334dmr19182255ab.21.1744181000668; Tue, 08 Apr 2025 23:43:20 -0700 (PDT) Received: from postal.iol.unh.edu (postal.iol.unh.edu. [2606:4100:3880:1234::84]) by smtp-relay.gmail.com with ESMTPS id e9e14a558f8ab-3d7dc59621bsm861965ab.58.2025.04.08.23.43.20 (version=TLS1_2 cipher=ECDHE-ECDSA-AES128-GCM-SHA256 bits=128/128); Tue, 08 Apr 2025 23:43:20 -0700 (PDT) X-Relaying-Domain: iol.unh.edu Date: Tue, 08 Apr 2025 23:43:20 -0700 (PDT) Message-ID: <67f61708.050a0220.a78c8.1a0eSMTPIN_ADDED_MISSING@mx.google.com> Received: from [172.21.0.5] (unknown [172.18.0.240]) by postal.iol.unh.edu (Postfix) with ESMTP id 5072D6052471; Wed, 9 Apr 2025 02:43:20 -0400 (EDT) Subject: |SUCCESS| pw152839 [PATCH] [v4,1/1] mbuf: enable to be compiled with From: dpdklab@iol.unh.edu To: Test Report Cc: dpdk-test-reports@iol.unh.edu In-Reply-To: <1744147477-23715-2-git-send-email-andremue@linux.microsoft.com> References: <1744147477-23715-2-git-send-email-andremue@linux.microsoft.com> Content-Type: text/plain X-BeenThere: test-report@dpdk.org X-Mailman-Version: 2.1.29 Precedence: list List-Id: automatic DPDK test reports List-Unsubscribe: , List-Archive: List-Post: List-Help: List-Subscribe: , Errors-To: test-report-bounces@dpdk.org Test-Label: iol-abi-testing Test-Status: SUCCESS http://dpdk.org/patch/152839 _Testing PASS_ Submitter: Andre Muezerie Date: Tuesday, April 08 2025 21:24:37 DPDK git baseline: Repo:dpdk Branch: master CommitID:8ee74a69abcf48563f05adeafecd298bb03477a8 152839 --> testing pass Upstream job id: Generic-DPDK-Compile-ABI#122748 Test environment and result as below: +-------------------+----------+ | Environment | abi_test | +===================+==========+ | CentOS Stream 9 | PASS | +-------------------+----------+ | Debian 12 | PASS | +-------------------+----------+ | Fedora 41 (Clang) | PASS | +-------------------+----------+ | openSUSE Leap 15 | PASS | +-------------------+----------+ | Fedora 40 (Clang) | PASS | +-------------------+----------+ | RHEL8 | PASS | +-------------------+----------+ | Fedora 40 | PASS | +-------------------+----------+ | Fedora 41 | PASS | +-------------------+----------+ | Ubuntu 24.04 | PASS | +-------------------+----------+ | Ubuntu 22.04 | PASS | +-------------------+----------+ | RHEL9 | PASS | +-------------------+----------+ | CentOS Stream 10 | PASS | +-------------------+----------+ CentOS Stream 9 Kernel: Depends on container host Compiler: gcc 11.5.0 20240719 (Red Hat 11.5.0-2) Debian 12 Kernel: Depends on container host Compiler: gcc (Debian 12.2.0-14) 12.2.0 Fedora 41 (Clang) Kernel: Depends on container host Compiler: clang 19.1.5 (Fedora 19.1.5-1.fc41) openSUSE Leap 15 Kernel: Depends on container host Compiler: gcc (SUSE Linux) 7.5.0 Fedora 40 (Clang) Kernel: Depends on container host Compiler: clang 18.1.8 (Fedora 18.1.8-1.fc40) RHEL8 Kernel: Depends on container host Compiler: gcc 8.5.0 20210514 (Red Hat 8.5.0-22) Fedora 40 Kernel: Depends on container host Compiler: gcc 14.2.1 20240912 (Red Hat 14.2.1-3) Fedora 41 Kernel: Depends on container host Compiler: gcc 14.2.1 20240912 (Red Hat 14.2.1-3) Ubuntu 24.04 Kernel: Depends on container host Compiler: gcc (Ubuntu 13.3.0-6ubuntu2~24.04) 13.3.0 Ubuntu 22.04 Kernel: Depends on container host Compiler: gcc (Ubuntu 11.4.0-1ubuntu1~22.04) 11.4.0 RHEL9 Kernel: Depends on container host Compiler: gcc 11.5.0 20240719 (Red Hat 11.5.0-2) CentOS Stream 10 Kernel: Depends on container host Compiler: gcc 14.2.1 20241104 (Red Hat 14.2.1-6) To view detailed results, visit: https://lab.dpdk.org/results/dashboard/patchsets/32973/ UNH-IOL DPDK Community Lab To manage your email subscriptions, visit: https://lab.dpdk.org/results/dashboard/preferences/subscriptions/