From mboxrd@z Thu Jan 1 00:00:00 1970 Return-Path: Received: from mails.dpdk.org (mails.dpdk.org [217.70.189.124]) by inbox.dpdk.org (Postfix) with ESMTP id 706CF4653E for ; Wed, 9 Apr 2025 09:01:54 +0200 (CEST) Received: from mails.dpdk.org (localhost [127.0.0.1]) by mails.dpdk.org (Postfix) with ESMTP id 6A351402ED; Wed, 9 Apr 2025 09:01:54 +0200 (CEST) Received: from mail-il1-f226.google.com (mail-il1-f226.google.com [209.85.166.226]) by mails.dpdk.org (Postfix) with ESMTP id 76DEA402B7 for ; Wed, 9 Apr 2025 09:01:53 +0200 (CEST) Received: by mail-il1-f226.google.com with SMTP id e9e14a558f8ab-3ce886a2d5bso62478925ab.1 for ; Wed, 09 Apr 2025 00:01:53 -0700 (PDT) DKIM-Signature: v=1; a=rsa-sha256; c=relaxed/relaxed; d=iol.unh.edu; s=unh-iol; t=1744182113; x=1744786913; darn=dpdk.org; h=references:in-reply-to:cc:to:from:subject:message-id:date:from:to :cc:subject:date:message-id:reply-to; bh=6sGHzkaf4W8ewemqgc9Wv5xsLpv8OGWiWT57wFRT3g8=; b=PdygtHYaH3FIZ0S8h6Quyl15r/E0bUXUOA2rI0IQlKB+gf+/O+G9LpnENxWMWFIFkP w7Eak3rb4qDx5wD8J3QMErPS+dgYaHRQsq4H6CfUepqCt93/FOKUAR/eX2dOD94wpN4c hspNYlwaOjbmeOJNervkZh0tWP9oJh52PL1AE= X-Google-DKIM-Signature: v=1; a=rsa-sha256; c=relaxed/relaxed; d=1e100.net; s=20230601; t=1744182113; x=1744786913; h=references:in-reply-to:cc:to:from:subject:message-id:date :x-gm-message-state:from:to:cc:subject:date:message-id:reply-to; bh=6sGHzkaf4W8ewemqgc9Wv5xsLpv8OGWiWT57wFRT3g8=; b=qBSa5giUiI2X8sOtrcVWgpzy+Hb/EqnONv+hYrELZXX9swGjGZhYF7dOjML6+pWR6i 47n8Vcw2acN9mC7FkapaomzEMgkDbLBiuESgq4624MIXGzvPQ/ffLVVXFvlzb1pOXWBO Y7/eCLAjfV5Y5PTDvlt/F0paXYp1KwzpjLOW2MQB0n26fZg1b2PNbAUonty/A6fUNSHX 38hpC4pgshAylnF/zdhUeLC43pxpV5JZg81mc68WjjColmFfEi+vix5HxthMLelXlsFh AgiBLYGZpHxgjdTwSlXHj9dgnpNCehUIEkGEjzD0QBOfpE/rQY7GgBYgE2RS+vWV6ekt YOQQ== X-Gm-Message-State: AOJu0YyGcQKHVhGFIXJEeQ2mswSq1OZSfu/hvlCIQfSsND8F3iCb2OpL 1XsA7/1c+X7jdTX3KXbuDjFj/XhJ4JoKB9ol6x18pH56NVpy7PLZsEaGa5PqsVzNYGCesA6iNbq NF7M10kKHHpZN5nMQvrpmm1FAiGUAV1aFMoXfxcwX95qnKPxB+IOXnqdI X-Gm-Gg: ASbGnctfq1tfp/sbQAsd6aFjiFixXQNn0jR8PGI19K6YeOOlELCL+DXhhaODXlg0+1+ BXYiVpALzoty3ISH2CCsVOfIvH7cBTPBkwD4yEew6r530JsYXV7REaFR8mKQnSqQVXCXetiLPHq arLAGSVCZBYGQDzIZdREpObiL0Jj67jQ9g6Eirn6UGnZgIhmaR+L+yOaRVyfikN1RQnFrjoGFuh WSADqTHgKE82+KuFbLCRkW8M30UeiutxqgM2l0RXTnoFKnbSBqDr0c/LNTtl3+VPTOC0VWV5KLi 9RL005wr5BzfbzdUp6ARhZySFa2yAHF2Giz/CpCOOjxddsL9 X-Google-Smtp-Source: AGHT+IE1IAh5Vv2KP07EGmG+Q13KYX/ZNBkrL957jNZBQzMivBnsvHcHChRIXvssMvF00tLG0VcRo8zdmwJO X-Received: by 2002:a05:6e02:2165:b0:3d0:4e0c:2c96 with SMTP id e9e14a558f8ab-3d776c93eebmr22818485ab.2.1744182112755; Wed, 09 Apr 2025 00:01:52 -0700 (PDT) Received: from postal.iol.unh.edu (postal.iol.unh.edu. [2606:4100:3880:1234::84]) by smtp-relay.gmail.com with ESMTPS id 8926c6da1cb9f-4f505d173b9sm83210173.16.2025.04.09.00.01.52 (version=TLS1_2 cipher=ECDHE-ECDSA-AES128-GCM-SHA256 bits=128/128); Wed, 09 Apr 2025 00:01:52 -0700 (PDT) X-Relaying-Domain: iol.unh.edu Date: Wed, 09 Apr 2025 00:01:52 -0700 (PDT) Message-ID: <67f61b60.050a0220.1e5e20.18bfSMTPIN_ADDED_MISSING@mx.google.com> Received: from [172.21.0.5] (unknown [172.18.0.240]) by postal.iol.unh.edu (Postfix) with ESMTP id CECC76052471; Wed, 9 Apr 2025 03:01:49 -0400 (EDT) Subject: |SUCCESS| pw152840-152845 [PATCH] [v5,6/6] bus/vmbus: set event for From: dpdklab@iol.unh.edu To: Test Report Cc: dpdk-test-reports@iol.unh.edu In-Reply-To: <1744149236-30264-7-git-send-email-longli@linuxonhyperv.com> References: <1744149236-30264-7-git-send-email-longli@linuxonhyperv.com> Content-Type: text/plain X-BeenThere: test-report@dpdk.org X-Mailman-Version: 2.1.29 Precedence: list List-Id: automatic DPDK test reports List-Unsubscribe: , List-Archive: List-Post: List-Help: List-Subscribe: , Errors-To: test-report-bounces@dpdk.org Test-Label: iol-unit-amd64-testing Test-Status: SUCCESS http://dpdk.org/patch/152845 _Testing PASS_ Submitter: Long Li Date: Tuesday, April 08 2025 21:53:56 DPDK git baseline: Repo:dpdk Branch: master CommitID:0b2f016cd76d4fb382eea54b8a6aaf9474586fbc 152840-152845 --> testing pass Upstream job id: Generic-VM-Unit-Test-DPDK#27874 Test environment and result as below: +---------------------+----------------+ | Environment | dpdk_unit_test | +=====================+================+ | CentOS Stream 10 | PASS | +---------------------+----------------+ | CentOS Stream 9 | PASS | +---------------------+----------------+ | Fedora 40 | PASS | +---------------------+----------------+ | Debian 12 | PASS | +---------------------+----------------+ | Fedora 41 | PASS | +---------------------+----------------+ | Fedora 40 (Clang) | PASS | +---------------------+----------------+ | RHEL8 | PASS | +---------------------+----------------+ | Fedora 41 (Clang) | PASS | +---------------------+----------------+ | RHEL9 | PASS | +---------------------+----------------+ | Ubuntu 22.04 | PASS | +---------------------+----------------+ | Ubuntu 20.04 | PASS | +---------------------+----------------+ | Ubuntu 24.04 | PASS | +---------------------+----------------+ | Windows Server 2022 | PASS | +---------------------+----------------+ CentOS Stream 10 Kernel: Depends on container host Compiler: gcc 14.2.1 20241104 (Red Hat 14.2.1-6) CentOS Stream 9 Kernel: Depends on container host Compiler: gcc 11.5.0 20240719 (Red Hat 11.5.0-2) Fedora 40 Kernel: Depends on container host Compiler: gcc 14.2.1 20240912 (Red Hat 14.2.1-3) Debian 12 Kernel: Depends on container host Compiler: gcc (Debian 12.2.0-14) 12.2.0 Fedora 41 Kernel: Depends on container host Compiler: gcc 14.2.1 20240912 (Red Hat 14.2.1-3) Fedora 40 (Clang) Kernel: Depends on container host Compiler: clang 18.1.8 (Fedora 18.1.8-1.fc40) RHEL8 Kernel: Depends on container host Compiler: gcc 8.5.0 20210514 (Red Hat 8.5.0-22) Fedora 41 (Clang) Kernel: Depends on container host Compiler: clang 19.1.5 (Fedora 19.1.5-1.fc41) RHEL9 Kernel: Depends on container host Compiler: gcc 11.5.0 20240719 (Red Hat 11.5.0-2) Ubuntu 22.04 Kernel: Depends on container host Compiler: gcc (Ubuntu 11.4.0-1ubuntu1~22.04) 11.4.0 Ubuntu 20.04 Kernel: Depends on container host Compiler: gcc (Ubuntu 9.4.0-1ubuntu1~20.04.2) 9.4.0 Ubuntu 24.04 Kernel: Depends on container host Compiler: gcc (Ubuntu 13.3.0-6ubuntu2~24.04) 13.3.0 Windows Server 2022 Kernel: 10.0.20348.2031 Compiler: clang 15.0.7, gcc 14.1.0 (MinGW), and MSVC VS 19.39.33521 To view detailed results, visit: https://lab.dpdk.org/results/dashboard/patchsets/32974/ UNH-IOL DPDK Community Lab To manage your email subscriptions, visit: https://lab.dpdk.org/results/dashboard/preferences/subscriptions/