From mboxrd@z Thu Jan  1 00:00:00 1970
Return-Path: <test-report-bounces@dpdk.org>
Received: from mails.dpdk.org (mails.dpdk.org [217.70.189.124])
	by inbox.dpdk.org (Postfix) with ESMTP id BCA3646543
	for <public@inbox.dpdk.org>; Wed,  9 Apr 2025 12:01:13 +0200 (CEST)
Received: from mails.dpdk.org (localhost [127.0.0.1])
	by mails.dpdk.org (Postfix) with ESMTP id AA1C3402D5;
	Wed,  9 Apr 2025 12:01:13 +0200 (CEST)
Received: from mail-pl1-f225.google.com (mail-pl1-f225.google.com
 [209.85.214.225])
 by mails.dpdk.org (Postfix) with ESMTP id 61D54402B7
 for <test-report@dpdk.org>; Wed,  9 Apr 2025 12:01:12 +0200 (CEST)
Received: by mail-pl1-f225.google.com with SMTP id
 d9443c01a7336-2295d78b45cso87432085ad.0
 for <test-report@dpdk.org>; Wed, 09 Apr 2025 03:01:12 -0700 (PDT)
DKIM-Signature: v=1; a=rsa-sha256; c=relaxed/relaxed;
 d=iol.unh.edu; s=unh-iol; t=1744192871; x=1744797671; darn=dpdk.org;
 h=references:in-reply-to:cc:to:from:subject:message-id:date:from:to
 :cc:subject:date:message-id:reply-to;
 bh=YLT86SLGqjs00h8nVjfNV4O3IFDQoMOMjbJpeyOvQA4=;
 b=O9qE+t8Q6scE2fY1GDBTZMwtPfSLtlHR2ABBonrAPR6w/mUWpRk+8RUJPsA3Q15uee
 n/1LZOS6JPcOIIRPthXdkA7lqA6odlhzwkHcuruDlkDXn85MJSh3+snehaiCswfFobNM
 OJ3PY1y2dpTWeg89BJMhzuIwOGTNWb4W3HC+o=
X-Google-DKIM-Signature: v=1; a=rsa-sha256; c=relaxed/relaxed;
 d=1e100.net; s=20230601; t=1744192871; x=1744797671;
 h=references:in-reply-to:cc:to:from:subject:message-id:date
 :x-gm-message-state:from:to:cc:subject:date:message-id:reply-to;
 bh=YLT86SLGqjs00h8nVjfNV4O3IFDQoMOMjbJpeyOvQA4=;
 b=cuaI9MpsAkYQ52WVCmfVNyu0ejH/pITeJdRAsdqPRZ4ghC58vKCCwJ2mJ7fH4G86hl
 5t7b6fLme67X1bo68wTrY22yOVkwd+g3ejA0GPju/JetXQ2I6lmdUIxBTj8UQ+fgMg+E
 l2pOtFg4D1P0+4wKkMsmxj/0nXPkc+DbN8qzlVXBNcev2b8EpiuuZD6yY4H1yfNUwRQh
 ZNc8SXUtShTFrGQU4zrO7YhsR9FhgKtiQeFeXuGy/trK1zRS/Oa8sZ4JX5xH+BkuNCYl
 oJws+h/sh43TSCoRBmm547rVPaK324jLDcfMpHrPMph7fIeqt0Nzi4XkmL0U2RWR+P10
 T2Lg==
X-Gm-Message-State: AOJu0Yy85Z8r8su/KoT9pnfropdshNByFUpnuqu9je3CGTOTOoAfYTFQ
 zYsQARtmCD/4Ml+dC5cGms3izEz9hvrzLVPFRLxCOdSgxtMepwogjOHToe7a04dIgJHBRAnorFd
 JsmLiukHz67zG8WXmHvVEC0YjdBoZFXOyAkaPxkWNp982oizzCjoNqh8+
X-Gm-Gg: ASbGncuy80V/e3lcPXzr4/CV6F1oDgyfMvyk9gV9+uvzA9idtkrW4oGwY81f9eass8T
 ZssZ9iDnbobPpnAij5UKmuaW4jguuVrvR04i1pLunpJyRkIlrzKdHvxeh4pQ0haT11MCAesld5L
 Gg7pr2UaIbXYutdes9Cp+FJYcfEIg5M0HbEVM3Rg1BBaC7+3acgQIn1zyTz6EYnh9KojYZAKXMM
 yVOi3cTEXx4Nl4/RwF3AJJ1gcvd4Qjo8EEjHIJGHB21bPO+zAxSugztSsBqENvHOo4JXCCDxzeO
 Mn84t/lf6SjW4HIJ0+Tp0GzRJWE7XGrH9oTjcDW+GSe41fW+
X-Google-Smtp-Source: AGHT+IFj4t6Vb9ZixLksNUc2IYOX2N4bsB1U2MDsDTFHZjCBk3mmbngEd8t729RZ2fc8P2PFg0Z459IZKRYu
X-Received: by 2002:a17:902:ec91:b0:223:f928:4553 with SMTP id
 d9443c01a7336-22ac4002b75mr29740095ad.44.1744192871446; 
 Wed, 09 Apr 2025 03:01:11 -0700 (PDT)
Received: from postal.iol.unh.edu (postal.iol.unh.edu.
 [2606:4100:3880:1234::84]) by smtp-relay.gmail.com with ESMTPS id
 d9443c01a7336-22ac7cc9193sm498315ad.127.2025.04.09.03.01.11
 (version=TLS1_2 cipher=ECDHE-ECDSA-AES128-GCM-SHA256 bits=128/128);
 Wed, 09 Apr 2025 03:01:11 -0700 (PDT)
X-Relaying-Domain: iol.unh.edu
Date: Wed, 09 Apr 2025 03:01:11 -0700 (PDT)
Message-ID: <67f64567.170a0220.20728a.0fb1SMTPIN_ADDED_MISSING@mx.google.com>
Received: from [172.21.0.7] (unknown [172.18.0.240])
 by postal.iol.unh.edu (Postfix) with ESMTP id 939646052471;
 Wed,  9 Apr 2025 06:01:08 -0400 (EDT)
Subject: |SUCCESS| pw152839 [PATCH] [v4,1/1] mbuf: enable to be compiled with
From: dpdklab@iol.unh.edu
To: Test Report <test-report@dpdk.org>
Cc: dpdk-test-reports@iol.unh.edu
In-Reply-To: <1744147477-23715-2-git-send-email-andremue@linux.microsoft.com>
References: <1744147477-23715-2-git-send-email-andremue@linux.microsoft.com>
Content-Type: text/plain
X-BeenThere: test-report@dpdk.org
X-Mailman-Version: 2.1.29
Precedence: list
List-Id: automatic DPDK test reports <test-report.dpdk.org>
List-Unsubscribe: <https://mails.dpdk.org/options/test-report>,
 <mailto:test-report-request@dpdk.org?subject=unsubscribe>
List-Archive: <http://mails.dpdk.org/archives/test-report/>
List-Post: <mailto:test-report@dpdk.org>
List-Help: <mailto:test-report-request@dpdk.org?subject=help>
List-Subscribe: <https://mails.dpdk.org/listinfo/test-report>,
 <mailto:test-report-request@dpdk.org?subject=subscribe>
Errors-To: test-report-bounces@dpdk.org

Test-Label: iol-unit-amd64-testing
Test-Status: SUCCESS
http://dpdk.org/patch/152839

_Testing PASS_

Submitter: Andre Muezerie <andremue@linux.microsoft.com>
Date: Tuesday, April 08 2025 21:24:37 
DPDK git baseline: Repo:dpdk
  Branch: master
  CommitID:8ee74a69abcf48563f05adeafecd298bb03477a8

152839 --> testing pass

Upstream job id: Generic-VM-Unit-Test-DPDK#27877

Test environment and result as below:

+---------------------+----------------+
|     Environment     | dpdk_unit_test |
+=====================+================+
| Debian 12           | PASS           |
+---------------------+----------------+
| CentOS Stream 9     | PASS           |
+---------------------+----------------+
| CentOS Stream 10    | PASS           |
+---------------------+----------------+
| Fedora 40           | PASS           |
+---------------------+----------------+
| Fedora 40 (Clang)   | PASS           |
+---------------------+----------------+
| RHEL8               | PASS           |
+---------------------+----------------+
| Fedora 41 (Clang)   | PASS           |
+---------------------+----------------+
| Fedora 41           | PASS           |
+---------------------+----------------+
| RHEL9               | PASS           |
+---------------------+----------------+
| Ubuntu 20.04        | PASS           |
+---------------------+----------------+
| Ubuntu 24.04        | PASS           |
+---------------------+----------------+
| Ubuntu 22.04        | PASS           |
+---------------------+----------------+
| Windows Server 2022 | PASS           |
+---------------------+----------------+


Debian 12
	Kernel: Depends on container host
	Compiler: gcc (Debian 12.2.0-14) 12.2.0

CentOS Stream 9
	Kernel: Depends on container host
	Compiler: gcc 11.5.0 20240719 (Red Hat 11.5.0-2)

CentOS Stream 10
	Kernel: Depends on container host
	Compiler: gcc 14.2.1 20241104 (Red Hat 14.2.1-6)

Fedora 40
	Kernel: Depends on container host
	Compiler: gcc 14.2.1 20240912 (Red Hat 14.2.1-3)

Fedora 40 (Clang)
	Kernel: Depends on container host
	Compiler: clang 18.1.8 (Fedora 18.1.8-1.fc40)

RHEL8
	Kernel: Depends on container host
	Compiler: gcc 8.5.0 20210514 (Red Hat 8.5.0-22)

Fedora 41 (Clang)
	Kernel: Depends on container host
	Compiler: clang 19.1.5 (Fedora 19.1.5-1.fc41)

Fedora 41
	Kernel: Depends on container host
	Compiler: gcc 14.2.1 20240912 (Red Hat 14.2.1-3)

RHEL9
	Kernel: Depends on container host
	Compiler: gcc 11.5.0 20240719 (Red Hat 11.5.0-2)

Ubuntu 20.04
	Kernel: Depends on container host
	Compiler: gcc (Ubuntu 9.4.0-1ubuntu1~20.04.2) 9.4.0

Ubuntu 24.04
	Kernel: Depends on container host
	Compiler: gcc (Ubuntu 13.3.0-6ubuntu2~24.04) 13.3.0

Ubuntu 22.04
	Kernel: Depends on container host
	Compiler: gcc (Ubuntu 11.4.0-1ubuntu1~22.04) 11.4.0

Windows Server 2022
	Kernel: 10.0.20348.2031
	Compiler: clang 15.0.7, gcc 14.1.0 (MinGW), and MSVC VS 19.39.33521

To view detailed results, visit:
https://lab.dpdk.org/results/dashboard/patchsets/32973/

UNH-IOL DPDK Community Lab

To manage your email subscriptions, visit: 
https://lab.dpdk.org/results/dashboard/preferences/subscriptions/