From mboxrd@z Thu Jan 1 00:00:00 1970 Return-Path: Received: from mails.dpdk.org (mails.dpdk.org [217.70.189.124]) by inbox.dpdk.org (Postfix) with ESMTP id 7C0DD46543 for ; Wed, 9 Apr 2025 12:27:54 +0200 (CEST) Received: from mails.dpdk.org (localhost [127.0.0.1]) by mails.dpdk.org (Postfix) with ESMTP id 50EF4402E9; Wed, 9 Apr 2025 12:27:54 +0200 (CEST) Received: from mail-io1-f100.google.com (mail-io1-f100.google.com [209.85.166.100]) by mails.dpdk.org (Postfix) with ESMTP id 6FA7C402B7 for ; Wed, 9 Apr 2025 12:27:53 +0200 (CEST) Received: by mail-io1-f100.google.com with SMTP id ca18e2360f4ac-855bd88ee2cso164328039f.0 for ; Wed, 09 Apr 2025 03:27:53 -0700 (PDT) DKIM-Signature: v=1; a=rsa-sha256; c=relaxed/relaxed; d=iol.unh.edu; s=unh-iol; t=1744194472; x=1744799272; darn=dpdk.org; h=references:in-reply-to:cc:to:from:subject:message-id:date:from:to :cc:subject:date:message-id:reply-to; bh=3BfSshVhVgM1gs/PTtRgwCVXGA5+NtMRJjxyv1KCtiE=; b=hWoWcmB+/KIAImHmhoMMZH85BxJloQBHoT6qSMT1eOXE/FphhRgUNrDjTd6acQFxQq APpfLFnAQLbvegvOC8v3mijNFFK2s5fKyXQZfKCmqkR1qEVQrpUQhFeb1hkkGcTd4vtk L7Tp8hbDT42aCtZSHoeVEmD5/aHIF56T8DHMo= X-Google-DKIM-Signature: v=1; a=rsa-sha256; c=relaxed/relaxed; d=1e100.net; s=20230601; t=1744194472; x=1744799272; h=references:in-reply-to:cc:to:from:subject:message-id:date :x-gm-message-state:from:to:cc:subject:date:message-id:reply-to; bh=3BfSshVhVgM1gs/PTtRgwCVXGA5+NtMRJjxyv1KCtiE=; b=jMJ7vXawAN5Z2f5YJieWhBFbUuRIx9HTEjQc5lmSvkWxHaDAiuA++O8/YTFTMYyA7W dHSPquOMUMvJwrcEmiaJEyFmQG4KMhS4jSb54t8MVrVbGK2F8Cuy/oiz3B2XD3RVB0Cu jQbFs7Cb0ZrtN/Il3vCLR9tbmGpNT42x8ViJPMNiQJlj03HW2q0sDtLoD1xmuNvHXD/q rOfjeYjwJ04UCyGoYnBcWgFK3gjnfO6HiEv2bFdySwZmOtMSRrQ2a/AWAXS3SVYJto4L DYDlLzh5dVEfALl50kpHd9P9zRqcy+7/aBZ8AyhScISZL6mnfDSH4vxNTm83/m2825IP tC8Q== X-Gm-Message-State: AOJu0YzlJKo2HejJT8pgJkQEnOey5+NAFYBvjjb/1dJ8H3lEBmftH8kq 5C/Y2R+mR41tEvU9aueJ0JK15DM4wvAzUn17Wh1QIN9TzH47+yiPYxhrX2aFvV2svdsqs2fOmsb x6Xo+duRiX2blpM/ZVKKKJ4KdCHD7W8KXEpwj7L0g X-Gm-Gg: ASbGncs6tdSpykYIDwEELw2l8ocS0Kxc45LPtN3MLgJYrwIEiCTwQhIEetvLA4u+p/N 8PbVAU36YdiwNR6lPuVoZ2FcXOaTm5gV/4zRTGAKqDhDYEWTxB6s8rVao3FO3uQY67B/+e2K8/5 MMjbmuIWif4Y3gf71eIHrCe15TjM6qNjcfw9P/cFELfTNY6vW8JVBLOZOVeY0jK0Mm2MlOvXcs6 m+QKVSHple2CZbiELH45xkSX/o3KK4JR6s76DtSGUOHyO4wzQUujNB1YvjL7h1DPQe98Owd4czt kG/Q2Am6++A9f5zSkOUlFIRVeNm3SF3kgoh0 X-Google-Smtp-Source: AGHT+IFWiLtTwNriWwP9WML1/Mx4Q+RL2uNmKqpNnaDOEzf0N8inNvPOqJGk7wUNIiwujAelmSV2amoVFUB4 X-Received: by 2002:a05:6602:398c:b0:85b:3d1e:2e23 with SMTP id ca18e2360f4ac-861612a147bmr281616439f.12.1744194472699; Wed, 09 Apr 2025 03:27:52 -0700 (PDT) Received: from postal.iol.unh.edu (postal.iol.unh.edu. [132.177.123.84]) by smtp-relay.gmail.com with ESMTPS id ca18e2360f4ac-861656c8facsm8434039f.24.2025.04.09.03.27.52 (version=TLS1_2 cipher=ECDHE-ECDSA-AES128-GCM-SHA256 bits=128/128); Wed, 09 Apr 2025 03:27:52 -0700 (PDT) X-Relaying-Domain: iol.unh.edu Date: Wed, 09 Apr 2025 03:27:52 -0700 (PDT) Message-ID: <67f64ba8.050a0220.f6bb0.1bcdSMTPIN_ADDED_MISSING@mx.google.com> Received: from [172.21.0.6] (unknown [172.18.0.240]) by postal.iol.unh.edu (Postfix) with ESMTP id CE4A66052471; Wed, 9 Apr 2025 06:27:49 -0400 (EDT) Subject: |SUCCESS| pw152840-152845 [PATCH] [v5,6/6] bus/vmbus: set event for From: dpdklab@iol.unh.edu To: Test Report Cc: dpdk-test-reports@iol.unh.edu In-Reply-To: <1744149236-30264-7-git-send-email-longli@linuxonhyperv.com> References: <1744149236-30264-7-git-send-email-longli@linuxonhyperv.com> Content-Type: text/plain X-BeenThere: test-report@dpdk.org X-Mailman-Version: 2.1.29 Precedence: list List-Id: automatic DPDK test reports List-Unsubscribe: , List-Archive: List-Post: List-Help: List-Subscribe: , Errors-To: test-report-bounces@dpdk.org Test-Label: iol-sample-apps-testing Test-Status: SUCCESS http://dpdk.org/patch/152845 _Testing PASS_ Submitter: Long Li Date: Tuesday, April 08 2025 21:53:56 DPDK git baseline: Repo:dpdk Branch: master CommitID:0b2f016cd76d4fb382eea54b8a6aaf9474586fbc 152840-152845 --> testing pass Upstream job id: ACVP-FIPS-testing#9487 Test environment and result as below: +--------------------+----------------------+----------------------+ | Environment | compressdev_zlib_pmd | dpdk_fips_validation | +====================+======================+======================+ | Ubuntu 22.04 (ARM) | PASS | SKIPPED | +--------------------+----------------------+----------------------+ | Ubuntu 22.04 | PASS | SKIPPED | +--------------------+----------------------+----------------------+ | Ubuntu 20.04 | SKIPPED | PASS | +--------------------+----------------------+----------------------+ Ubuntu 22.04 (ARM) Kernel: 5.15.0-97-generic Compiler: gcc gcc (Ubuntu 11.4.0-1ubuntu1~22.04) 11.4.0 Ubuntu 22.04 Kernel: 5.15.0-100-generic Compiler: gcc gcc (Ubuntu 11.4.0-1ubuntu1~22.04) 11.4.0 Ubuntu 20.04 Kernel: Depends on container host Compiler: gcc (Ubuntu 9.4.0-1ubuntu1~20.04.2) 9.4.0 To view detailed results, visit: https://lab.dpdk.org/results/dashboard/patchsets/32974/ UNH-IOL DPDK Community Lab To manage your email subscriptions, visit: https://lab.dpdk.org/results/dashboard/preferences/subscriptions/