From mboxrd@z Thu Jan 1 00:00:00 1970 Return-Path: Received: from mails.dpdk.org (mails.dpdk.org [217.70.189.124]) by inbox.dpdk.org (Postfix) with ESMTP id 91A4B46543 for ; Wed, 9 Apr 2025 12:29:37 +0200 (CEST) Received: from mails.dpdk.org (localhost [127.0.0.1]) by mails.dpdk.org (Postfix) with ESMTP id 8D10B402E9; Wed, 9 Apr 2025 12:29:37 +0200 (CEST) Received: from mail-il1-f225.google.com (mail-il1-f225.google.com [209.85.166.225]) by mails.dpdk.org (Postfix) with ESMTP id 8BE57402B7 for ; Wed, 9 Apr 2025 12:29:36 +0200 (CEST) Received: by mail-il1-f225.google.com with SMTP id e9e14a558f8ab-3d46aaf36a2so50168915ab.3 for ; Wed, 09 Apr 2025 03:29:36 -0700 (PDT) DKIM-Signature: v=1; a=rsa-sha256; c=relaxed/relaxed; d=iol.unh.edu; s=unh-iol; t=1744194576; x=1744799376; darn=dpdk.org; h=references:in-reply-to:cc:to:from:subject:message-id:date:from:to :cc:subject:date:message-id:reply-to; bh=j2tG2WDmh73J9NN1/yzNBizTx8wX549uLB7oxtX3uqA=; b=JSTtFhdwG52teXKogkEGSq2LOs5Y1cmBoKa5kI+/NqUr0LgJuNIUMinYVUUY5hJtBv 9IKtPHYJX5mJ2Q+H7B8QUfd1nixLcch7i50JVJb4agvEghxPJzKqsxm1c/jzpBxW7y9q 3s4evDHN+0JWZtYHsxKAQpYYqJfRx1IOUbJKM= X-Google-DKIM-Signature: v=1; a=rsa-sha256; c=relaxed/relaxed; d=1e100.net; s=20230601; t=1744194576; x=1744799376; h=references:in-reply-to:cc:to:from:subject:message-id:date :x-gm-message-state:from:to:cc:subject:date:message-id:reply-to; bh=j2tG2WDmh73J9NN1/yzNBizTx8wX549uLB7oxtX3uqA=; b=jxZUH53c8V3CEpspKG01zenH2Z49e7tum1AAXLwY9MOwl69UOCTMRm+3rTTsvBQkyD nG2iVoQvYaHvZBJ9etVze3wMw8VkXUBLkD7aWE0MZ7n1Ixe1P0HyTOHOzkE4Mip3O/Rd Z7XhGuWTKD5M6/za2K05tPgnaNJ1sVJxmktszwGa5e1bXakCENEvZCspgHwrwsjKO7Io 2MvIDmFeLYFT88IiNXDeuKe0HJ2+oXO+cf1lFbqi1gF1a9aSwKwk4A+QwmjhG76haA53 l8Z6hFeSQRp+p7oicDnsopySMCma3dZ6HT1JQjy/y7MDeTYSm7+eOLgSCul/qQk0EEY1 2Pyg== X-Gm-Message-State: AOJu0YzGbF8dd8ZcDQHc2djAg66qH3J7vmP2phXpymdZf5bfzwB0rv1n MPi0O92DgbRT5hgajq9bIidPogoklDHKjjTQONZvasKH5+CJyoBlX7CXy3NG086ecJMiD5GEjYc lOH6C2pJDiE9V4dfQQJ7xuICEjaLnfevpjgdMgiM4aq2dHqNZ67pcYPtj X-Gm-Gg: ASbGnctRDfBy1PyzrmrLecibXNRwyqnFLvs7YjcooffQb+hZeZFOnewl+DYeu7/NbKa a5iVTwX0Ij/8Bf36rBRnb7fU5pH9qB+7ID3kAglc5zQWlX3vG3mJ/Xj+uT+0/48J7lpzI4Ha5ge KCqlu+4Oo11uNp/MjalDtsOPxZAUAncJ4ru6tn/517OQZ8UfodZEsvgwGegQ7bu73HOBt3Uyw5g 1wmFgjLZhaMh6PmROGDTvQEDYO/mBYuac688x+eTQQsD1GZFSdk3kTD3E1obGi0maOhqBWknq3s q9YcqhnrtUcjj8GecHQiVtr5Trd310afjm+wPQvi4trlj99f X-Google-Smtp-Source: AGHT+IELucsCg47rSmwqXNqTEHIbUeuyY1kIsDoWEeRhFG5mz3KVfNaJauJY2hZxnf9VZyhh4WmZ/I4ObpiA X-Received: by 2002:a05:6e02:2289:b0:3d0:10a6:99aa with SMTP id e9e14a558f8ab-3d776c93e8bmr26767745ab.4.1744194575698; Wed, 09 Apr 2025 03:29:35 -0700 (PDT) Received: from postal.iol.unh.edu (postal.iol.unh.edu. [2606:4100:3880:1234::84]) by smtp-relay.gmail.com with ESMTPS id 8926c6da1cb9f-4f505d18893sm106237173.22.2025.04.09.03.29.35 (version=TLS1_2 cipher=ECDHE-ECDSA-AES128-GCM-SHA256 bits=128/128); Wed, 09 Apr 2025 03:29:35 -0700 (PDT) X-Relaying-Domain: iol.unh.edu Date: Wed, 09 Apr 2025 03:29:35 -0700 (PDT) Message-ID: <67f64c0f.050a0220.edbbe.2c99SMTPIN_ADDED_MISSING@mx.google.com> Received: from [172.21.0.6] (unknown [172.18.0.240]) by postal.iol.unh.edu (Postfix) with ESMTP id CD8F36052471; Wed, 9 Apr 2025 06:29:32 -0400 (EDT) Subject: |SUCCESS| pw152839 [PATCH] [v4,1/1] mbuf: enable to be compiled with From: dpdklab@iol.unh.edu To: Test Report Cc: dpdk-test-reports@iol.unh.edu In-Reply-To: <1744147477-23715-2-git-send-email-andremue@linux.microsoft.com> References: <1744147477-23715-2-git-send-email-andremue@linux.microsoft.com> Content-Type: text/plain X-BeenThere: test-report@dpdk.org X-Mailman-Version: 2.1.29 Precedence: list List-Id: automatic DPDK test reports List-Unsubscribe: , List-Archive: List-Post: List-Help: List-Subscribe: , Errors-To: test-report-bounces@dpdk.org Test-Label: iol-unit-amd64-testing Test-Status: SUCCESS http://dpdk.org/patch/152839 _Testing PASS_ Submitter: Andre Muezerie Date: Tuesday, April 08 2025 21:24:37 DPDK git baseline: Repo:dpdk Branch: master CommitID:8ee74a69abcf48563f05adeafecd298bb03477a8 152839 --> testing pass Upstream job id: Generic-VM-Unit-Test-DPDK#27878 Test environment and result as below: +---------------------+----------------+ | Environment | dpdk_unit_test | +=====================+================+ | Debian 12 | PASS | +---------------------+----------------+ | CentOS Stream 9 | PASS | +---------------------+----------------+ | CentOS Stream 10 | PASS | +---------------------+----------------+ | Fedora 40 | PASS | +---------------------+----------------+ | Fedora 40 (Clang) | PASS | +---------------------+----------------+ | RHEL8 | PASS | +---------------------+----------------+ | Fedora 41 (Clang) | PASS | +---------------------+----------------+ | Fedora 41 | PASS | +---------------------+----------------+ | RHEL9 | PASS | +---------------------+----------------+ | Ubuntu 20.04 | PASS | +---------------------+----------------+ | Ubuntu 24.04 | PASS | +---------------------+----------------+ | Ubuntu 22.04 | PASS | +---------------------+----------------+ | Windows Server 2022 | PASS | +---------------------+----------------+ Debian 12 Kernel: Depends on container host Compiler: gcc (Debian 12.2.0-14) 12.2.0 CentOS Stream 9 Kernel: Depends on container host Compiler: gcc 11.5.0 20240719 (Red Hat 11.5.0-2) CentOS Stream 10 Kernel: Depends on container host Compiler: gcc 14.2.1 20241104 (Red Hat 14.2.1-6) Fedora 40 Kernel: Depends on container host Compiler: gcc 14.2.1 20240912 (Red Hat 14.2.1-3) Fedora 40 (Clang) Kernel: Depends on container host Compiler: clang 18.1.8 (Fedora 18.1.8-1.fc40) RHEL8 Kernel: Depends on container host Compiler: gcc 8.5.0 20210514 (Red Hat 8.5.0-22) Fedora 41 (Clang) Kernel: Depends on container host Compiler: clang 19.1.5 (Fedora 19.1.5-1.fc41) Fedora 41 Kernel: Depends on container host Compiler: gcc 14.2.1 20240912 (Red Hat 14.2.1-3) RHEL9 Kernel: Depends on container host Compiler: gcc 11.5.0 20240719 (Red Hat 11.5.0-2) Ubuntu 20.04 Kernel: Depends on container host Compiler: gcc (Ubuntu 9.4.0-1ubuntu1~20.04.2) 9.4.0 Ubuntu 24.04 Kernel: Depends on container host Compiler: gcc (Ubuntu 13.3.0-6ubuntu2~24.04) 13.3.0 Ubuntu 22.04 Kernel: Depends on container host Compiler: gcc (Ubuntu 11.4.0-1ubuntu1~22.04) 11.4.0 Windows Server 2022 Kernel: 10.0.20348.2031 Compiler: clang 15.0.7, gcc 14.1.0 (MinGW), and MSVC VS 19.39.33521 To view detailed results, visit: https://lab.dpdk.org/results/dashboard/patchsets/32973/ UNH-IOL DPDK Community Lab To manage your email subscriptions, visit: https://lab.dpdk.org/results/dashboard/preferences/subscriptions/