From mboxrd@z Thu Jan 1 00:00:00 1970 Return-Path: Received: from mails.dpdk.org (mails.dpdk.org [217.70.189.124]) by inbox.dpdk.org (Postfix) with ESMTP id 0D93646543 for ; Wed, 9 Apr 2025 12:32:45 +0200 (CEST) Received: from mails.dpdk.org (localhost [127.0.0.1]) by mails.dpdk.org (Postfix) with ESMTP id DA0F4402E9; Wed, 9 Apr 2025 12:32:44 +0200 (CEST) Received: from mail-il1-f228.google.com (mail-il1-f228.google.com [209.85.166.228]) by mails.dpdk.org (Postfix) with ESMTP id 0904B402B7 for ; Wed, 9 Apr 2025 12:32:43 +0200 (CEST) Received: by mail-il1-f228.google.com with SMTP id e9e14a558f8ab-3ce868498d3so27828795ab.3 for ; Wed, 09 Apr 2025 03:32:43 -0700 (PDT) DKIM-Signature: v=1; a=rsa-sha256; c=relaxed/relaxed; d=iol.unh.edu; s=unh-iol; t=1744194763; x=1744799563; darn=dpdk.org; h=references:in-reply-to:cc:to:from:subject:message-id:date:from:to :cc:subject:date:message-id:reply-to; bh=adERhRksA6NRuCM/pJdXA60yK8CCViT1FC3bGZmtLUk=; b=BgsDLKEDMtEOuN7ARaAXJacQy2fB2PF27U8wn+prMkcGZtb+kYY36X1qNQ2zs3JdCd oUq8ihOmNqYm3aXLh/3EJONVUIS41QJFcjmyLD1m3MXB0iavAz+aQoflXVaml1Ti3zI1 4B7SzBCqpYQ1TNQiQ7HnECGts8AMnNGDnxW4k= X-Google-DKIM-Signature: v=1; a=rsa-sha256; c=relaxed/relaxed; d=1e100.net; s=20230601; t=1744194763; x=1744799563; h=references:in-reply-to:cc:to:from:subject:message-id:date :x-gm-message-state:from:to:cc:subject:date:message-id:reply-to; bh=adERhRksA6NRuCM/pJdXA60yK8CCViT1FC3bGZmtLUk=; b=iUkzAtURHjoKktGXO1wCpJ4M+LZr5l79fx9aGVjTmVa+xNrHS7gtkPZ011AYI3ZRYT zuZJ3W0Su5T1BN0276HoNS3r6tDc3UKuqtV26Ep0Wlx17LqlGwub/ADaWRzfXQsLroca Xj/Z9HLuf6URi8hbAz6o6zxoVxxePEk/WXumxXEv3uISvxz+tvLBRc57tJUDocNErajy woFw5kxqsN7sluMn2MAt5khRpCPdqvPiyLK116plm668lBFiUW3KWzFtJGggQQ/U0nAg Br6Az+rhRz1fE1HQHCEDqj/YpfH42jsoWNVeqjv/Gin7S3k0+u81E9fk/wVa6p1QeKTn ZoHA== X-Gm-Message-State: AOJu0YxK4c5MxPHJlKI+6EsiDsk43pqVrBG2GJSMZnynxz4rOQGdjuPn BJNeE1QBpUswZVQtAUeiHl1VII92QQJV6a+3srNYwykzViRNZ7mXLeV5SDVOQPngQgoQRzUtjS5 86dR6ztFS4N/u+Rmdmfuv1Tumw3yPmAX6C8lNZwRB0+IfLDkPA2VeVvdz X-Gm-Gg: ASbGncvmatmpn3LgBYXPt+5w0tO0FcmID0cJ5Ri/NyNTYPjs1B6IKhIMowBVXlyUKaK lkZMSw1UoKibIRUBONXIdKv91Ky/xL1Ut9Kk8H8ZAT0i80zW6UFXfqoZTG9fnux9YDQSrdD8lEh SxeVu5SdAPGguEdU6jrjMcYyaSfRVVQrPo9/47v08eMxOiTl1HaN98TylFDp5JA7w+FxPJA+8kR VNhWEYdhHnRq7fc0WKz9ccwcr9Z/UbmaSx31Ah9Kv8ds6wzAfdHbd8HFpAiN0qno66UGbs3rwvf SXeAl7irNwMPvOBOUPIYiwgHn1YMieSSsXd/s6btbOisu6z/ X-Google-Smtp-Source: AGHT+IHA6zFlZtJ1LH+udIbOrchZqcfGCz7yhfZUiRjHPU5seneQJA12HXpW7t+vQVb+9foO8TVPquuMSAON X-Received: by 2002:a92:cd8c:0:b0:3d3:ff5c:287 with SMTP id e9e14a558f8ab-3d77c2ae095mr19474955ab.14.1744194763221; Wed, 09 Apr 2025 03:32:43 -0700 (PDT) Received: from postal.iol.unh.edu (postal.iol.unh.edu. [2606:4100:3880:1234::84]) by smtp-relay.gmail.com with ESMTPS id e9e14a558f8ab-3d7dba782c1sm1182255ab.7.2025.04.09.03.32.43 (version=TLS1_2 cipher=ECDHE-ECDSA-AES128-GCM-SHA256 bits=128/128); Wed, 09 Apr 2025 03:32:43 -0700 (PDT) X-Relaying-Domain: iol.unh.edu Date: Wed, 09 Apr 2025 03:32:43 -0700 (PDT) Message-ID: <67f64ccb.050a0220.1f44f4.25a6SMTPIN_ADDED_MISSING@mx.google.com> Received: from [172.21.0.6] (unknown [172.18.0.240]) by postal.iol.unh.edu (Postfix) with ESMTP id 90E906052471; Wed, 9 Apr 2025 06:32:40 -0400 (EDT) Subject: |SUCCESS| pw152851 [PATCH] net/igc: fix xstats name From: dpdklab@iol.unh.edu To: Test Report Cc: dpdk-test-reports@iol.unh.edu In-Reply-To: <20250409010711.761050-1-kaiwenx.deng@intel.com> References: <20250409010711.761050-1-kaiwenx.deng@intel.com> Content-Type: text/plain X-BeenThere: test-report@dpdk.org X-Mailman-Version: 2.1.29 Precedence: list List-Id: automatic DPDK test reports List-Unsubscribe: , List-Archive: List-Post: List-Help: List-Subscribe: , Errors-To: test-report-bounces@dpdk.org Test-Label: iol-unit-arm64-testing Test-Status: SUCCESS http://dpdk.org/patch/152851 _Testing PASS_ Submitter: Kaiwen Deng Date: Wednesday, April 09 2025 01:07:11 DPDK git baseline: Repo:dpdk Branch: master CommitID:d7817c378fecd07c59360667f93c25dff4b1a145 152851 --> testing pass Upstream job id: Generic-Unit-Test-DPDK#329889 Test environment and result as below: +-----------------------------+----------------+--------------+------------------------------+---------------------------+ | Environment | dpdk_unit_test | lpm_autotest | cryptodev_sw_snow3g_autotest | cryptodev_sw_zuc_autotest | +=============================+================+==============+==============================+===========================+ | CentOS Stream 9 (ARM) | PASS | SKIPPED | SKIPPED | SKIPPED | +-----------------------------+----------------+--------------+------------------------------+---------------------------+ | CentOS Stream 10 (ARM) | PASS | SKIPPED | SKIPPED | SKIPPED | +-----------------------------+----------------+--------------+------------------------------+---------------------------+ | Debian 12 (arm) | PASS | SKIPPED | PASS | PASS | +-----------------------------+----------------+--------------+------------------------------+---------------------------+ | Fedora 40 (ARM) | PASS | SKIPPED | SKIPPED | SKIPPED | +-----------------------------+----------------+--------------+------------------------------+---------------------------+ | Fedora 40 (ARM Clang) | PASS | SKIPPED | SKIPPED | SKIPPED | +-----------------------------+----------------+--------------+------------------------------+---------------------------+ | 32-bit Ubuntu 22.04.4 (ARM) | PASS | SKIPPED | SKIPPED | SKIPPED | +-----------------------------+----------------+--------------+------------------------------+---------------------------+ | Fedora 41 (ARM) | PASS | SKIPPED | SKIPPED | SKIPPED | +-----------------------------+----------------+--------------+------------------------------+---------------------------+ | RHEL9 (ARM) | PASS | SKIPPED | SKIPPED | SKIPPED | +-----------------------------+----------------+--------------+------------------------------+---------------------------+ | Fedora 41 (ARM Clang) | PASS | SKIPPED | SKIPPED | SKIPPED | +-----------------------------+----------------+--------------+------------------------------+---------------------------+ | Ubuntu 20.04 (ARM) | PASS | SKIPPED | SKIPPED | SKIPPED | +-----------------------------+----------------+--------------+------------------------------+---------------------------+ | Ubuntu 22.04 (ARM) | PASS | SKIPPED | SKIPPED | SKIPPED | +-----------------------------+----------------+--------------+------------------------------+---------------------------+ | Ubuntu 24.04 (ARM) | PASS | SKIPPED | SKIPPED | SKIPPED | +-----------------------------+----------------+--------------+------------------------------+---------------------------+ | Ubuntu 20.04 ARM SVE | SKIPPED | PASS | SKIPPED | SKIPPED | +-----------------------------+----------------+--------------+------------------------------+---------------------------+ CentOS Stream 9 (ARM) Kernel: Depends on container host Compiler: gcc 11.5.0 20240719 (Red Hat 11.5.0-2) CentOS Stream 10 (ARM) Kernel: Depends on container host Compiler: gcc 14.2.1 20241104 (Red Hat 14.2.1-6) Debian 12 (arm) Kernel: Depends on container host Compiler: gcc (Debian 12.2.0-14) 12.2.0 Fedora 40 (ARM) Kernel: Depends on container host Compiler: gcc 14.2.1 20240912 (Red Hat 14.2.1-3) Fedora 40 (ARM Clang) Kernel: Depends on container host Compiler: clang 18.1.8 (Fedora 18.1.8-1.fc40) 32-bit Ubuntu 22.04.4 (ARM) Kernel: 5.15.83+ aarch64 Compiler: gcc (Ubuntu 11.4.0-1ubuntu1~22.04) 11.4.0 Fedora 41 (ARM) Kernel: Depends on container host Compiler: gcc 14.2.1 20240912 (Red Hat 14.2.1-3) RHEL9 (ARM) Kernel: Depends on container host Compiler: gcc 11.5.0 20240719 (Red Hat 11.5.0-2) Fedora 41 (ARM Clang) Kernel: Depends on container host Compiler: clang 19.1.5 (Fedora 19.1.5-1.fc41) Ubuntu 20.04 (ARM) Kernel: Depends on container host Compiler: gcc (Ubuntu 9.4.0-1ubuntu1~20.04.2) 9.4.0 Ubuntu 22.04 (ARM) Kernel: Depends on container host Compiler: gcc (Ubuntu 11.4.0-1ubuntu1~22.04) 11.4.0 Ubuntu 24.04 (ARM) Kernel: Depends on container host Compiler: gcc (Ubuntu 13.3.0-6ubuntu2~24.04) 13.3.0 Ubuntu 20.04 ARM SVE Kernel: Depends on container host Compiler: gcc (Ubuntu 10.5.0-1ubuntu1~20.04) 10.5.0 To view detailed results, visit: https://lab.dpdk.org/results/dashboard/patchsets/32978/ UNH-IOL DPDK Community Lab To manage your email subscriptions, visit: https://lab.dpdk.org/results/dashboard/preferences/subscriptions/