From mboxrd@z Thu Jan 1 00:00:00 1970 Return-Path: Received: from mails.dpdk.org (mails.dpdk.org [217.70.189.124]) by inbox.dpdk.org (Postfix) with ESMTP id 4200C46543 for ; Wed, 9 Apr 2025 12:34:57 +0200 (CEST) Received: from mails.dpdk.org (localhost [127.0.0.1]) by mails.dpdk.org (Postfix) with ESMTP id 3CAC1402E9; Wed, 9 Apr 2025 12:34:57 +0200 (CEST) Received: from mail-yw1-f225.google.com (mail-yw1-f225.google.com [209.85.128.225]) by mails.dpdk.org (Postfix) with ESMTP id 1F5E4402B7 for ; Wed, 9 Apr 2025 12:34:56 +0200 (CEST) Received: by mail-yw1-f225.google.com with SMTP id 00721157ae682-700b17551cdso65268477b3.0 for ; Wed, 09 Apr 2025 03:34:56 -0700 (PDT) DKIM-Signature: v=1; a=rsa-sha256; c=relaxed/relaxed; d=iol.unh.edu; s=unh-iol; t=1744194895; x=1744799695; darn=dpdk.org; h=references:in-reply-to:cc:to:from:subject:message-id:date:from:to :cc:subject:date:message-id:reply-to; bh=lKoxiclEgq1MkzgTUuPXo5k/OIls+KjBADirsBE72VE=; b=jDPO2pjV9+e3yGMgjS84AxeEbeeuhUk/viRuzcRwS0JiPNhZZg2YwbC4s68n2VMI1D INZ9FHO81gJnSMOm8J0oZ2BgKZOIU0exwp434BCQz3eEVMhPQ5lhyoE5RbLyOQ8DiBku QPZbutOuhc/m1mtbKEqsSgY4TpJShFVn85kSI= X-Google-DKIM-Signature: v=1; a=rsa-sha256; c=relaxed/relaxed; d=1e100.net; s=20230601; t=1744194895; x=1744799695; h=references:in-reply-to:cc:to:from:subject:message-id:date :x-gm-message-state:from:to:cc:subject:date:message-id:reply-to; bh=lKoxiclEgq1MkzgTUuPXo5k/OIls+KjBADirsBE72VE=; b=CfEGXAKQ5XA/29cw2Y3Cwne25D00ogbSRRlsLlwtcRr1v6QP2sSZpIOxjGok197JVG +man1sOtKdfrBtwQSeLiElYeoPiiJGf84nTKoiVG7U70mBt1ViCFWEXb1NSEiJhmNqJ8 zSmOijWP/Uy+2HGkDVZXySKq6igyldT2jFHpqfdzLl/HSXGA/PZHS48X5lew4q4QOko9 kuhgJ27OjtNZjvuVDPornIpJHG2O3oqZSDF5tSXNLTcv3PslIcQhnieRPLXe0zTLNfAN B5WdF5dUJ4KjdFO7RyYYhvPXjbJUTMoEDjCg0T+BZhu3v3ENUmn9Ohqh5uybpPjUG+ve Ltfg== X-Gm-Message-State: AOJu0YyAkDOWXG0uvcsO+KnG2Gy6pBBFdXBEJo6onnv3zbajJJbdaznu opNVJKTiI7+MsGqk5C/KvZ9hc19sWi/NUxfLdPUPyK3u8+xjaMDisN2kJ/3QzxsGWIcLXZAyZS9 i4PL9nIL2vIArMeuYw5o9m7B7OVcWei7219vuNUGDMzty+/13kPsmQFJb X-Gm-Gg: ASbGncuAtolu+I60IfkBEaG27kdpJEtxixoh7AmWBdfRmxav28IlL4EFmR0Ys00uuN2 kp8tBWxrs6ej4z/fXX4D5XLANkrx6yAsXd7WUrruoArCtJgNlv25FFmEwXg0FzJZWdsHH4vyLJm obb73TxVtWsKFqNFecmQRthit+o6+q8YcqaLG2EVyHi+zYilrUEvQ9FhuBuM57eWXdZcq0542vU Q0L8hAwbFm/sY9NPgJzdQtWUUFz8ULSILM1cSztyFaBUb+vjGopwXIysg2YwGBMdY4LCc3cV+Eq Cf/Pqtvp/+TOz46pxmBbRNtuRLkNvt39iWOYTSXbzuIeiC7c X-Google-Smtp-Source: AGHT+IGRRyOcnqpj7PILG/9RxyTdjZerex09NsLhMrH4ZfYalaeSzlzvWSe2lAhQGteh1AYiIy5JOGMeCFkQ X-Received: by 2002:a05:690c:3809:b0:6f9:7ce7:b107 with SMTP id 00721157ae682-7053ae7112emr32391867b3.29.1744194895467; Wed, 09 Apr 2025 03:34:55 -0700 (PDT) Received: from postal.iol.unh.edu (postal.iol.unh.edu. [2606:4100:3880:1234::84]) by smtp-relay.gmail.com with ESMTPS id 00721157ae682-7053e3827fcsm976357b3.64.2025.04.09.03.34.55 (version=TLS1_2 cipher=ECDHE-ECDSA-AES128-GCM-SHA256 bits=128/128); Wed, 09 Apr 2025 03:34:55 -0700 (PDT) X-Relaying-Domain: iol.unh.edu Date: Wed, 09 Apr 2025 03:34:55 -0700 (PDT) Message-ID: <67f64d4f.050a0220.26c19f.1f23SMTPIN_ADDED_MISSING@mx.google.com> Received: from [172.21.0.5] (unknown [172.18.0.240]) by postal.iol.unh.edu (Postfix) with ESMTP id CCAD46052471; Wed, 9 Apr 2025 06:34:52 -0400 (EDT) Subject: |SUCCESS| pw152851 [PATCH] net/igc: fix xstats name From: dpdklab@iol.unh.edu To: Test Report Cc: dpdk-test-reports@iol.unh.edu In-Reply-To: <20250409010711.761050-1-kaiwenx.deng@intel.com> References: <20250409010711.761050-1-kaiwenx.deng@intel.com> Content-Type: text/plain X-BeenThere: test-report@dpdk.org X-Mailman-Version: 2.1.29 Precedence: list List-Id: automatic DPDK test reports List-Unsubscribe: , List-Archive: List-Post: List-Help: List-Subscribe: , Errors-To: test-report-bounces@dpdk.org Test-Label: iol-unit-amd64-testing Test-Status: SUCCESS http://dpdk.org/patch/152851 _Testing PASS_ Submitter: Kaiwen Deng Date: Wednesday, April 09 2025 01:07:11 DPDK git baseline: Repo:dpdk Branch: master CommitID:d7817c378fecd07c59360667f93c25dff4b1a145 152851 --> testing pass Upstream job id: Generic-Unit-Test-DPDK#329888 Test environment and result as below: +-------------------+----------------+ | Environment | dpdk_unit_test | +===================+================+ | Fedora 40 | PASS | +-------------------+----------------+ | CentOS Stream 9 | PASS | +-------------------+----------------+ | Debian 12 | PASS | +-------------------+----------------+ | CentOS Stream 10 | PASS | +-------------------+----------------+ | Fedora 40 (Clang) | PASS | +-------------------+----------------+ | RHEL9 | PASS | +-------------------+----------------+ | Fedora 41 | PASS | +-------------------+----------------+ | Ubuntu 20.04 | PASS | +-------------------+----------------+ | Fedora 41 (Clang) | PASS | +-------------------+----------------+ | RHEL8 | PASS | +-------------------+----------------+ | Ubuntu 22.04 | PASS | +-------------------+----------------+ | Ubuntu 24.04 | PASS | +-------------------+----------------+ Fedora 40 Kernel: Depends on container host Compiler: gcc 14.2.1 20240912 (Red Hat 14.2.1-3) CentOS Stream 9 Kernel: Depends on container host Compiler: gcc 11.5.0 20240719 (Red Hat 11.5.0-2) Debian 12 Kernel: Depends on container host Compiler: gcc (Debian 12.2.0-14) 12.2.0 CentOS Stream 10 Kernel: Depends on container host Compiler: gcc 14.2.1 20241104 (Red Hat 14.2.1-6) Fedora 40 (Clang) Kernel: Depends on container host Compiler: clang 18.1.8 (Fedora 18.1.8-1.fc40) RHEL9 Kernel: Depends on container host Compiler: gcc 11.5.0 20240719 (Red Hat 11.5.0-2) Fedora 41 Kernel: Depends on container host Compiler: gcc 14.2.1 20240912 (Red Hat 14.2.1-3) Ubuntu 20.04 Kernel: Depends on container host Compiler: gcc (Ubuntu 9.4.0-1ubuntu1~20.04.2) 9.4.0 Fedora 41 (Clang) Kernel: Depends on container host Compiler: clang 19.1.5 (Fedora 19.1.5-1.fc41) RHEL8 Kernel: Depends on container host Compiler: gcc 8.5.0 20210514 (Red Hat 8.5.0-22) Ubuntu 22.04 Kernel: Depends on container host Compiler: gcc (Ubuntu 11.4.0-1ubuntu1~22.04) 11.4.0 Ubuntu 24.04 Kernel: Depends on container host Compiler: gcc (Ubuntu 13.3.0-6ubuntu2~24.04) 13.3.0 To view detailed results, visit: https://lab.dpdk.org/results/dashboard/patchsets/32978/ UNH-IOL DPDK Community Lab To manage your email subscriptions, visit: https://lab.dpdk.org/results/dashboard/preferences/subscriptions/