From mboxrd@z Thu Jan 1 00:00:00 1970 Return-Path: Received: from mails.dpdk.org (mails.dpdk.org [217.70.189.124]) by inbox.dpdk.org (Postfix) with ESMTP id 915D046543 for ; Wed, 9 Apr 2025 12:58:16 +0200 (CEST) Received: from mails.dpdk.org (localhost [127.0.0.1]) by mails.dpdk.org (Postfix) with ESMTP id 69582402E5; Wed, 9 Apr 2025 12:58:16 +0200 (CEST) Received: from mail-io1-f98.google.com (mail-io1-f98.google.com [209.85.166.98]) by mails.dpdk.org (Postfix) with ESMTP id 9B3FA402B7 for ; Wed, 9 Apr 2025 12:58:15 +0200 (CEST) Received: by mail-io1-f98.google.com with SMTP id ca18e2360f4ac-85b3f92c8dfso216932639f.2 for ; Wed, 09 Apr 2025 03:58:15 -0700 (PDT) DKIM-Signature: v=1; a=rsa-sha256; c=relaxed/relaxed; d=iol.unh.edu; s=unh-iol; t=1744196295; x=1744801095; darn=dpdk.org; h=references:in-reply-to:cc:to:from:subject:message-id:date:from:to :cc:subject:date:message-id:reply-to; bh=79Fc8afYK4m7X3WM6JjXiIaqTZuqTLHNllN0u+6MGBM=; b=eH/pmVVMdFJVPwXYLRmzDw4wCSHbiUULijFJwfk2+9mCxSmDAbJeLpFSg86hPTErRh vYzBiPCOIEJI0qB6U0PAVXykQM/nq0ZedLwH1Iy8whvG7vp105ZVS7NEekxGHb+AnaCY QXy17YUnhUz4QzA5eFhQOujJkAWIfj8s3F0y4= X-Google-DKIM-Signature: v=1; a=rsa-sha256; c=relaxed/relaxed; d=1e100.net; s=20230601; t=1744196295; x=1744801095; h=references:in-reply-to:cc:to:from:subject:message-id:date :x-gm-message-state:from:to:cc:subject:date:message-id:reply-to; bh=79Fc8afYK4m7X3WM6JjXiIaqTZuqTLHNllN0u+6MGBM=; b=ZQQYcoAP68BWneqH+Catpc3OGMPeAIyK2baaCpEGVlfFAusu7P9hGL5rX32JfY+PYG cBhRsrYBsL4rcM3idWL2niMODW6VoReZWXZsOXsneYRDl3fuutHL9WJ2XO8fznd5HXCV Fc6LHByAiZEJ0oPxRCKwbudq4ZYLKNwgdv45z6fE1OT4JeqpX4obzGhFV4pfrlJIXV3c Ay5xpBcBthQJKj80/On+eWDLxBkXAgxfEAQL5qLBkGer0eBzgRD4Gku9xwugazjBS1XF uUiYSP3TCpVg67Gq/b8kuK4UIHHg7KlVeITB1/+uXAZ7ZU5U/D783SC5LmnUAsc5Q5HC J7EQ== X-Gm-Message-State: AOJu0YzRgNhb1gq7pbh6XHXxDCdNP3hqZk/619/ALSHvfVaSp/7V3Zlr NEYqsJd1pUwSa78zKa5bMX6yynENTFXzT7hjFGNxHlS2NttW+x24lcjSxXWfSYzXxpK7SqKRlgn nCtK5O3XDkZDyO+uCMhrL/sofS6bDzobggAKskM8n X-Gm-Gg: ASbGncuNwXXildTfFQkN5rksdUiYIc3xxmx/xxcAvFGzaG+x8SspdBlH7MF0+hRj/Yy zjz4LXUxvCfrzXZRwdnbZjgytIvak57FQZsUDR8kc/puQzhumfSzN/SxNWqjJ13Y+vVvHuk4/Hh nmxbHJHB/8QYJjp+W+N7s4diGkTAaUbMENud887jKH7V8ziiTVN9n74IYdr55UGhT6rVM/vyfXc jMtXE+FF44Y5QAWm7uV+Vvg6d7hhCWjbiupedIo6ERPYoxH6JJlxT5NAbEMhP5ERba/CMuahAgM br936BgTTc4dUYyrb6BEpGoBpxxxrMhSd5f3 X-Google-Smtp-Source: AGHT+IECsvnXRkpHhCXDB/1FfklmZ60NX8ufVjCjNKpb5XnH2ZxN7tWf1nyg5easLZYQ0kPC4iy6wjbiHLxc X-Received: by 2002:a05:6602:274b:b0:861:1cd4:1fef with SMTP id ca18e2360f4ac-86160f60d6bmr286895239f.0.1744196294741; Wed, 09 Apr 2025 03:58:14 -0700 (PDT) Received: from postal.iol.unh.edu (postal.iol.unh.edu. [132.177.123.84]) by smtp-relay.gmail.com with ESMTPS id 8926c6da1cb9f-4f505e2f44esm105554173.71.2025.04.09.03.58.14 (version=TLS1_2 cipher=ECDHE-ECDSA-AES128-GCM-SHA256 bits=128/128); Wed, 09 Apr 2025 03:58:14 -0700 (PDT) X-Relaying-Domain: iol.unh.edu Date: Wed, 09 Apr 2025 03:58:14 -0700 (PDT) Message-ID: <67f652c6.050a0220.2e9a3b.299fSMTPIN_ADDED_MISSING@mx.google.com> Received: from [172.21.0.5] (unknown [172.18.0.240]) by postal.iol.unh.edu (Postfix) with ESMTP id DE7F86052471; Wed, 9 Apr 2025 06:58:11 -0400 (EDT) Subject: |SUCCESS| pw152851 [PATCH] net/igc: fix xstats name From: dpdklab@iol.unh.edu To: Test Report Cc: dpdk-test-reports@iol.unh.edu In-Reply-To: <20250409010711.761050-1-kaiwenx.deng@intel.com> References: <20250409010711.761050-1-kaiwenx.deng@intel.com> Content-Type: text/plain X-BeenThere: test-report@dpdk.org X-Mailman-Version: 2.1.29 Precedence: list List-Id: automatic DPDK test reports List-Unsubscribe: , List-Archive: List-Post: List-Help: List-Subscribe: , Errors-To: test-report-bounces@dpdk.org Test-Label: iol-abi-testing Test-Status: SUCCESS http://dpdk.org/patch/152851 _Testing PASS_ Submitter: Kaiwen Deng Date: Wednesday, April 09 2025 01:07:11 DPDK git baseline: Repo:dpdk Branch: master CommitID:d7817c378fecd07c59360667f93c25dff4b1a145 152851 --> testing pass Upstream job id: Generic-DPDK-Compile-ABI#122817 Test environment and result as below: +-------------------+----------+ | Environment | abi_test | +===================+==========+ | CentOS Stream 10 | PASS | +-------------------+----------+ | CentOS Stream 9 | PASS | +-------------------+----------+ | Fedora 40 | PASS | +-------------------+----------+ | Fedora 40 (Clang) | PASS | +-------------------+----------+ | Fedora 41 (Clang) | PASS | +-------------------+----------+ | openSUSE Leap 15 | PASS | +-------------------+----------+ | RHEL8 | PASS | +-------------------+----------+ | RHEL9 | PASS | +-------------------+----------+ | Ubuntu 22.04 | PASS | +-------------------+----------+ | Ubuntu 24.04 | PASS | +-------------------+----------+ | Debian 12 | PASS | +-------------------+----------+ | Fedora 41 | PASS | +-------------------+----------+ CentOS Stream 10 Kernel: Depends on container host Compiler: gcc 14.2.1 20241104 (Red Hat 14.2.1-6) CentOS Stream 9 Kernel: Depends on container host Compiler: gcc 11.5.0 20240719 (Red Hat 11.5.0-2) Fedora 40 Kernel: Depends on container host Compiler: gcc 14.2.1 20240912 (Red Hat 14.2.1-3) Fedora 40 (Clang) Kernel: Depends on container host Compiler: clang 18.1.8 (Fedora 18.1.8-1.fc40) Fedora 41 (Clang) Kernel: Depends on container host Compiler: clang 19.1.5 (Fedora 19.1.5-1.fc41) openSUSE Leap 15 Kernel: Depends on container host Compiler: gcc (SUSE Linux) 7.5.0 RHEL8 Kernel: Depends on container host Compiler: gcc 8.5.0 20210514 (Red Hat 8.5.0-22) RHEL9 Kernel: Depends on container host Compiler: gcc 11.5.0 20240719 (Red Hat 11.5.0-2) Ubuntu 22.04 Kernel: Depends on container host Compiler: gcc (Ubuntu 11.4.0-1ubuntu1~22.04) 11.4.0 Ubuntu 24.04 Kernel: Depends on container host Compiler: gcc (Ubuntu 13.3.0-6ubuntu2~24.04) 13.3.0 Debian 12 Kernel: Depends on container host Compiler: gcc (Debian 12.2.0-14) 12.2.0 Fedora 41 Kernel: Depends on container host Compiler: gcc 14.2.1 20240912 (Red Hat 14.2.1-3) To view detailed results, visit: https://lab.dpdk.org/results/dashboard/patchsets/32978/ UNH-IOL DPDK Community Lab To manage your email subscriptions, visit: https://lab.dpdk.org/results/dashboard/preferences/subscriptions/