From mboxrd@z Thu Jan 1 00:00:00 1970 Return-Path: Received: from mails.dpdk.org (mails.dpdk.org [217.70.189.124]) by inbox.dpdk.org (Postfix) with ESMTP id 9078346543 for ; Wed, 9 Apr 2025 12:59:25 +0200 (CEST) Received: from mails.dpdk.org (localhost [127.0.0.1]) by mails.dpdk.org (Postfix) with ESMTP id 8BEF5402E5; Wed, 9 Apr 2025 12:59:25 +0200 (CEST) Received: from mail-pj1-f99.google.com (mail-pj1-f99.google.com [209.85.216.99]) by mails.dpdk.org (Postfix) with ESMTP id 3011B402B7 for ; Wed, 9 Apr 2025 12:59:24 +0200 (CEST) Received: by mail-pj1-f99.google.com with SMTP id 98e67ed59e1d1-301e05b90caso6286880a91.2 for ; Wed, 09 Apr 2025 03:59:24 -0700 (PDT) DKIM-Signature: v=1; a=rsa-sha256; c=relaxed/relaxed; d=iol.unh.edu; s=unh-iol; t=1744196363; x=1744801163; darn=dpdk.org; h=references:in-reply-to:cc:to:from:subject:message-id:date:from:to :cc:subject:date:message-id:reply-to; bh=XbdUag3k8LT7fkOWmBJ8r+nHISKyjLosjc9YrRtlpH4=; b=XctSlBEK6zsoT62ppvUyvGmSdVfOtQHjx16iJsX+zO22LIxLChYQeGIR2szSxqWau5 bdr0mL93fXur3oHtEMuVzEPdotigZIku5mNx1XuL18fupURysyjVUz0GK+M9ybvTkdnF v4EU0yoWLhfSAv3zpu+dwssaYDzEF0Di3BBnk= X-Google-DKIM-Signature: v=1; a=rsa-sha256; c=relaxed/relaxed; d=1e100.net; s=20230601; t=1744196363; x=1744801163; h=references:in-reply-to:cc:to:from:subject:message-id:date :x-gm-message-state:from:to:cc:subject:date:message-id:reply-to; bh=XbdUag3k8LT7fkOWmBJ8r+nHISKyjLosjc9YrRtlpH4=; b=kIKx+f8ksMKeTQFgJHpdO5CKA3GC8seKAO70fhfGzPKnnkVZSpx670PrmZeLGrBFU5 FXWTP2zqjKxfGd4BbBfo+CUr3FNRMs177V19JtJ6gHb7/npiZvp+AjWfLip7jBD0HXrD xdD9DaFVQxJIRrqPeIpS2YxfBSwTMbZhQrg6caPzAcqkpwaMuBBEY7e3AqrNPjNuSTIR i8OkzoRiXsl7l9n0GhcD92ZaxszlKX/Erd1HKEAbVk5IpGvl61UhjSYV/7BoHq6PhLj8 VwAD1x65z7mB/2ClOzCxhQiHbAse4omxDYVutaS7mYbyNZSjaY60kZEMfg5YGTN5WAJ4 AViA== X-Gm-Message-State: AOJu0Yy4tndifDMuzL09DsRQ9gvdRI+gxPvvU6Y5Zrhyg/ReIehSOEPX 76kfZrTKYfgmD2F4bMzKUWI75pKsWoWpJEjSJfktG8Z5AcS6ekG9MVe9s0+nATsQbWjrCkH6NDR Qeo2ZCkNH+9cZ9daQ24B+PuuosLqIP6EIaUKQddueHQCNu5HKcfQEr+tY X-Gm-Gg: ASbGnctj6xXYp4oSKazijBGumFMKCIdfUxJ8/N5sMK9NJFwpmuCiWMj2+cH8+tZ+zNh 3mK8pEF7VfBqNJWK2JM5L4yzG0e9zPus1QsX3ORT33WFbr9Y3b0nzKgWljucofXw9vb3aHpzMcN ixYvmC7tQ2JpabmK5iot8UxtJ/jUHi0/hxDDRmq/QNN2/pZHkCgjdQCdlyUMklxxttZJDvNUVAv T/obtNL3mFTWKCgNdM1cpW3HpQXWJuSp/XXJ3tHCHK6gp0JjCeTzq/9W+eBcXri6SYyjw5kf93J guJh/ljL9eQncIPU+wum5MQxG2Q2k3/HQ+sRW1tJa3es6yi8 X-Google-Smtp-Source: AGHT+IFrKPPzNOBOnS4N9qSyj++aMKq5eXazmQwx97C2kIl6pSqomOxacZiYpcFhY97MCYpYc4qd5AdfPtNY X-Received: by 2002:a17:90b:2704:b0:2f8:49ad:4079 with SMTP id 98e67ed59e1d1-306dd31f6c5mr2565052a91.6.1744196363216; Wed, 09 Apr 2025 03:59:23 -0700 (PDT) Received: from postal.iol.unh.edu (postal.iol.unh.edu. [2606:4100:3880:1234::84]) by smtp-relay.gmail.com with ESMTPS id d9443c01a7336-22ac7b94f76sm536625ad.60.2025.04.09.03.59.23 (version=TLS1_2 cipher=ECDHE-ECDSA-AES128-GCM-SHA256 bits=128/128); Wed, 09 Apr 2025 03:59:23 -0700 (PDT) X-Relaying-Domain: iol.unh.edu Date: Wed, 09 Apr 2025 03:59:23 -0700 (PDT) Message-ID: <67f6530b.170a0220.3126af.1601SMTPIN_ADDED_MISSING@mx.google.com> Received: from [172.21.0.6] (unknown [172.18.0.240]) by postal.iol.unh.edu (Postfix) with ESMTP id 97BA46052471; Wed, 9 Apr 2025 06:59:19 -0400 (EDT) Subject: |SUCCESS| pw152851 [PATCH] net/igc: fix xstats name From: dpdklab@iol.unh.edu To: Test Report Cc: dpdk-test-reports@iol.unh.edu In-Reply-To: <20250409010711.761050-1-kaiwenx.deng@intel.com> References: <20250409010711.761050-1-kaiwenx.deng@intel.com> Content-Type: text/plain X-BeenThere: test-report@dpdk.org X-Mailman-Version: 2.1.29 Precedence: list List-Id: automatic DPDK test reports List-Unsubscribe: , List-Archive: List-Post: List-Help: List-Subscribe: , Errors-To: test-report-bounces@dpdk.org Test-Label: iol-abi-testing Test-Status: SUCCESS http://dpdk.org/patch/152851 _Testing PASS_ Submitter: Kaiwen Deng Date: Wednesday, April 09 2025 01:07:11 DPDK git baseline: Repo:dpdk Branch: master CommitID:d7817c378fecd07c59360667f93c25dff4b1a145 152851 --> testing pass Upstream job id: Generic-DPDK-Compile-ABI#122818 Test environment and result as below: +-------------------+----------+ | Environment | abi_test | +===================+==========+ | CentOS Stream 10 | PASS | +-------------------+----------+ | CentOS Stream 9 | PASS | +-------------------+----------+ | Fedora 40 | PASS | +-------------------+----------+ | Fedora 40 (Clang) | PASS | +-------------------+----------+ | Fedora 41 (Clang) | PASS | +-------------------+----------+ | openSUSE Leap 15 | PASS | +-------------------+----------+ | RHEL8 | PASS | +-------------------+----------+ | RHEL9 | PASS | +-------------------+----------+ | Ubuntu 22.04 | PASS | +-------------------+----------+ | Ubuntu 24.04 | PASS | +-------------------+----------+ | Debian 12 | PASS | +-------------------+----------+ | Fedora 41 | PASS | +-------------------+----------+ CentOS Stream 10 Kernel: Depends on container host Compiler: gcc 14.2.1 20241104 (Red Hat 14.2.1-6) CentOS Stream 9 Kernel: Depends on container host Compiler: gcc 11.5.0 20240719 (Red Hat 11.5.0-2) Fedora 40 Kernel: Depends on container host Compiler: gcc 14.2.1 20240912 (Red Hat 14.2.1-3) Fedora 40 (Clang) Kernel: Depends on container host Compiler: clang 18.1.8 (Fedora 18.1.8-1.fc40) Fedora 41 (Clang) Kernel: Depends on container host Compiler: clang 19.1.5 (Fedora 19.1.5-1.fc41) openSUSE Leap 15 Kernel: Depends on container host Compiler: gcc (SUSE Linux) 7.5.0 RHEL8 Kernel: Depends on container host Compiler: gcc 8.5.0 20210514 (Red Hat 8.5.0-22) RHEL9 Kernel: Depends on container host Compiler: gcc 11.5.0 20240719 (Red Hat 11.5.0-2) Ubuntu 22.04 Kernel: Depends on container host Compiler: gcc (Ubuntu 11.4.0-1ubuntu1~22.04) 11.4.0 Ubuntu 24.04 Kernel: Depends on container host Compiler: gcc (Ubuntu 13.3.0-6ubuntu2~24.04) 13.3.0 Debian 12 Kernel: Depends on container host Compiler: gcc (Debian 12.2.0-14) 12.2.0 Fedora 41 Kernel: Depends on container host Compiler: gcc 14.2.1 20240912 (Red Hat 14.2.1-3) To view detailed results, visit: https://lab.dpdk.org/results/dashboard/patchsets/32978/ UNH-IOL DPDK Community Lab To manage your email subscriptions, visit: https://lab.dpdk.org/results/dashboard/preferences/subscriptions/