From mboxrd@z Thu Jan 1 00:00:00 1970 Return-Path: Received: from mails.dpdk.org (mails.dpdk.org [217.70.189.124]) by inbox.dpdk.org (Postfix) with ESMTP id 945E146543 for ; Wed, 9 Apr 2025 13:39:28 +0200 (CEST) Received: from mails.dpdk.org (localhost [127.0.0.1]) by mails.dpdk.org (Postfix) with ESMTP id 6AC6B40611; Wed, 9 Apr 2025 13:39:28 +0200 (CEST) Received: from mail-qk1-f228.google.com (mail-qk1-f228.google.com [209.85.222.228]) by mails.dpdk.org (Postfix) with ESMTP id C5F2D402B7 for ; Wed, 9 Apr 2025 13:39:26 +0200 (CEST) Received: by mail-qk1-f228.google.com with SMTP id af79cd13be357-7c5aecec8f3so925335585a.1 for ; Wed, 09 Apr 2025 04:39:26 -0700 (PDT) DKIM-Signature: v=1; a=rsa-sha256; c=relaxed/relaxed; d=iol.unh.edu; s=unh-iol; t=1744198766; x=1744803566; darn=dpdk.org; h=references:in-reply-to:cc:to:from:subject:message-id:date:from:to :cc:subject:date:message-id:reply-to; bh=5lEh9Yw+oOqTYrg7htToogQ5XixPBLnspxK0dszrDOg=; b=HbeY4itV7WLJ3wvGKncHO9lFeUgiaByq/iZgTfnkKy+pnXmad4TIM5KH9w8H2Mg+bq 5ZPQlPN0Uv4tkIq8mv1ntFBznMYndbLs3tfRLS++Mb5tI4/LRqnt4851h1LcokAxB4lI vW1S7XNKC83sm5jqaMCfenUrLwdEkeArLcXfk= X-Google-DKIM-Signature: v=1; a=rsa-sha256; c=relaxed/relaxed; d=1e100.net; s=20230601; t=1744198766; x=1744803566; h=references:in-reply-to:cc:to:from:subject:message-id:date :x-gm-message-state:from:to:cc:subject:date:message-id:reply-to; bh=5lEh9Yw+oOqTYrg7htToogQ5XixPBLnspxK0dszrDOg=; b=s7AzbHutreo/5EjZbMIHhIFD73CoOYbe/TGnMxD+7csb/ZgaQoWt5OxDG+yYqF2lQC 26v3XaCFejASXuOOcW/+/8pyuFCl43adNqPPM9rM5aj5oyHeqtNZtX+RodjKIJeXnr9N E8u+28vG/qIBK7JPORezHHZfCtcfFl1jThpigbfGnCZOuPyGEuJy5TlTaFM7/kNlx+0P 5s3FwVyWbVKEj1EMujXcF33uupnWuATBI07u6xEwntVJYK0dnGOekC9jA32To7WovhqJ mRsNmJ2Y5istxKg4Ii3njlHPZMv1heV+UbV1hmrIOCdxwnqCYa5XsFTgnZNeBAKS6pZt p2sQ== X-Gm-Message-State: AOJu0YwPdyQPKtQR+8Zu0doPJi6sVeNtTY9UnMnEgMZsX89I96jm6VL0 RkC8Js9cJN12RbMJeCi1zX6n0MqF7KanfGVLbvUqVG+zUt5frkrnRI39eqT/VnlAk/fyrjazfJ/ OmDbzL5gSSJWjIfBHOeDz1Avnlu4S2H5rqJMcfiTe X-Gm-Gg: ASbGnctAeS28rcrLqB65t3TZ5a2F/mYwULgH9XLsPOkQbRWDOSCXTWJzy0/oRcrA/9r 7LcDa3EzOKoDlMFdggcIG1i4OJKzmfVPO6qGjEBpM5K7079dVutWj1ArjeFho1TG0dtJypSzdzK 5Bd4G/w9WKNfBNfIEm4ir4tm4URUvwPHCDNmD0G/Pk9Ubw+vkUnjUJKtbtR+j6bpN823zO3ds9Y WzkwGqR+ddizw+hQThbl38PXzzM3ZFx5ZRulsBpMQSc5yrhEqXdfcaV/3bjyCcxJ3eni+LIjhSz oPqp8uFBqYrbyilCXI4EDnY2+FlVrQ8YIluq X-Google-Smtp-Source: AGHT+IHaMdadWYVuUwJW0Wi/VRTilo3nmiZO0TJKb4al3ldkYSFFoit9XI+d1LBK5yiCXEn/2BeE5fR9XmTc X-Received: by 2002:a05:620a:248e:b0:7c5:3e89:c6df with SMTP id af79cd13be357-7c79dd939acmr247659885a.12.1744198766065; Wed, 09 Apr 2025 04:39:26 -0700 (PDT) Received: from postal.iol.unh.edu (postal.iol.unh.edu. [132.177.123.84]) by smtp-relay.gmail.com with ESMTPS id d75a77b69052e-47964eb3c53sm974951cf.18.2025.04.09.04.39.26 (version=TLS1_2 cipher=ECDHE-ECDSA-AES128-GCM-SHA256 bits=128/128); Wed, 09 Apr 2025 04:39:26 -0700 (PDT) X-Relaying-Domain: iol.unh.edu Date: Wed, 09 Apr 2025 04:39:26 -0700 (PDT) Message-ID: <67f65c6e.050a0220.27ef09.24b7SMTPIN_ADDED_MISSING@mx.google.com> Received: from [172.21.0.5] (unknown [172.18.0.240]) by postal.iol.unh.edu (Postfix) with ESMTP id 9BEB66052471; Wed, 9 Apr 2025 07:39:23 -0400 (EDT) Subject: |SUCCESS| pw152851 [PATCH] net/igc: fix xstats name From: dpdklab@iol.unh.edu To: Test Report Cc: dpdk-test-reports@iol.unh.edu In-Reply-To: <20250409010711.761050-1-kaiwenx.deng@intel.com> References: <20250409010711.761050-1-kaiwenx.deng@intel.com> Content-Type: text/plain X-BeenThere: test-report@dpdk.org X-Mailman-Version: 2.1.29 Precedence: list List-Id: automatic DPDK test reports List-Unsubscribe: , List-Archive: List-Post: List-Help: List-Subscribe: , Errors-To: test-report-bounces@dpdk.org Test-Label: iol-abi-testing Test-Status: SUCCESS http://dpdk.org/patch/152851 _Testing PASS_ Submitter: Kaiwen Deng Date: Wednesday, April 09 2025 01:07:11 DPDK git baseline: Repo:dpdk Branch: master CommitID:d7817c378fecd07c59360667f93c25dff4b1a145 152851 --> testing pass Upstream job id: Generic-DPDK-Compile-ABI#122830 Test environment and result as below: +-------------------+----------+ | Environment | abi_test | +===================+==========+ | CentOS Stream 9 | PASS | +-------------------+----------+ | CentOS Stream 10 | PASS | +-------------------+----------+ | Debian 12 | PASS | +-------------------+----------+ | Fedora 40 | PASS | +-------------------+----------+ | Fedora 40 (Clang) | PASS | +-------------------+----------+ | Fedora 41 (Clang) | PASS | +-------------------+----------+ | Fedora 41 | PASS | +-------------------+----------+ | openSUSE Leap 15 | PASS | +-------------------+----------+ | RHEL8 | PASS | +-------------------+----------+ | RHEL9 | PASS | +-------------------+----------+ | Ubuntu 22.04 | PASS | +-------------------+----------+ | Ubuntu 24.04 | PASS | +-------------------+----------+ CentOS Stream 9 Kernel: Depends on container host Compiler: gcc 11.5.0 20240719 (Red Hat 11.5.0-2) CentOS Stream 10 Kernel: Depends on container host Compiler: gcc 14.2.1 20241104 (Red Hat 14.2.1-6) Debian 12 Kernel: Depends on container host Compiler: gcc (Debian 12.2.0-14) 12.2.0 Fedora 40 Kernel: Depends on container host Compiler: gcc 14.2.1 20240912 (Red Hat 14.2.1-3) Fedora 40 (Clang) Kernel: Depends on container host Compiler: clang 18.1.8 (Fedora 18.1.8-1.fc40) Fedora 41 (Clang) Kernel: Depends on container host Compiler: clang 19.1.5 (Fedora 19.1.5-1.fc41) Fedora 41 Kernel: Depends on container host Compiler: gcc 14.2.1 20240912 (Red Hat 14.2.1-3) openSUSE Leap 15 Kernel: Depends on container host Compiler: gcc (SUSE Linux) 7.5.0 RHEL8 Kernel: Depends on container host Compiler: gcc 8.5.0 20210514 (Red Hat 8.5.0-22) RHEL9 Kernel: Depends on container host Compiler: gcc 11.5.0 20240719 (Red Hat 11.5.0-2) Ubuntu 22.04 Kernel: Depends on container host Compiler: gcc (Ubuntu 11.4.0-1ubuntu1~22.04) 11.4.0 Ubuntu 24.04 Kernel: Depends on container host Compiler: gcc (Ubuntu 13.3.0-6ubuntu2~24.04) 13.3.0 To view detailed results, visit: https://lab.dpdk.org/results/dashboard/patchsets/32978/ UNH-IOL DPDK Community Lab To manage your email subscriptions, visit: https://lab.dpdk.org/results/dashboard/preferences/subscriptions/