From mboxrd@z Thu Jan 1 00:00:00 1970 Return-Path: Received: from mails.dpdk.org (mails.dpdk.org [217.70.189.124]) by inbox.dpdk.org (Postfix) with ESMTP id F22D246543 for ; Wed, 9 Apr 2025 13:40:28 +0200 (CEST) Received: from mails.dpdk.org (localhost [127.0.0.1]) by mails.dpdk.org (Postfix) with ESMTP id EC31640655; Wed, 9 Apr 2025 13:40:28 +0200 (CEST) Received: from mail-qv1-f99.google.com (mail-qv1-f99.google.com [209.85.219.99]) by mails.dpdk.org (Postfix) with ESMTP id C6AE5402B7 for ; Wed, 9 Apr 2025 13:40:27 +0200 (CEST) Received: by mail-qv1-f99.google.com with SMTP id 6a1803df08f44-6e8f4c50a8fso60638946d6.1 for ; Wed, 09 Apr 2025 04:40:27 -0700 (PDT) DKIM-Signature: v=1; a=rsa-sha256; c=relaxed/relaxed; d=iol.unh.edu; s=unh-iol; t=1744198827; x=1744803627; darn=dpdk.org; h=references:in-reply-to:cc:to:from:subject:message-id:date:from:to :cc:subject:date:message-id:reply-to; bh=SQELKQ6OE/a9PQ6wm36gQ8XfpZ8SlWf2ovw6tP5YAlY=; b=MHhHpPvRHvEqTBH/9pPCiFYj3FrAcR5eQUEdt6trKnioJQzSNFYOqRTzZdDTGzDPT/ VZ3bIl1ii/sp7xm8/YEEY6u53wYkTZl08Vka3z1FFqYZ+OV+wOMMuQhkuf+GVfR+yBBZ Wm1C0WDo7xbxdhfJHASJpnyBipnDIw5+JyZlE= X-Google-DKIM-Signature: v=1; a=rsa-sha256; c=relaxed/relaxed; d=1e100.net; s=20230601; t=1744198827; x=1744803627; h=references:in-reply-to:cc:to:from:subject:message-id:date :x-gm-message-state:from:to:cc:subject:date:message-id:reply-to; bh=SQELKQ6OE/a9PQ6wm36gQ8XfpZ8SlWf2ovw6tP5YAlY=; b=Z2Aw781wQa3M9JMBjxJnRqmYA3j5FfaGDp7RMElmxT+/nS7s1lhYqlZsiPqA6O3Do+ niseNL9KCwdK7Zufa7TUdNwMiDlKgWYLwUWw0ggvYux0o25oFgoDdKMQ/BsawQsAfVAw 3m/10sOgozOkzbVPPQPZ/6W842ieTySP5pp3K+PyyFphHDJNARSubzufqLxdU/OjKkay ollJwEuO5kT8bx1fttTzqZFIy6dIY7XElo8LDlz66Tvd+Gs5FeqrOJ2GGjQ0lvW6iCUP UiEati9z7tQNVWZByKm7AyY10PqjeFM34FIpkRN/INE0ZSh/40YOg/tHPzQDzWV8M9DY hXJw== X-Gm-Message-State: AOJu0YxAKt7LOrKBV8sjEPkDuvm1RRuOG88tHRwRO+EgaOAquYNx/IhQ 5C/96Gim1oO7+iKbrs+vlFzwrFa1VaPkYyDD94meHo00BeppoOspRcdtMtq72LWSwyUU2mjCCYC vWnY41VrrgOHquUM0b0MMJU4SwTmtcVv5kmfGY7qT X-Gm-Gg: ASbGncvXRX8IwKK1d4BTA16+8oY6JKd0yDzohCt8k5nqQ+OpJIqH8vQ2nDKwek7G6jM H+aKSCq9refLvr3f7s9YATNjtyQeXotLEum4epfFJKZb3s/vNJvcKiV3pyQqfJ4CInk0eB5zGbD TuGeRLSrfJbazgs7UBkQEhAqKBLt/X8eEcczwQKotdpHWzqIi2a8UsVjGW/fX5/3hJXs3JzV54h nAY2NuFu194oY0oUjUT40Z+V9EZR6Pgm3z/43GajHAvKw+XC/Wm5ri56iKAlCXZx/6ID4IroQRs dPq1tcncV6Rop/tJlGeWNyAy3Ux2yXBhLfa7 X-Google-Smtp-Source: AGHT+IETenMXWMnfJ6TCOBKT/AkqL0MelbWHBSoQwL4V9+gUbEPQVfue92DiJsmZiXzirngypYxUk48RnV5w X-Received: by 2002:ad4:4ea5:0:b0:6e8:9086:261 with SMTP id 6a1803df08f44-6f0dbb766d2mr35002376d6.3.1744198827210; Wed, 09 Apr 2025 04:40:27 -0700 (PDT) Received: from postal.iol.unh.edu (postal.iol.unh.edu. [132.177.123.84]) by smtp-relay.gmail.com with ESMTPS id 6a1803df08f44-6f0de95c1fcsm1178376d6.2.2025.04.09.04.40.27 (version=TLS1_2 cipher=ECDHE-ECDSA-AES128-GCM-SHA256 bits=128/128); Wed, 09 Apr 2025 04:40:27 -0700 (PDT) X-Relaying-Domain: iol.unh.edu Date: Wed, 09 Apr 2025 04:40:27 -0700 (PDT) Message-ID: <67f65cab.050a0220.2830d4.2ae7SMTPIN_ADDED_MISSING@mx.google.com> Received: from [172.21.0.5] (unknown [172.18.0.240]) by postal.iol.unh.edu (Postfix) with ESMTP id 22B236052471; Wed, 9 Apr 2025 07:40:24 -0400 (EDT) Subject: |SUCCESS| pw152851 [PATCH] net/igc: fix xstats name From: dpdklab@iol.unh.edu To: Test Report Cc: dpdk-test-reports@iol.unh.edu In-Reply-To: <20250409010711.761050-1-kaiwenx.deng@intel.com> References: <20250409010711.761050-1-kaiwenx.deng@intel.com> Content-Type: text/plain X-BeenThere: test-report@dpdk.org X-Mailman-Version: 2.1.29 Precedence: list List-Id: automatic DPDK test reports List-Unsubscribe: , List-Archive: List-Post: List-Help: List-Subscribe: , Errors-To: test-report-bounces@dpdk.org Test-Label: iol-abi-testing Test-Status: SUCCESS http://dpdk.org/patch/152851 _Testing PASS_ Submitter: Kaiwen Deng Date: Wednesday, April 09 2025 01:07:11 DPDK git baseline: Repo:dpdk Branch: master CommitID:d7817c378fecd07c59360667f93c25dff4b1a145 152851 --> testing pass Upstream job id: Generic-DPDK-Compile-ABI#122827 Test environment and result as below: +-------------------+----------+ | Environment | abi_test | +===================+==========+ | CentOS Stream 9 | PASS | +-------------------+----------+ | CentOS Stream 10 | PASS | +-------------------+----------+ | Debian 12 | PASS | +-------------------+----------+ | Fedora 40 | PASS | +-------------------+----------+ | Fedora 40 (Clang) | PASS | +-------------------+----------+ | Fedora 41 (Clang) | PASS | +-------------------+----------+ | Fedora 41 | PASS | +-------------------+----------+ | openSUSE Leap 15 | PASS | +-------------------+----------+ | RHEL8 | PASS | +-------------------+----------+ | RHEL9 | PASS | +-------------------+----------+ | Ubuntu 22.04 | PASS | +-------------------+----------+ | Ubuntu 24.04 | PASS | +-------------------+----------+ CentOS Stream 9 Kernel: Depends on container host Compiler: gcc 11.5.0 20240719 (Red Hat 11.5.0-2) CentOS Stream 10 Kernel: Depends on container host Compiler: gcc 14.2.1 20241104 (Red Hat 14.2.1-6) Debian 12 Kernel: Depends on container host Compiler: gcc (Debian 12.2.0-14) 12.2.0 Fedora 40 Kernel: Depends on container host Compiler: gcc 14.2.1 20240912 (Red Hat 14.2.1-3) Fedora 40 (Clang) Kernel: Depends on container host Compiler: clang 18.1.8 (Fedora 18.1.8-1.fc40) Fedora 41 (Clang) Kernel: Depends on container host Compiler: clang 19.1.5 (Fedora 19.1.5-1.fc41) Fedora 41 Kernel: Depends on container host Compiler: gcc 14.2.1 20240912 (Red Hat 14.2.1-3) openSUSE Leap 15 Kernel: Depends on container host Compiler: gcc (SUSE Linux) 7.5.0 RHEL8 Kernel: Depends on container host Compiler: gcc 8.5.0 20210514 (Red Hat 8.5.0-22) RHEL9 Kernel: Depends on container host Compiler: gcc 11.5.0 20240719 (Red Hat 11.5.0-2) Ubuntu 22.04 Kernel: Depends on container host Compiler: gcc (Ubuntu 11.4.0-1ubuntu1~22.04) 11.4.0 Ubuntu 24.04 Kernel: Depends on container host Compiler: gcc (Ubuntu 13.3.0-6ubuntu2~24.04) 13.3.0 To view detailed results, visit: https://lab.dpdk.org/results/dashboard/patchsets/32978/ UNH-IOL DPDK Community Lab To manage your email subscriptions, visit: https://lab.dpdk.org/results/dashboard/preferences/subscriptions/