From mboxrd@z Thu Jan 1 00:00:00 1970 Return-Path: Received: from mails.dpdk.org (mails.dpdk.org [217.70.189.124]) by inbox.dpdk.org (Postfix) with ESMTP id C644046543 for ; Wed, 9 Apr 2025 13:58:28 +0200 (CEST) Received: from mails.dpdk.org (localhost [127.0.0.1]) by mails.dpdk.org (Postfix) with ESMTP id C0C3140613; Wed, 9 Apr 2025 13:58:28 +0200 (CEST) Received: from mail-qt1-f225.google.com (mail-qt1-f225.google.com [209.85.160.225]) by mails.dpdk.org (Postfix) with ESMTP id 0D3F7402B7 for ; Wed, 9 Apr 2025 13:58:27 +0200 (CEST) Received: by mail-qt1-f225.google.com with SMTP id d75a77b69052e-476ae781d21so64124971cf.3 for ; Wed, 09 Apr 2025 04:58:26 -0700 (PDT) DKIM-Signature: v=1; a=rsa-sha256; c=relaxed/relaxed; d=iol.unh.edu; s=unh-iol; t=1744199906; x=1744804706; darn=dpdk.org; h=references:in-reply-to:cc:to:from:subject:message-id:date:from:to :cc:subject:date:message-id:reply-to; bh=zIAU5tbB0usqV/RUpsE2fgGfboOFs61OkuoZVu42pwI=; b=EUdLzK+uPgN/ZeesR0yZtrbYm1zY29PaitTztvkaj0NZ+BhzjoNBp9BupT9gqS/vEN p3p7p8jSfUkfbUDXdTzo6TsICPlMqZ+3VxFHGrhKZKSNC1/adTE0PiiLX4MM9PnUQ+zU 2KR140uV023wtgMVWjFH19Jw/EO0VbS7gLfnk= X-Google-DKIM-Signature: v=1; a=rsa-sha256; c=relaxed/relaxed; d=1e100.net; s=20230601; t=1744199906; x=1744804706; h=references:in-reply-to:cc:to:from:subject:message-id:date :x-gm-message-state:from:to:cc:subject:date:message-id:reply-to; bh=zIAU5tbB0usqV/RUpsE2fgGfboOFs61OkuoZVu42pwI=; b=UHaL3MqjclwbXAr6PkjcJOZSLV/L+Mnpe1uQFXpOhVDKPhXFMEc7XF2nBsnxD6IJgw sZMbqPWLdUCnC9HqbhXcQndwjOo3FvbrflTb3MnZay5Qf4MYLGaOq/Ppq+uXGX7sCMr4 JHgSvx4/VrHV3kWWyMVgG5STs1yVU29YNMGKmR/v6Qr11uu9LEcePNBcDcd1N05rTWhD 8PGkEehW/4Hrz9Igp+oh+t+rLS6yZwfxcRNzW/bhgMbBwYBU52fYiR3id2fIPZLRqQG9 jRp+AdeAHsFkDNgH/z3EhUFgGZ/ndNLE74GcVBIEa7l68mJPkLO5fiORV9lPGEmMMoRw YTuA== X-Gm-Message-State: AOJu0Yz5Os/jOSJq5VD6/WZJaD36/9YrpVZHsZ85TITKZrQ2X91S+jXB 181EfR4Iy2SHxbUyEzZ7d4AOg2Vpm2CcoWkZk26vQFto/jGURtC/NSPS011vDamdbIe9s950MpS V07joOYfn1dIf0wzKwgNX4xLCe8prVk2UrrrstwjClj0hpTj8fN5pGU0r X-Gm-Gg: ASbGnctmilpQ8piGEm63m0HSbp8FpaxvPXd2Hg23GF2qwdN4NPX0CVWRSulRnZmL1KW IJD0AaKGx6K/NZIUV4JVXlkAeNDgZ++7P3ux/Zigh1A+soso5RoEh4XwrsAZ4Fh2H5Hg4hI8Tv9 i3kMhXUI0xyoMlFQvybL2hPqlqsmpe9gc266cv0fnE865SkjjW6zlKPbO8etBMzAMF+V3Sxqpt9 i3pa52A+vhAf4rNBugsgamCS7VIzZrENI9GelwHQb4k9amj+I0DeKHM8yPNQ9gKu8AHJEN/Fhsk 4E/sDYggGARfbdepALsPlG+xnYlICenW++sqj7r4ZN6hziSj X-Google-Smtp-Source: AGHT+IFNrrtV0CtgWkKG6i+8Y2/nHnFGSBA3zvMeCllsRZUISBWbHvI1kf5H2cldnGXNpXSif9ZryXl0ftWL X-Received: by 2002:a05:622a:289:b0:476:7ff5:cc27 with SMTP id d75a77b69052e-479601588bbmr23131161cf.51.1744199906479; Wed, 09 Apr 2025 04:58:26 -0700 (PDT) Received: from postal.iol.unh.edu (postal.iol.unh.edu. [2606:4100:3880:1234::84]) by smtp-relay.gmail.com with ESMTPS id d75a77b69052e-47964da3cf2sm959791cf.8.2025.04.09.04.58.26 (version=TLS1_2 cipher=ECDHE-ECDSA-AES128-GCM-SHA256 bits=128/128); Wed, 09 Apr 2025 04:58:26 -0700 (PDT) X-Relaying-Domain: iol.unh.edu Date: Wed, 09 Apr 2025 04:58:26 -0700 (PDT) Message-ID: <67f660e2.c80a0220.1e98c7.22bbSMTPIN_ADDED_MISSING@mx.google.com> Received: from [172.21.0.6] (unknown [172.18.0.240]) by postal.iol.unh.edu (Postfix) with ESMTP id 1CFD66052471; Wed, 9 Apr 2025 07:58:24 -0400 (EDT) Subject: |SUCCESS| pw152851 [PATCH] net/igc: fix xstats name From: dpdklab@iol.unh.edu To: Test Report Cc: dpdk-test-reports@iol.unh.edu In-Reply-To: <20250409010711.761050-1-kaiwenx.deng@intel.com> References: <20250409010711.761050-1-kaiwenx.deng@intel.com> Content-Type: text/plain X-BeenThere: test-report@dpdk.org X-Mailman-Version: 2.1.29 Precedence: list List-Id: automatic DPDK test reports List-Unsubscribe: , List-Archive: List-Post: List-Help: List-Subscribe: , Errors-To: test-report-bounces@dpdk.org Test-Label: iol-compile-amd64-testing Test-Status: SUCCESS http://dpdk.org/patch/152851 _Testing PASS_ Submitter: Kaiwen Deng Date: Wednesday, April 09 2025 01:07:11 DPDK git baseline: Repo:dpdk Branch: master CommitID:d7817c378fecd07c59360667f93c25dff4b1a145 152851 --> testing pass Upstream job id: Generic-DPDK-Compile-Meson#378661 Test environment and result as below: +-----------------------------------+--------------------+-------------------+------------------+-------------------+ | Environment | dpdk_meson_compile | dpdk_compile_spdk | dpdk_compile_ovs | dpdk_msvc_compile | +===================================+====================+===================+==================+===================+ | CentOS Stream 9 | PASS | PASS | SKIPPED | SKIPPED | +-----------------------------------+--------------------+-------------------+------------------+-------------------+ | Fedora 40 (Clang) | PASS | PASS | SKIPPED | SKIPPED | +-----------------------------------+--------------------+-------------------+------------------+-------------------+ | Debian 12 | PASS | PASS | SKIPPED | SKIPPED | +-----------------------------------+--------------------+-------------------+------------------+-------------------+ | CentOS Stream 10 | PASS | SKIPPED | SKIPPED | SKIPPED | +-----------------------------------+--------------------+-------------------+------------------+-------------------+ | Fedora 40 | PASS | PASS | SKIPPED | SKIPPED | +-----------------------------------+--------------------+-------------------+------------------+-------------------+ | Fedora 41 | PASS | PASS | PASS | SKIPPED | +-----------------------------------+--------------------+-------------------+------------------+-------------------+ | Fedora 41 (Clang) | PASS | PASS | PASS | SKIPPED | +-----------------------------------+--------------------+-------------------+------------------+-------------------+ | openSUSE Leap 15 | PASS | SKIPPED | SKIPPED | SKIPPED | +-----------------------------------+--------------------+-------------------+------------------+-------------------+ | RHEL8 | PASS | SKIPPED | SKIPPED | SKIPPED | +-----------------------------------+--------------------+-------------------+------------------+-------------------+ | RHEL9 | PASS | SKIPPED | SKIPPED | SKIPPED | +-----------------------------------+--------------------+-------------------+------------------+-------------------+ | Ubuntu 20.04 | PASS | SKIPPED | SKIPPED | SKIPPED | +-----------------------------------+--------------------+-------------------+------------------+-------------------+ | Ubuntu 22.04 | PASS | PASS | SKIPPED | SKIPPED | +-----------------------------------+--------------------+-------------------+------------------+-------------------+ | Ubuntu 24.04 | PASS | PASS | PASS | SKIPPED | +-----------------------------------+--------------------+-------------------+------------------+-------------------+ | Ubuntu 24.04 32 Bit Cross Compile | PASS | SKIPPED | SKIPPED | SKIPPED | +-----------------------------------+--------------------+-------------------+------------------+-------------------+ | Alpine | PASS | SKIPPED | SKIPPED | SKIPPED | +-----------------------------------+--------------------+-------------------+------------------+-------------------+ | FreeBSD 13.5 | PASS | SKIPPED | SKIPPED | SKIPPED | +-----------------------------------+--------------------+-------------------+------------------+-------------------+ | FreeBSD 14.2 | PASS | SKIPPED | SKIPPED | SKIPPED | +-----------------------------------+--------------------+-------------------+------------------+-------------------+ | Windows Server 2022 | SKIPPED | SKIPPED | SKIPPED | PASS | +-----------------------------------+--------------------+-------------------+------------------+-------------------+ CentOS Stream 9 Kernel: Depends on container host Compiler: gcc 11.5.0 20240719 (Red Hat 11.5.0-2) Fedora 40 (Clang) Kernel: Depends on container host Compiler: clang 18.1.8 (Fedora 18.1.8-1.fc40) Debian 12 Kernel: Depends on container host Compiler: gcc (Debian 12.2.0-14) 12.2.0 CentOS Stream 10 Kernel: Depends on container host Compiler: gcc 14.2.1 20241104 (Red Hat 14.2.1-6) Fedora 40 Kernel: Depends on container host Compiler: gcc 14.2.1 20240912 (Red Hat 14.2.1-3) Fedora 41 Kernel: Depends on container host Compiler: gcc 14.2.1 20240912 (Red Hat 14.2.1-3) Fedora 41 (Clang) Kernel: Depends on container host Compiler: clang 19.1.5 (Fedora 19.1.5-1.fc41) openSUSE Leap 15 Kernel: Depends on container host Compiler: gcc (SUSE Linux) 7.5.0 RHEL8 Kernel: Depends on container host Compiler: gcc 8.5.0 20210514 (Red Hat 8.5.0-22) RHEL9 Kernel: Depends on container host Compiler: gcc 11.5.0 20240719 (Red Hat 11.5.0-2) Ubuntu 20.04 Kernel: Depends on container host Compiler: gcc (Ubuntu 9.4.0-1ubuntu1~20.04.2) 9.4.0 Ubuntu 22.04 Kernel: Depends on container host Compiler: gcc (Ubuntu 11.4.0-1ubuntu1~22.04) 11.4.0 Ubuntu 24.04 Kernel: Depends on container host Compiler: gcc (Ubuntu 13.3.0-6ubuntu2~24.04) 13.3.0 Ubuntu 24.04 32 Bit Cross Compile Kernel: Depends on container host Compiler: gcc (Ubuntu 13.3.0-6ubuntu2~24.04) 13.3.0 Alpine Kernel: Depends on container host Compiler: gcc (Alpine 14.2.0) 14.2.0 FreeBSD 13.5 Kernel: 13.5-RELEASE Compiler: clang 19.1.7 FreeBSD 14.2 Kernel: 14.2-RELEASE Compiler: clang 18.1.6 Windows Server 2022 Kernel: 10.0.20348.2031 Compiler: clang 15.0.7, gcc 14.1.0 (MinGW), and MSVC VS 19.39.33521 To view detailed results, visit: https://lab.dpdk.org/results/dashboard/patchsets/32978/ UNH-IOL DPDK Community Lab To manage your email subscriptions, visit: https://lab.dpdk.org/results/dashboard/preferences/subscriptions/