From mboxrd@z Thu Jan 1 00:00:00 1970 Return-Path: Received: from mails.dpdk.org (mails.dpdk.org [217.70.189.124]) by inbox.dpdk.org (Postfix) with ESMTP id 376C146544 for ; Wed, 9 Apr 2025 14:02:20 +0200 (CEST) Received: from mails.dpdk.org (localhost [127.0.0.1]) by mails.dpdk.org (Postfix) with ESMTP id 31F46402E5; Wed, 9 Apr 2025 14:02:20 +0200 (CEST) Received: from mail-il1-f227.google.com (mail-il1-f227.google.com [209.85.166.227]) by mails.dpdk.org (Postfix) with ESMTP id D2D30402B7 for ; Wed, 9 Apr 2025 14:02:18 +0200 (CEST) Received: by mail-il1-f227.google.com with SMTP id e9e14a558f8ab-3d57143ee39so52526165ab.1 for ; Wed, 09 Apr 2025 05:02:18 -0700 (PDT) DKIM-Signature: v=1; a=rsa-sha256; c=relaxed/relaxed; d=iol.unh.edu; s=unh-iol; t=1744200138; x=1744804938; darn=dpdk.org; h=references:in-reply-to:cc:to:from:subject:message-id:date:from:to :cc:subject:date:message-id:reply-to; bh=OyemUpwz0DjrchH8zNK6qEPXl3NfsXd8/uU04d6hqew=; b=HMxutgJsJfe4gQ7UGUjD9HMzBiJW3bXnRylNS3ms9a39ziHEE6UDxWhR+hiKI2E2jN sWZIw6R9/55/6WguE5OzWoq7HMPupR8WP6AClKUwloVOw3hXDxnVpLAiHcNer2PFj4Mw FbPwUt+1qgewEQ3Fv754vkZICsfvcu1WUGRs0= X-Google-DKIM-Signature: v=1; a=rsa-sha256; c=relaxed/relaxed; d=1e100.net; s=20230601; t=1744200138; x=1744804938; h=references:in-reply-to:cc:to:from:subject:message-id:date :x-gm-message-state:from:to:cc:subject:date:message-id:reply-to; bh=OyemUpwz0DjrchH8zNK6qEPXl3NfsXd8/uU04d6hqew=; b=cKp4qcDOpOVnhCI2294VWMrColerjeA2aQNggHbPRUOEZoLsigJ/pG5vna6N8k/sC8 mTjSrhjbPGfQ5ymVXeKS6s+s9lIRxCUq+cCdlxhBZFVBrNT2sSJLsRfr6Y4cV2fpXmMw Q1QmclqNl1OaRsEy7d8msiiPPvz1171BQZvLRkFxN5WBOV/dqN+cNuyCF13RMRJRpT3Z hEQo9TZmAmXnEzWdxxg9m70rQRCTeUCZ9vL6IVHF/wJY0f60HpIw7G3fLpEST7cGOVJi iOK1CL84K+nZjQ488ogEzmO+I3hDloe2oWE4WTkzzCPyCEaFcDQbRh8Ksw8gg7Vsq6ar 9rpA== X-Gm-Message-State: AOJu0Yz/bzSKKiWzQXIt5c8KR66F5pSVgv+DzAnB9y385AnpiScul/WP ojIlmRzQ1mWQ54ihNaBeTksvMEf1i2QzHrxwUGdtFQaYAWs+SZfZhiXsEhAYsIdXMll7sVL+iYP AvA2WGh1ZurOe2cJSIEft/uMeFgvjwQ2n7EO2trCu X-Gm-Gg: ASbGncvcut64m7ivnhHR6M4KFJMsjLWKih9a1Zr5Xsih0u3MPeQ5OR8B3unYwN1TWnh QoE95qAgXTwbwESBBa235PkwQ0uSxFj8l1kmhJgxVE/5m0rBtPsNu0CHJ/2w9+IF8ilZ1Z/Lppz Pa7kKeQPoL4PS07D+aWYHsGJuiToN6p5rMsiKd8s1j1lSkZ6i32GtMH+rd64zisTZLlYVI1R2Si ksun72he47Jul7ry9gzuKqdQTFaVtVAyH8jKf4fchifz+UvKG4VBVeyHfYoADncP1/uL3AR40tI XIKWTfWJlvmbeJGiMY3Uq3KDI+TOgzAjUeVS X-Google-Smtp-Source: AGHT+IHT+A214rPnB11DITyinkD44MGez4TO/0yW1+RHvMVE6X663NIySohiiyofVYPSUT1YYTFqem10bGOf X-Received: by 2002:a05:6e02:3004:b0:3d3:fdb8:1796 with SMTP id e9e14a558f8ab-3d7b45fd15emr20761365ab.2.1744200138150; Wed, 09 Apr 2025 05:02:18 -0700 (PDT) Received: from postal.iol.unh.edu (postal.iol.unh.edu. [132.177.123.84]) by smtp-relay.gmail.com with ESMTPS id e9e14a558f8ab-3d7dba783d1sm1259895ab.9.2025.04.09.05.02.18 (version=TLS1_2 cipher=ECDHE-ECDSA-AES128-GCM-SHA256 bits=128/128); Wed, 09 Apr 2025 05:02:18 -0700 (PDT) X-Relaying-Domain: iol.unh.edu Date: Wed, 09 Apr 2025 05:02:18 -0700 (PDT) Message-ID: <67f661ca.050a0220.23cb66.3003SMTPIN_ADDED_MISSING@mx.google.com> Received: from [172.21.0.6] (unknown [172.18.0.240]) by postal.iol.unh.edu (Postfix) with ESMTP id 9FDA46052471; Wed, 9 Apr 2025 08:02:14 -0400 (EDT) Subject: |SUCCESS| pw152851 [PATCH] net/igc: fix xstats name From: dpdklab@iol.unh.edu To: Test Report Cc: dpdk-test-reports@iol.unh.edu In-Reply-To: <20250409010711.761050-1-kaiwenx.deng@intel.com> References: <20250409010711.761050-1-kaiwenx.deng@intel.com> Content-Type: text/plain X-BeenThere: test-report@dpdk.org X-Mailman-Version: 2.1.29 Precedence: list List-Id: automatic DPDK test reports List-Unsubscribe: , List-Archive: List-Post: List-Help: List-Subscribe: , Errors-To: test-report-bounces@dpdk.org Test-Label: iol-compile-arm64-testing Test-Status: SUCCESS http://dpdk.org/patch/152851 _Testing PASS_ Submitter: Kaiwen Deng Date: Wednesday, April 09 2025 01:07:11 DPDK git baseline: Repo:dpdk Branch: master CommitID:d7817c378fecd07c59360667f93c25dff4b1a145 152851 --> testing pass Upstream job id: Generic-DPDK-Compile-Meson#378672 Test environment and result as below: +----------------------------------------+--------------------+ | Environment | dpdk_meson_compile | +========================================+====================+ | RHEL9 (ARM) | PASS | +----------------------------------------+--------------------+ | Ubuntu 20.04 ARM SVE | PASS | +----------------------------------------+--------------------+ | Ubuntu 20.04 ARM GCC Cross Compile | PASS | +----------------------------------------+--------------------+ | Debian 12 with MUSDK | PASS | +----------------------------------------+--------------------+ | Fedora 40 (ARM) | PASS | +----------------------------------------+--------------------+ | Fedora 40 (ARM Clang) | PASS | +----------------------------------------+--------------------+ | Fedora 41 (ARM) | PASS | +----------------------------------------+--------------------+ | Fedora 41 (ARM Clang) | PASS | +----------------------------------------+--------------------+ | Ubuntu 20.04 (ARM) | PASS | +----------------------------------------+--------------------+ | Ubuntu 24.04 (ARM) | PASS | +----------------------------------------+--------------------+ | Ubuntu 22.04 (ARM) | PASS | +----------------------------------------+--------------------+ | CentOS Stream 10 (ARM) | PASS | +----------------------------------------+--------------------+ | Debian 12 (arm) | PASS | +----------------------------------------+--------------------+ | Ubuntu 20.04 ARM Clang Cross Compile | PASS | +----------------------------------------+--------------------+ | Ubuntu 20.04 aarch32 GCC Cross Compile | PASS | +----------------------------------------+--------------------+ | CentOS Stream 9 (ARM) | PASS | +----------------------------------------+--------------------+ RHEL9 (ARM) Kernel: Depends on container host Compiler: gcc 11.5.0 20240719 (Red Hat 11.5.0-2) Ubuntu 20.04 ARM SVE Kernel: Depends on container host Compiler: gcc (Ubuntu 10.5.0-1ubuntu1~20.04) 10.5.0 Ubuntu 20.04 ARM GCC Cross Compile Kernel: Depends on container host Compiler: aarch64-linux-gnu-gcc (Ubuntu 9.4.0-1ubuntu1~20.04.2) 9.4.0 Debian 12 with MUSDK Kernel: Depends on container host Compiler: gcc (Debian 12.2.0-14) 12.2.0 Fedora 40 (ARM) Kernel: Depends on container host Compiler: gcc 14.2.1 20240912 (Red Hat 14.2.1-3) Fedora 40 (ARM Clang) Kernel: Depends on container host Compiler: clang 18.1.8 (Fedora 18.1.8-1.fc40) Fedora 41 (ARM) Kernel: Depends on container host Compiler: gcc 14.2.1 20240912 (Red Hat 14.2.1-3) Fedora 41 (ARM Clang) Kernel: Depends on container host Compiler: clang 19.1.5 (Fedora 19.1.5-1.fc41) Ubuntu 20.04 (ARM) Kernel: Depends on container host Compiler: gcc (Ubuntu 9.4.0-1ubuntu1~20.04.2) 9.4.0 Ubuntu 24.04 (ARM) Kernel: Depends on container host Compiler: gcc (Ubuntu 13.3.0-6ubuntu2~24.04) 13.3.0 Ubuntu 22.04 (ARM) Kernel: Depends on container host Compiler: gcc (Ubuntu 11.4.0-1ubuntu1~22.04) 11.4.0 CentOS Stream 10 (ARM) Kernel: Depends on container host Compiler: gcc 14.2.1 20241104 (Red Hat 14.2.1-6) Debian 12 (arm) Kernel: Depends on container host Compiler: gcc (Debian 12.2.0-14) 12.2.0 Ubuntu 20.04 ARM Clang Cross Compile Kernel: Depends on container host Compiler: clang 10.0.0-4ubuntu1 Ubuntu 20.04 aarch32 GCC Cross Compile Kernel: Depends on container host Compiler: gcc 9.4.0 CentOS Stream 9 (ARM) Kernel: Depends on container host Compiler: gcc 11.5.0 20240719 (Red Hat 11.5.0-2) To view detailed results, visit: https://lab.dpdk.org/results/dashboard/patchsets/32978/ UNH-IOL DPDK Community Lab To manage your email subscriptions, visit: https://lab.dpdk.org/results/dashboard/preferences/subscriptions/