From mboxrd@z Thu Jan 1 00:00:00 1970 Return-Path: Received: from mails.dpdk.org (mails.dpdk.org [217.70.189.124]) by inbox.dpdk.org (Postfix) with ESMTP id 5EC4F46544 for ; Wed, 9 Apr 2025 14:58:07 +0200 (CEST) Received: from mails.dpdk.org (localhost [127.0.0.1]) by mails.dpdk.org (Postfix) with ESMTP id 5B41D4064F; Wed, 9 Apr 2025 14:58:07 +0200 (CEST) Received: from mail-qk1-f226.google.com (mail-qk1-f226.google.com [209.85.222.226]) by mails.dpdk.org (Postfix) with ESMTP id 523BF40649 for ; Wed, 9 Apr 2025 14:58:06 +0200 (CEST) Received: by mail-qk1-f226.google.com with SMTP id af79cd13be357-7c59e7039eeso933729885a.2 for ; Wed, 09 Apr 2025 05:58:06 -0700 (PDT) DKIM-Signature: v=1; a=rsa-sha256; c=relaxed/relaxed; d=iol.unh.edu; s=unh-iol; t=1744203485; x=1744808285; darn=dpdk.org; h=references:in-reply-to:cc:to:from:subject:message-id:date:from:to :cc:subject:date:message-id:reply-to; bh=/Cgakl+LpnaBN0OPgl9cbCNshIsaYwYIggz9H/Q3acQ=; b=jLzaVLyghtrPRHGGf/fCi4WFbGiZu2sueWUC71ysvId+6HyDbRUhvY+MBY7iKXdmNy GnNhvHWyhVSUy+v+Pkv0SPTps/noBkDox6/oG8rjCZ6HSYCU/fXxp7FNqRwW4eEKwYEt Fmu7dImsDZjHffFVhqRiOhvZ48vA4E9VYi+E8= X-Google-DKIM-Signature: v=1; a=rsa-sha256; c=relaxed/relaxed; d=1e100.net; s=20230601; t=1744203485; x=1744808285; h=references:in-reply-to:cc:to:from:subject:message-id:date :x-gm-message-state:from:to:cc:subject:date:message-id:reply-to; bh=/Cgakl+LpnaBN0OPgl9cbCNshIsaYwYIggz9H/Q3acQ=; b=tHsOGCdeKMgUJ+54w1S3cItTMl+724mRgWYWN7Gh8rFmdS/NjKXFzx9Jjj4RIn7Bct NhD0bJi9PbKMcy4mv7L2iJ+ghIau/RLpFtC0EwXf8il1nsd9Lroda/kIO4UpgGHvumNm fhtdFMpcMDK4KPERiWwpo05bbE4t7Z5RYbcExFFUbbvnBNCh1iJutdyeX0uazcV9GETg zOnK92JfAZXp31lzf1M0kBYNGhFbySOmPN8W6wWD4j7AXgZ70lXSeW27JQAHimRSlKBs 5N7sYd2cjM///MUNGNXdEKkhc9EDRclu2vfwseXjpX+UhIAVfHttvawxomuc53fyHRRm QCVQ== X-Gm-Message-State: AOJu0YyfxE5vGKhmntnfonmrRlfBnbsSHEWCNABAbhNVnr6tig7IQx3p ilTggi3riyjN2y7/97fq88FFM+BL6L3STo+81uWIpXn9g7OtkK4/EKfBFGDJmfcGBxKX60oeil3 DUqnSuX+D9o2hzA7qqJTmF2QFWDXQjJNZq2W/8dOuXaSbr7OnvZJEI0Ez X-Gm-Gg: ASbGncs2LvdLU6RZkcWLgRjtHcKSst2K/uDyVVmRrUlabnL9MUZNmmrdPDE3oRSbR4W FQ/gWvu+gAOsTY9IFq6uUtEje5Bw7Tgr/5+gbA4fLRFQyYgdLhsKtX1URXOIcvjlAFSXPnpzst2 YbnGeN2GcRyTjVCAPyUFtWFRg7DbIlai8GHuJePncg/1uRWs6GYqTnhLqgx+/UoW8zp7UPphwpz 2b24DW/pEAASawC3h7k5oxUg7V27SSnVNNqUNthw7xqbG35xZpJ2mjSal8wiclNK+Qgcn5OAlHO vaVzGbw/Ybj5uPmOulvP0J1hjqbjrGa83xwmsFYHPHVR29Io X-Google-Smtp-Source: AGHT+IHJJm4Yci2qXN7+WF7JFynodkiHxnGVR0GGBRpAzpIpubO9TFPA49um7EsHxRh+pT8hQWhnsoMh72ew X-Received: by 2002:a05:6214:dc3:b0:6e8:fa7a:14ab with SMTP id 6a1803df08f44-6f0dd0245c8mr29502446d6.6.1744203485640; Wed, 09 Apr 2025 05:58:05 -0700 (PDT) Received: from postal.iol.unh.edu (postal.iol.unh.edu. [2606:4100:3880:1234::84]) by smtp-relay.gmail.com with ESMTPS id 6a1803df08f44-6f0dea161d0sm1234626d6.69.2025.04.09.05.58.05 (version=TLS1_2 cipher=ECDHE-ECDSA-AES128-GCM-SHA256 bits=128/128); Wed, 09 Apr 2025 05:58:05 -0700 (PDT) X-Relaying-Domain: iol.unh.edu Date: Wed, 09 Apr 2025 05:58:05 -0700 (PDT) Message-ID: <67f66edd.050a0220.b867c.34ddSMTPIN_ADDED_MISSING@mx.google.com> Received: from [172.21.0.9] (unknown [172.18.0.240]) by postal.iol.unh.edu (Postfix) with ESMTP id 3E1C86052471; Wed, 9 Apr 2025 08:58:05 -0400 (EDT) Subject: |SUCCESS| pw152851 [PATCH] net/igc: fix xstats name From: dpdklab@iol.unh.edu To: Test Report Cc: dpdk-test-reports@iol.unh.edu In-Reply-To: <20250409010711.761050-1-kaiwenx.deng@intel.com> References: <20250409010711.761050-1-kaiwenx.deng@intel.com> Content-Type: text/plain X-BeenThere: test-report@dpdk.org X-Mailman-Version: 2.1.29 Precedence: list List-Id: automatic DPDK test reports List-Unsubscribe: , List-Archive: List-Post: List-Help: List-Subscribe: , Errors-To: test-report-bounces@dpdk.org Test-Label: iol-compile-amd64-testing Test-Status: SUCCESS http://dpdk.org/patch/152851 _Testing PASS_ Submitter: Kaiwen Deng Date: Wednesday, April 09 2025 01:07:11 DPDK git baseline: Repo:dpdk Branch: master CommitID:d7817c378fecd07c59360667f93c25dff4b1a145 152851 --> testing pass Upstream job id: Windows-Compile-DPDK-Native#27784 Test environment and result as below: +-----------------------------------+--------------------+-------------------+------------------+-------------------+-------------------------+ | Environment | dpdk_meson_compile | dpdk_compile_spdk | dpdk_compile_ovs | dpdk_msvc_compile | dpdk_llvm_clang_compile | +===================================+====================+===================+==================+===================+=========================+ | CentOS Stream 9 | PASS | PASS | SKIPPED | SKIPPED | SKIPPED | +-----------------------------------+--------------------+-------------------+------------------+-------------------+-------------------------+ | Fedora 40 (Clang) | PASS | PASS | SKIPPED | SKIPPED | SKIPPED | +-----------------------------------+--------------------+-------------------+------------------+-------------------+-------------------------+ | Debian 12 | PASS | PASS | SKIPPED | SKIPPED | SKIPPED | +-----------------------------------+--------------------+-------------------+------------------+-------------------+-------------------------+ | CentOS Stream 10 | PASS | SKIPPED | SKIPPED | SKIPPED | SKIPPED | +-----------------------------------+--------------------+-------------------+------------------+-------------------+-------------------------+ | Fedora 40 | PASS | PASS | SKIPPED | SKIPPED | SKIPPED | +-----------------------------------+--------------------+-------------------+------------------+-------------------+-------------------------+ | Fedora 41 | PASS | PASS | PASS | SKIPPED | SKIPPED | +-----------------------------------+--------------------+-------------------+------------------+-------------------+-------------------------+ | Fedora 41 (Clang) | PASS | PASS | PASS | SKIPPED | SKIPPED | +-----------------------------------+--------------------+-------------------+------------------+-------------------+-------------------------+ | openSUSE Leap 15 | PASS | SKIPPED | SKIPPED | SKIPPED | SKIPPED | +-----------------------------------+--------------------+-------------------+------------------+-------------------+-------------------------+ | RHEL8 | PASS | SKIPPED | SKIPPED | SKIPPED | SKIPPED | +-----------------------------------+--------------------+-------------------+------------------+-------------------+-------------------------+ | RHEL9 | PASS | SKIPPED | SKIPPED | SKIPPED | SKIPPED | +-----------------------------------+--------------------+-------------------+------------------+-------------------+-------------------------+ | Ubuntu 20.04 | PASS | SKIPPED | SKIPPED | SKIPPED | SKIPPED | +-----------------------------------+--------------------+-------------------+------------------+-------------------+-------------------------+ | Ubuntu 22.04 | PASS | PASS | SKIPPED | SKIPPED | SKIPPED | +-----------------------------------+--------------------+-------------------+------------------+-------------------+-------------------------+ | Ubuntu 24.04 | PASS | PASS | PASS | SKIPPED | SKIPPED | +-----------------------------------+--------------------+-------------------+------------------+-------------------+-------------------------+ | Ubuntu 24.04 32 Bit Cross Compile | PASS | SKIPPED | SKIPPED | SKIPPED | SKIPPED | +-----------------------------------+--------------------+-------------------+------------------+-------------------+-------------------------+ | Alpine | PASS | SKIPPED | SKIPPED | SKIPPED | SKIPPED | +-----------------------------------+--------------------+-------------------+------------------+-------------------+-------------------------+ | FreeBSD 13.5 | PASS | SKIPPED | SKIPPED | SKIPPED | SKIPPED | +-----------------------------------+--------------------+-------------------+------------------+-------------------+-------------------------+ | FreeBSD 14.2 | PASS | SKIPPED | SKIPPED | SKIPPED | SKIPPED | +-----------------------------------+--------------------+-------------------+------------------+-------------------+-------------------------+ | Windows Server 2022 | SKIPPED | SKIPPED | SKIPPED | PASS | PASS | +-----------------------------------+--------------------+-------------------+------------------+-------------------+-------------------------+ CentOS Stream 9 Kernel: Depends on container host Compiler: gcc 11.5.0 20240719 (Red Hat 11.5.0-2) Fedora 40 (Clang) Kernel: Depends on container host Compiler: clang 18.1.8 (Fedora 18.1.8-1.fc40) Debian 12 Kernel: Depends on container host Compiler: gcc (Debian 12.2.0-14) 12.2.0 CentOS Stream 10 Kernel: Depends on container host Compiler: gcc 14.2.1 20241104 (Red Hat 14.2.1-6) Fedora 40 Kernel: Depends on container host Compiler: gcc 14.2.1 20240912 (Red Hat 14.2.1-3) Fedora 41 Kernel: Depends on container host Compiler: gcc 14.2.1 20240912 (Red Hat 14.2.1-3) Fedora 41 (Clang) Kernel: Depends on container host Compiler: clang 19.1.5 (Fedora 19.1.5-1.fc41) openSUSE Leap 15 Kernel: Depends on container host Compiler: gcc (SUSE Linux) 7.5.0 RHEL8 Kernel: Depends on container host Compiler: gcc 8.5.0 20210514 (Red Hat 8.5.0-22) RHEL9 Kernel: Depends on container host Compiler: gcc 11.5.0 20240719 (Red Hat 11.5.0-2) Ubuntu 20.04 Kernel: Depends on container host Compiler: gcc (Ubuntu 9.4.0-1ubuntu1~20.04.2) 9.4.0 Ubuntu 22.04 Kernel: Depends on container host Compiler: gcc (Ubuntu 11.4.0-1ubuntu1~22.04) 11.4.0 Ubuntu 24.04 Kernel: Depends on container host Compiler: gcc (Ubuntu 13.3.0-6ubuntu2~24.04) 13.3.0 Ubuntu 24.04 32 Bit Cross Compile Kernel: Depends on container host Compiler: gcc (Ubuntu 13.3.0-6ubuntu2~24.04) 13.3.0 Alpine Kernel: Depends on container host Compiler: gcc (Alpine 14.2.0) 14.2.0 FreeBSD 13.5 Kernel: 13.5-RELEASE Compiler: clang 19.1.7 FreeBSD 14.2 Kernel: 14.2-RELEASE Compiler: clang 18.1.6 Windows Server 2022 Kernel: 10.0.20348.2031 Compiler: clang 15.0.7, gcc 14.1.0 (MinGW), and MSVC VS 19.39.33521 To view detailed results, visit: https://lab.dpdk.org/results/dashboard/patchsets/32978/ UNH-IOL DPDK Community Lab To manage your email subscriptions, visit: https://lab.dpdk.org/results/dashboard/preferences/subscriptions/