From mboxrd@z Thu Jan  1 00:00:00 1970
Return-Path: <test-report-bounces@dpdk.org>
Received: from mails.dpdk.org (mails.dpdk.org [217.70.189.124])
	by inbox.dpdk.org (Postfix) with ESMTP id 4192B46544
	for <public@inbox.dpdk.org>; Wed,  9 Apr 2025 15:19:37 +0200 (CEST)
Received: from mails.dpdk.org (localhost [127.0.0.1])
	by mails.dpdk.org (Postfix) with ESMTP id 6E0DC402F0;
	Wed,  9 Apr 2025 15:19:36 +0200 (CEST)
Received: from mail-pl1-f228.google.com (mail-pl1-f228.google.com
 [209.85.214.228])
 by mails.dpdk.org (Postfix) with ESMTP id 23F25402B7
 for <test-report@dpdk.org>; Wed,  9 Apr 2025 15:19:35 +0200 (CEST)
Received: by mail-pl1-f228.google.com with SMTP id
 d9443c01a7336-224191d92e4so64271045ad.3
 for <test-report@dpdk.org>; Wed, 09 Apr 2025 06:19:35 -0700 (PDT)
DKIM-Signature: v=1; a=rsa-sha256; c=relaxed/relaxed;
 d=iol.unh.edu; s=unh-iol; t=1744204774; x=1744809574; darn=dpdk.org;
 h=references:in-reply-to:cc:to:from:subject:message-id:date:from:to
 :cc:subject:date:message-id:reply-to;
 bh=vGjLwTojY1xtV6xeg836QUwH/AJUuZY9sJzW4BbEkgY=;
 b=OjS9ZBAof7iGEDWDGbamXWcSwjUVyjt3HkzoYq0k83hVFX1wEW8sFEWFpcrzTeBY6s
 GXCe9Xr2E9vv91wSkhL0uKCCn1cDRZ97oxzYprsFX5Q8vLK0jCWZLwKyQRNiqhWp+ju0
 0up+NFIg1o34CAUPUnF8e4BZ6Il3eyP+wo8Ao=
X-Google-DKIM-Signature: v=1; a=rsa-sha256; c=relaxed/relaxed;
 d=1e100.net; s=20230601; t=1744204774; x=1744809574;
 h=references:in-reply-to:cc:to:from:subject:message-id:date
 :x-gm-message-state:from:to:cc:subject:date:message-id:reply-to;
 bh=vGjLwTojY1xtV6xeg836QUwH/AJUuZY9sJzW4BbEkgY=;
 b=kJofrRHiJgZD5p/C+QTJIa9tmhrxkw5fgALrLs08y4IwH+ZpNMqP0gsvsHhwDOkpZS
 l4H8C54rU2EsVWoNR37KCSdchnS+JhhId48OYFW7aYFarJc01Qrvr1J/Buh7I/81a+KH
 O6UqQ/FJ39BMHqryvZk9vNNtptusk1rBM2a1huLEu8pf70LkzDqvZrlc2cGWVA5dMuGh
 s//IsbnIIuogmcyy7IymU8EcWDVonizDSACnM+81BOEQkW1kmeVMrxhQys7kMFADUYUO
 h/xN4TjeJgefCdR7ie8mEAwlw1hYa0P+LbQqCXlIOk9fSoHNpdV3LR895HdcYHtPJ3JN
 2Vxw==
X-Gm-Message-State: AOJu0YxIJdunvIR/2JCh6sEfwUqIB1UzF2KW0mXkLQ9uIJYHI4wZPngj
 uFLu+GyWSKU+uAESecz/PLKOEJ2S5JOkiIcvh3yaW3639hRj35sGEardVwtJ6CaYkpurNq20qc0
 TmMHfqQlw4Edb5hhJDVMXJvdZwQ80WShi7MreHDaYY284aSIil8MeEnrw
X-Gm-Gg: ASbGnctTofwP/tQqUzq3t8KxdoNPr1f7FgJde3FxasqODo5HkmXHdTokkM/ClGaQjqa
 RLNQ49pxIgTZkW0YAJE0/YiNz0Xsq6wp/FQSTmFuOHQ5KRsM3ECR7EWrLH9dhb/BX9h4yIkUP4k
 u/OrdUWvAdyFQhrT8ZanUx2BklTnCjDxWYBuItdV8bhf9IFTuzI8MCU+UWiPQPB+Bxk47bpQNAY
 gZVC8FQ3jMAHwfpKCAkhkmolVBvC+1H0kF2faSzS/fp3OFi1YmcGUCBxIxEdlJwLqVqOoxRVQ3e
 KQGhXVPp/xHy9ndxU2Cda9nfcHgjlMhtBzK+ExcnRqLvV2TR
X-Google-Smtp-Source: AGHT+IE/POcXxmZnl4CqhSKeVhwtCVN4gmShDrz6YMz4ihnHRpLEIXWKNCR1JA3aLiyZqVebs1CRJT3X4S0f
X-Received: by 2002:a17:902:ecca:b0:21f:2a2:3c8b with SMTP id
 d9443c01a7336-22ac3f3221bmr32143165ad.11.1744204774298; 
 Wed, 09 Apr 2025 06:19:34 -0700 (PDT)
Received: from postal.iol.unh.edu (postal.iol.unh.edu.
 [2606:4100:3880:1234::84]) by smtp-relay.gmail.com with ESMTPS id
 d9443c01a7336-22ac7cafd76sm629635ad.107.2025.04.09.06.19.34
 (version=TLS1_2 cipher=ECDHE-ECDSA-AES128-GCM-SHA256 bits=128/128);
 Wed, 09 Apr 2025 06:19:34 -0700 (PDT)
X-Relaying-Domain: iol.unh.edu
Date: Wed, 09 Apr 2025 06:19:34 -0700 (PDT)
Message-ID: <67f673e6.170a0220.813cc.20f8SMTPIN_ADDED_MISSING@mx.google.com>
Received: from [172.21.0.5] (unknown [172.18.0.240])
 by postal.iol.unh.edu (Postfix) with ESMTP id 7B7436052471;
 Wed,  9 Apr 2025 09:19:33 -0400 (EDT)
Subject: |SUCCESS| pw152850 [PATCH] net/igb: fix xstats name
From: dpdklab@iol.unh.edu
To: Test Report <test-report@dpdk.org>
Cc: dpdk-test-reports@iol.unh.edu
In-Reply-To: <20250409010641.760884-1-kaiwenx.deng@intel.com>
References: <20250409010641.760884-1-kaiwenx.deng@intel.com>
Content-Type: text/plain
X-BeenThere: test-report@dpdk.org
X-Mailman-Version: 2.1.29
Precedence: list
List-Id: automatic DPDK test reports <test-report.dpdk.org>
List-Unsubscribe: <https://mails.dpdk.org/options/test-report>,
 <mailto:test-report-request@dpdk.org?subject=unsubscribe>
List-Archive: <http://mails.dpdk.org/archives/test-report/>
List-Post: <mailto:test-report@dpdk.org>
List-Help: <mailto:test-report-request@dpdk.org?subject=help>
List-Subscribe: <https://mails.dpdk.org/listinfo/test-report>,
 <mailto:test-report-request@dpdk.org?subject=subscribe>
Errors-To: test-report-bounces@dpdk.org

Test-Label: iol-unit-amd64-testing
Test-Status: SUCCESS
http://dpdk.org/patch/152850

_Testing PASS_

Submitter: Kaiwen Deng <kaiwenx.deng@intel.com>
Date: Wednesday, April 09 2025 01:06:41 
DPDK git baseline: Repo:dpdk
  Branch: master
  CommitID:d7817c378fecd07c59360667f93c25dff4b1a145

152850 --> testing pass

Upstream job id: Generic-Unit-Test-DPDK#329936

Test environment and result as below:

+-------------------+----------------+
|    Environment    | dpdk_unit_test |
+===================+================+
| CentOS Stream 9   | PASS           |
+-------------------+----------------+
| CentOS Stream 10  | PASS           |
+-------------------+----------------+
| Debian 12         | PASS           |
+-------------------+----------------+
| Fedora 40         | PASS           |
+-------------------+----------------+
| Fedora 41         | PASS           |
+-------------------+----------------+
| Fedora 41 (Clang) | PASS           |
+-------------------+----------------+
| Fedora 40 (Clang) | PASS           |
+-------------------+----------------+
| RHEL8             | PASS           |
+-------------------+----------------+
| Ubuntu 20.04      | PASS           |
+-------------------+----------------+
| Ubuntu 24.04      | PASS           |
+-------------------+----------------+
| RHEL9             | PASS           |
+-------------------+----------------+
| Ubuntu 22.04      | PASS           |
+-------------------+----------------+


CentOS Stream 9
	Kernel: Depends on container host
	Compiler: gcc 11.5.0 20240719 (Red Hat 11.5.0-2)

CentOS Stream 10
	Kernel: Depends on container host
	Compiler: gcc 14.2.1 20241104 (Red Hat 14.2.1-6)

Debian 12
	Kernel: Depends on container host
	Compiler: gcc (Debian 12.2.0-14) 12.2.0

Fedora 40
	Kernel: Depends on container host
	Compiler: gcc 14.2.1 20240912 (Red Hat 14.2.1-3)

Fedora 41
	Kernel: Depends on container host
	Compiler: gcc 14.2.1 20240912 (Red Hat 14.2.1-3)

Fedora 41 (Clang)
	Kernel: Depends on container host
	Compiler: clang 19.1.5 (Fedora 19.1.5-1.fc41)

Fedora 40 (Clang)
	Kernel: Depends on container host
	Compiler: clang 18.1.8 (Fedora 18.1.8-1.fc40)

RHEL8
	Kernel: Depends on container host
	Compiler: gcc 8.5.0 20210514 (Red Hat 8.5.0-22)

Ubuntu 20.04
	Kernel: Depends on container host
	Compiler: gcc (Ubuntu 9.4.0-1ubuntu1~20.04.2) 9.4.0

Ubuntu 24.04
	Kernel: Depends on container host
	Compiler: gcc (Ubuntu 13.3.0-6ubuntu2~24.04) 13.3.0

RHEL9
	Kernel: Depends on container host
	Compiler: gcc 11.5.0 20240719 (Red Hat 11.5.0-2)

Ubuntu 22.04
	Kernel: Depends on container host
	Compiler: gcc (Ubuntu 11.4.0-1ubuntu1~22.04) 11.4.0

To view detailed results, visit:
https://lab.dpdk.org/results/dashboard/patchsets/32977/

UNH-IOL DPDK Community Lab

To manage your email subscriptions, visit: 
https://lab.dpdk.org/results/dashboard/preferences/subscriptions/