From mboxrd@z Thu Jan 1 00:00:00 1970 Return-Path: Received: from mails.dpdk.org (mails.dpdk.org [217.70.189.124]) by inbox.dpdk.org (Postfix) with ESMTP id 1C78A46545 for ; Wed, 9 Apr 2025 17:04:44 +0200 (CEST) Received: from mails.dpdk.org (localhost [127.0.0.1]) by mails.dpdk.org (Postfix) with ESMTP id 15EBD4064F; Wed, 9 Apr 2025 17:04:44 +0200 (CEST) Received: from mail-pl1-f228.google.com (mail-pl1-f228.google.com [209.85.214.228]) by mails.dpdk.org (Postfix) with ESMTP id 4A5A4402B7 for ; Wed, 9 Apr 2025 17:04:43 +0200 (CEST) Received: by mail-pl1-f228.google.com with SMTP id d9443c01a7336-2241053582dso90056715ad.1 for ; Wed, 09 Apr 2025 08:04:43 -0700 (PDT) DKIM-Signature: v=1; a=rsa-sha256; c=relaxed/relaxed; d=iol.unh.edu; s=unh-iol; t=1744211082; x=1744815882; darn=dpdk.org; h=references:in-reply-to:cc:to:from:subject:message-id:date:from:to :cc:subject:date:message-id:reply-to; bh=4My2yL/BnYOfAGB913RaedJAekA6DOuJXw9k5F5lZYg=; b=iRiNxia+lNMg3OV4X46RL6sYq8mMvEdt4tSM5BXS4h/A6BOZQ6QF8w+Ri5681k5quX GzULy9gfCeuYlTrWIaTg+cIVcbB2bsDzUdiDWGwSlBmi4z36/DmBuInuWhMs8NR3nwNF 19st82ZCXw7B3bVO/nH7MiAaUqjfSDxrep1lw= X-Google-DKIM-Signature: v=1; a=rsa-sha256; c=relaxed/relaxed; d=1e100.net; s=20230601; t=1744211082; x=1744815882; h=references:in-reply-to:cc:to:from:subject:message-id:date :x-gm-message-state:from:to:cc:subject:date:message-id:reply-to; bh=4My2yL/BnYOfAGB913RaedJAekA6DOuJXw9k5F5lZYg=; b=sL/MNtifOp3SlCbwc3zQB/uB/L8L0f5FaJgoGem7VnSGfWjKsOtrcsTLlCj9lbgmiz yvgGERdFKy5XHQAgAU9vsUH3v14h0kXMY29DsPEX+SLZEs2PrfKT6Jv4z1SkXyU5nJAn RoPbqbedQJvjSSHSIxwkFaZ7LU13V7pFnHZpRPyvQxVtjQApazEAQjVrkhfQXIp67zLe qGrdH9emhZswRP2L21UZCZsrY/OZmyKOkfwdc/eKYdA1Orrjc9ygz8Vq/3L4lfDtkBJT nYbSgz8cEHy6HrS5+ATB/y+U/S5yLdGB6cewXzlTTpbgHibp9dzYS0kD2xyaWrenEJeo kdQQ== X-Gm-Message-State: AOJu0Yy3Ym8YCezG4jdkLkQ/+eVfQHxC3pADbnrQBvfQGdag0YP8Tcxq +tWT1Benh/RtxtCkb0boAZY07A7F/Ru30CCmXow1gM5h575W6olKM8Ea13IW6KhxS9+/QJP+5cW VSMXwSyilqkguR3SjurGdFG1USGiM901I8AN4801v X-Gm-Gg: ASbGncuzef61d/+yQMiso6Zrutf6GrqR5+3CiqsAt92e58Mqr5lWJqLaubz8wLEAOWZ U+Njtxpz6iS1wWkhEVnhJw5Yvzey1B01qsx/QeENCmf1Kp6usX30n8P4NQg5cxHDx6UyIX1JQ8w uGtlcXH10/b8lVeOed0WJ7psAo16J+oe7s9cnzLrMzW9VCoI3vanp1vdhTtV0pH64unvgJKjyl6 2sMah3iJ8eNQZ9jArdJ3IvGloOW42zBummwfnRF74oBBLqTZJoBSKc1TwYUzcCEXZSIMqKZsLYk M2YtweDlOCD+pwsAuqrVjX/oLOSafQK5S7YA X-Google-Smtp-Source: AGHT+IE1zk1FB2x6KX2crJMUS76bRUmmLM3H/kabkUYw38o5MgTHfFqUInu/QHpNjhID1ktTh9iTEIbcva+g X-Received: by 2002:a17:90b:524f:b0:2ee:9e06:7db0 with SMTP id 98e67ed59e1d1-306dd32ce33mr4198765a91.11.1744211082314; Wed, 09 Apr 2025 08:04:42 -0700 (PDT) Received: from postal.iol.unh.edu (postal.iol.unh.edu. [132.177.123.84]) by smtp-relay.gmail.com with ESMTPS id d9443c01a7336-22ac7b6c301sm731675ad.37.2025.04.09.08.04.42 (version=TLS1_2 cipher=ECDHE-ECDSA-AES128-GCM-SHA256 bits=128/128); Wed, 09 Apr 2025 08:04:42 -0700 (PDT) X-Relaying-Domain: iol.unh.edu Date: Wed, 09 Apr 2025 08:04:42 -0700 (PDT) Message-ID: <67f68c8a.170a0220.237a46.29bfSMTPIN_ADDED_MISSING@mx.google.com> Received: from [172.21.0.6] (unknown [172.18.0.240]) by postal.iol.unh.edu (Postfix) with ESMTP id 804206052471; Wed, 9 Apr 2025 11:04:41 -0400 (EDT) Subject: |SUCCESS| pw152854 [PATCH] [v1] net/idpf: avoid truncation of consta From: dpdklab@iol.unh.edu To: Test Report Cc: dpdk-test-reports@iol.unh.edu In-Reply-To: <20250409125440.7103-1-praveen.shetty@intel.com> References: <20250409125440.7103-1-praveen.shetty@intel.com> Content-Type: text/plain X-BeenThere: test-report@dpdk.org X-Mailman-Version: 2.1.29 Precedence: list List-Id: automatic DPDK test reports List-Unsubscribe: , List-Archive: List-Post: List-Help: List-Subscribe: , Errors-To: test-report-bounces@dpdk.org Test-Label: iol-unit-amd64-testing Test-Status: SUCCESS http://dpdk.org/patch/152854 _Testing PASS_ Submitter: Praveen Shetty Date: Wednesday, April 09 2025 12:54:40 DPDK git baseline: Repo:dpdk Branch: master CommitID:d7817c378fecd07c59360667f93c25dff4b1a145 152854 --> testing pass Upstream job id: Generic-Unit-Test-DPDK#329981 Test environment and result as below: +-------------------+----------------+ | Environment | dpdk_unit_test | +===================+================+ | CentOS Stream 9 | PASS | +-------------------+----------------+ | Fedora 40 | PASS | +-------------------+----------------+ | Debian 12 | PASS | +-------------------+----------------+ | Fedora 41 (Clang) | PASS | +-------------------+----------------+ | CentOS Stream 10 | PASS | +-------------------+----------------+ | Fedora 40 (Clang) | PASS | +-------------------+----------------+ | RHEL8 | PASS | +-------------------+----------------+ | RHEL9 | PASS | +-------------------+----------------+ | Fedora 41 | PASS | +-------------------+----------------+ | Ubuntu 20.04 | PASS | +-------------------+----------------+ | Ubuntu 22.04 | PASS | +-------------------+----------------+ | Ubuntu 24.04 | PASS | +-------------------+----------------+ CentOS Stream 9 Kernel: Depends on container host Compiler: gcc 11.5.0 20240719 (Red Hat 11.5.0-2) Fedora 40 Kernel: Depends on container host Compiler: gcc 14.2.1 20240912 (Red Hat 14.2.1-3) Debian 12 Kernel: Depends on container host Compiler: gcc (Debian 12.2.0-14) 12.2.0 Fedora 41 (Clang) Kernel: Depends on container host Compiler: clang 19.1.5 (Fedora 19.1.5-1.fc41) CentOS Stream 10 Kernel: Depends on container host Compiler: gcc 14.2.1 20241104 (Red Hat 14.2.1-6) Fedora 40 (Clang) Kernel: Depends on container host Compiler: clang 18.1.8 (Fedora 18.1.8-1.fc40) RHEL8 Kernel: Depends on container host Compiler: gcc 8.5.0 20210514 (Red Hat 8.5.0-22) RHEL9 Kernel: Depends on container host Compiler: gcc 11.5.0 20240719 (Red Hat 11.5.0-2) Fedora 41 Kernel: Depends on container host Compiler: gcc 14.2.1 20240912 (Red Hat 14.2.1-3) Ubuntu 20.04 Kernel: Depends on container host Compiler: gcc (Ubuntu 9.4.0-1ubuntu1~20.04.2) 9.4.0 Ubuntu 22.04 Kernel: Depends on container host Compiler: gcc (Ubuntu 11.4.0-1ubuntu1~22.04) 11.4.0 Ubuntu 24.04 Kernel: Depends on container host Compiler: gcc (Ubuntu 13.3.0-6ubuntu2~24.04) 13.3.0 To view detailed results, visit: https://lab.dpdk.org/results/dashboard/patchsets/32981/ UNH-IOL DPDK Community Lab To manage your email subscriptions, visit: https://lab.dpdk.org/results/dashboard/preferences/subscriptions/