From mboxrd@z Thu Jan 1 00:00:00 1970 Return-Path: Received: from mails.dpdk.org (mails.dpdk.org [217.70.189.124]) by inbox.dpdk.org (Postfix) with ESMTP id CB6C446545 for ; Wed, 9 Apr 2025 17:11:31 +0200 (CEST) Received: from mails.dpdk.org (localhost [127.0.0.1]) by mails.dpdk.org (Postfix) with ESMTP id AF4FD4064F; Wed, 9 Apr 2025 17:11:31 +0200 (CEST) Received: from mail-yw1-f225.google.com (mail-yw1-f225.google.com [209.85.128.225]) by mails.dpdk.org (Postfix) with ESMTP id 7E3C0402B7 for ; Wed, 9 Apr 2025 17:11:30 +0200 (CEST) Received: by mail-yw1-f225.google.com with SMTP id 00721157ae682-6ef9b8b4f13so64348767b3.2 for ; Wed, 09 Apr 2025 08:11:30 -0700 (PDT) DKIM-Signature: v=1; a=rsa-sha256; c=relaxed/relaxed; d=iol.unh.edu; s=unh-iol; t=1744211490; x=1744816290; darn=dpdk.org; h=references:in-reply-to:cc:to:from:subject:message-id:date:from:to :cc:subject:date:message-id:reply-to; bh=JeVk/TeH5mUUbz2hC0d0Y53r11YR6AXWzUtZufC8VZg=; b=NghudGPG4qWK8VxTO1jWJdUm4cPrw9Bl/0rbK1knXDlcd5bTY6phDrtQ+mIDuCrWim XNk9R5/jg2VJ8Yy2iERt5aVpWJ5HZjN0J7int7jl+rYkFbdVWTRKspx1qCPzh+fqN0ps aHZYwuLabjluPRg83KlJcWLnCsMzmhdMKgL5o= X-Google-DKIM-Signature: v=1; a=rsa-sha256; c=relaxed/relaxed; d=1e100.net; s=20230601; t=1744211490; x=1744816290; h=references:in-reply-to:cc:to:from:subject:message-id:date :x-gm-message-state:from:to:cc:subject:date:message-id:reply-to; bh=JeVk/TeH5mUUbz2hC0d0Y53r11YR6AXWzUtZufC8VZg=; b=uFskb7YHkh5x34SCbzKaiADRc4k6HiojaPa6M43P9+j732pbOgIodar4b4v0SS3ObC MbxeIkcnvdt66Eu6X0DCzkPoo9oLcDTRVep23Wk2Q5X6heMGWKXMjwE88KkNUuI8gGOW 7nzfpmc5cJXNhx4D+pLKpZAZK6i0yBOr/oVCKPfSsRAyiSSU/o3gLhUWxCrEw0xHqKb3 8DUBXgVG/Aq3RvunPuwQqGlVCixGn4XdomnUkldFYpBCz5ur0jF9VTzUQ7kqqu9+TH45 b/LthesbwJDXtE01I5UMsCzBMPBASPcnjjhgVZbwFu7bgoBlbzLO2Py/9fTXmE96o0ve uY8Q== X-Gm-Message-State: AOJu0Yzum3GKkMxtSwlr44aXh4EXDck4h0SE8w4tJuTq5z/zx4HlEnnL DT/HXWzrX61Az8BEBEDWIbZVD6trVeflgm1Oaxp+OMu/O4XMZnLr26Pv5SsULkH/H57JJmNmCmk V6uk43cg76sO3nd7m9aB+LAQS6NN4c5W3X4nA0FV2sOxdGrt+f3kRaL8W X-Gm-Gg: ASbGnctirHFAGLdRUErDX4fKSaRmQjdblqR/YeJYwBd/p0p7Gi2fwFgBJI6G53kS5vF KyKoLcwnsDRV2O+gn5XlM8G8TGe1JAPuziDday3vW6kqFPMJhqygTH2iXV6YrjkYIDqIIDOkZ9D P3XSa7Ik0fDP3Gg3+hHJsvdsRt9ndE3FFDEVu2/G2SKsKSqrAaRb2BYL8k0fK66/+GmZ2akXb2N nakO4W68fVDnlDpfbY60o/G2FZC064UYtXc1EeL9ALHUXtJsvEpcVzPcIzTweJIs5DLXyaUsvxn oDx/gq3qyMsMtcmoyMp4dyrCIWL2NLbGWhLXymTTF2lCTCSp X-Google-Smtp-Source: AGHT+IHKqzlM/1bBnWXi45jPCx3jcsSJTsFNZJJgvQhcgAcR5LLv/qV5IZZx7AN7+Mk45RuGY8iEGmU1Xwu0 X-Received: by 2002:a05:690c:f15:b0:703:b278:db2d with SMTP id 00721157ae682-70538808658mr62429477b3.12.1744211489787; Wed, 09 Apr 2025 08:11:29 -0700 (PDT) Received: from postal.iol.unh.edu (postal.iol.unh.edu. [2606:4100:3880:1234::84]) by smtp-relay.gmail.com with ESMTPS id 00721157ae682-7053e0f393fsm1140147b3.2.2025.04.09.08.11.29 (version=TLS1_2 cipher=ECDHE-ECDSA-AES128-GCM-SHA256 bits=128/128); Wed, 09 Apr 2025 08:11:29 -0700 (PDT) X-Relaying-Domain: iol.unh.edu Date: Wed, 09 Apr 2025 08:11:29 -0700 (PDT) Message-ID: <67f68e21.050a0220.61d82.2d9cSMTPIN_ADDED_MISSING@mx.google.com> Received: from [172.21.0.5] (unknown [172.18.0.240]) by postal.iol.unh.edu (Postfix) with ESMTP id 6D09B6052471; Wed, 9 Apr 2025 11:11:29 -0400 (EDT) Subject: |SUCCESS| pw152854 [PATCH] [v1] net/idpf: avoid truncation of consta From: dpdklab@iol.unh.edu To: Test Report Cc: dpdk-test-reports@iol.unh.edu In-Reply-To: <20250409125440.7103-1-praveen.shetty@intel.com> References: <20250409125440.7103-1-praveen.shetty@intel.com> Content-Type: text/plain X-BeenThere: test-report@dpdk.org X-Mailman-Version: 2.1.29 Precedence: list List-Id: automatic DPDK test reports List-Unsubscribe: , List-Archive: List-Post: List-Help: List-Subscribe: , Errors-To: test-report-bounces@dpdk.org Test-Label: iol-unit-arm64-testing Test-Status: SUCCESS http://dpdk.org/patch/152854 _Testing PASS_ Submitter: Praveen Shetty Date: Wednesday, April 09 2025 12:54:40 DPDK git baseline: Repo:dpdk Branch: master CommitID:d7817c378fecd07c59360667f93c25dff4b1a145 152854 --> testing pass Upstream job id: Generic-Unit-Test-DPDK#329986 Test environment and result as below: +------------------------+----------------+ | Environment | dpdk_unit_test | +========================+================+ | CentOS Stream 9 (ARM) | PASS | +------------------------+----------------+ | CentOS Stream 10 (ARM) | PASS | +------------------------+----------------+ | Fedora 41 (ARM) | PASS | +------------------------+----------------+ | Debian 12 (arm) | PASS | +------------------------+----------------+ | Fedora 40 (ARM) | PASS | +------------------------+----------------+ | Fedora 40 (ARM Clang) | PASS | +------------------------+----------------+ | Ubuntu 20.04 (ARM) | PASS | +------------------------+----------------+ | Fedora 41 (ARM Clang) | PASS | +------------------------+----------------+ | RHEL9 (ARM) | PASS | +------------------------+----------------+ | Ubuntu 22.04 (ARM) | PASS | +------------------------+----------------+ | Ubuntu 24.04 (ARM) | PASS | +------------------------+----------------+ CentOS Stream 9 (ARM) Kernel: Depends on container host Compiler: gcc 11.5.0 20240719 (Red Hat 11.5.0-2) CentOS Stream 10 (ARM) Kernel: Depends on container host Compiler: gcc 14.2.1 20241104 (Red Hat 14.2.1-6) Fedora 41 (ARM) Kernel: Depends on container host Compiler: gcc 14.2.1 20240912 (Red Hat 14.2.1-3) Debian 12 (arm) Kernel: Depends on container host Compiler: gcc (Debian 12.2.0-14) 12.2.0 Fedora 40 (ARM) Kernel: Depends on container host Compiler: gcc 14.2.1 20240912 (Red Hat 14.2.1-3) Fedora 40 (ARM Clang) Kernel: Depends on container host Compiler: clang 18.1.8 (Fedora 18.1.8-1.fc40) Ubuntu 20.04 (ARM) Kernel: Depends on container host Compiler: gcc (Ubuntu 9.4.0-1ubuntu1~20.04.2) 9.4.0 Fedora 41 (ARM Clang) Kernel: Depends on container host Compiler: clang 19.1.5 (Fedora 19.1.5-1.fc41) RHEL9 (ARM) Kernel: Depends on container host Compiler: gcc 11.5.0 20240719 (Red Hat 11.5.0-2) Ubuntu 22.04 (ARM) Kernel: Depends on container host Compiler: gcc (Ubuntu 11.4.0-1ubuntu1~22.04) 11.4.0 Ubuntu 24.04 (ARM) Kernel: Depends on container host Compiler: gcc (Ubuntu 13.3.0-6ubuntu2~24.04) 13.3.0 To view detailed results, visit: https://lab.dpdk.org/results/dashboard/patchsets/32981/ UNH-IOL DPDK Community Lab To manage your email subscriptions, visit: https://lab.dpdk.org/results/dashboard/preferences/subscriptions/