From mboxrd@z Thu Jan  1 00:00:00 1970
Return-Path: <test-report-bounces@dpdk.org>
Received: from mails.dpdk.org (mails.dpdk.org [217.70.189.124])
	by inbox.dpdk.org (Postfix) with ESMTP id 10D5F46545
	for <public@inbox.dpdk.org>; Wed,  9 Apr 2025 17:13:21 +0200 (CEST)
Received: from mails.dpdk.org (localhost [127.0.0.1])
	by mails.dpdk.org (Postfix) with ESMTP id DE8724064F;
	Wed,  9 Apr 2025 17:13:20 +0200 (CEST)
Received: from mail-pl1-f226.google.com (mail-pl1-f226.google.com
 [209.85.214.226])
 by mails.dpdk.org (Postfix) with ESMTP id 8DC80402B7
 for <test-report@dpdk.org>; Wed,  9 Apr 2025 17:13:19 +0200 (CEST)
Received: by mail-pl1-f226.google.com with SMTP id
 d9443c01a7336-223fb0f619dso71422745ad.1
 for <test-report@dpdk.org>; Wed, 09 Apr 2025 08:13:19 -0700 (PDT)
DKIM-Signature: v=1; a=rsa-sha256; c=relaxed/relaxed;
 d=iol.unh.edu; s=unh-iol; t=1744211598; x=1744816398; darn=dpdk.org;
 h=references:in-reply-to:cc:to:from:subject:message-id:date:from:to
 :cc:subject:date:message-id:reply-to;
 bh=rs//3g7CQdGnpO7yKY3aT4u3j4WrTUGiW5BhG/DELKA=;
 b=PfvkaJv/Nv7wdD4vIB/JuuF5ITtd18qMVC6x+MXVqbqGxNjySEWGF9MSfIveis3lYS
 vyLQtWJo+UPr/cDfEZF8fsxhVhbBhR8/R4Qi4QLSTWoWFHfOPqzinaha780YVHLWithh
 +/94QrlAErBmblH2pOaVEgH1OASXrEWI1/eFE=
X-Google-DKIM-Signature: v=1; a=rsa-sha256; c=relaxed/relaxed;
 d=1e100.net; s=20230601; t=1744211598; x=1744816398;
 h=references:in-reply-to:cc:to:from:subject:message-id:date
 :x-gm-message-state:from:to:cc:subject:date:message-id:reply-to;
 bh=rs//3g7CQdGnpO7yKY3aT4u3j4WrTUGiW5BhG/DELKA=;
 b=E/ppIgwAi0Ud7ccn1V4Yw8u0zO7vN9oC73FNU6J2NXfBiicymkgQukb3wiKLj9BOjG
 Uv+MhhDFwyySiLIpaWJFzI8EsDJoBaKZjJLEmjX896d8QnA7eRLTuZGFLJA/ROt2wIoS
 36hJXGuk1ASnUm8PAVyR37JA9O60wNybuNfpoCRfFMP6mrnbZAmM3xUKR3Sq9UlAR5EP
 TBzkjsV8J+kX4bz8wsa8+D8ZchaEu/reIYC9EV3ybfz4JpOHXLU1CqsXDmE3d/zTMWGs
 oR67QgyDlFoHkBnEwkm2Cznb5XHdLLWe2Ahm7L/AzZNrniV7Wjpb7NdTDS+Iw1h4uLAY
 1ixg==
X-Gm-Message-State: AOJu0YxDYeHwCn2+PvSorcK55ymvSgxroV5Xr0ulJ4DjyRkxaq9IUX1D
 WqsxJsWUSfA/DIuJhqY2lQh/NszFKt+pCbYmKHEnvxmmmdHRdkmiAjs0gg14nuAG/SqIZrB0u+V
 MRbzcdrn6lwuBWnfzxMSJRxUcuITaYSBl1VblXmcF
X-Gm-Gg: ASbGncs+md3/29KK7BxlmAFPiigCpAh1JBrEdwbCLrSxvLE5WNNQwnmKbqEVTir6mFM
 lufNDSHoxMGEvjAdhVt+tBSlH1kVg4f/Kl5Ita/e/q91pXZCB15Y6qwsQfH3QznDvGxHbFT2QLy
 RS1lOsYwdfUn8lkebW4TDuGk7dJrFUmNJSKWQRuPBmFY11000cirNiDP/lN+XkSfrk8lCMjjmk0
 Qo4Tge11AxCp+sJBJ/vOv6ocUX5ABUCubnAaamgT4I0JY9LsoHufG+N+3C1EqJ4dUKrONHqz4/X
 KV9wB7BJurxzGlywNrV5XlAVluttzad/UFZF
X-Google-Smtp-Source: AGHT+IETCNZ8T0yxDZrCyPK/ylUQLEzz1tEhjuFSr55KaBKEStiDp807RfsRjMMiNdKQV0kXa/Gf/2nzzkMu
X-Received: by 2002:a17:902:f610:b0:223:517c:bfa1 with SMTP id
 d9443c01a7336-22ac2a1b9e0mr57032825ad.38.1744211598537; 
 Wed, 09 Apr 2025 08:13:18 -0700 (PDT)
Received: from postal.iol.unh.edu (postal.iol.unh.edu. [132.177.123.84])
 by smtp-relay.gmail.com with ESMTPS id
 d9443c01a7336-22ac7b6c5dasm737815ad.35.2025.04.09.08.13.18
 (version=TLS1_2 cipher=ECDHE-ECDSA-AES128-GCM-SHA256 bits=128/128);
 Wed, 09 Apr 2025 08:13:18 -0700 (PDT)
X-Relaying-Domain: iol.unh.edu
Date: Wed, 09 Apr 2025 08:13:18 -0700 (PDT)
Message-ID: <67f68e8e.170a0220.2e636a.2945SMTPIN_ADDED_MISSING@mx.google.com>
Received: from [172.17.0.4] (unknown [172.18.0.217])
 by postal.iol.unh.edu (Postfix) with ESMTP id B19A26052471;
 Wed,  9 Apr 2025 11:13:17 -0400 (EDT)
Subject: |SUCCESS| pw152850 [PATCH] net/igb: fix xstats name
From: dpdklab@iol.unh.edu
To: Test Report <test-report@dpdk.org>
Cc: dpdk-test-reports@iol.unh.edu
In-Reply-To: <20250409010641.760884-1-kaiwenx.deng@intel.com>
References: <20250409010641.760884-1-kaiwenx.deng@intel.com>
Content-Type: text/plain
X-BeenThere: test-report@dpdk.org
X-Mailman-Version: 2.1.29
Precedence: list
List-Id: automatic DPDK test reports <test-report.dpdk.org>
List-Unsubscribe: <https://mails.dpdk.org/options/test-report>,
 <mailto:test-report-request@dpdk.org?subject=unsubscribe>
List-Archive: <http://mails.dpdk.org/archives/test-report/>
List-Post: <mailto:test-report@dpdk.org>
List-Help: <mailto:test-report-request@dpdk.org?subject=help>
List-Subscribe: <https://mails.dpdk.org/listinfo/test-report>,
 <mailto:test-report-request@dpdk.org?subject=subscribe>
Errors-To: test-report-bounces@dpdk.org

Test-Label: iol-compile-amd64-testing
Test-Status: SUCCESS
http://dpdk.org/patch/152850

_Testing PASS_

Submitter: Kaiwen Deng <kaiwenx.deng@intel.com>
Date: Wednesday, April 09 2025 01:06:41 
DPDK git baseline: Repo:dpdk
  Branch: master
  CommitID:d7817c378fecd07c59360667f93c25dff4b1a145

152850 --> testing pass

Upstream job id: Windows-Compile-DPDK-Native#27788

Test environment and result as below:

+-----------------------------------+--------------------+-------------------+------------------+-------------------+-------------------------+
|            Environment            | dpdk_meson_compile | dpdk_compile_spdk | dpdk_compile_ovs | dpdk_msvc_compile | dpdk_llvm_clang_compile |
+===================================+====================+===================+==================+===================+=========================+
| CentOS Stream 9                   | PASS               | PASS              | SKIPPED          | SKIPPED           | SKIPPED                 |
+-----------------------------------+--------------------+-------------------+------------------+-------------------+-------------------------+
| Debian 12                         | PASS               | PASS              | SKIPPED          | SKIPPED           | SKIPPED                 |
+-----------------------------------+--------------------+-------------------+------------------+-------------------+-------------------------+
| CentOS Stream 10                  | PASS               | SKIPPED           | SKIPPED          | SKIPPED           | SKIPPED                 |
+-----------------------------------+--------------------+-------------------+------------------+-------------------+-------------------------+
| Fedora 41 (Clang)                 | PASS               | PASS              | PASS             | SKIPPED           | SKIPPED                 |
+-----------------------------------+--------------------+-------------------+------------------+-------------------+-------------------------+
| Fedora 41                         | PASS               | PASS              | PASS             | SKIPPED           | SKIPPED                 |
+-----------------------------------+--------------------+-------------------+------------------+-------------------+-------------------------+
| Fedora 40 (Clang)                 | PASS               | PASS              | SKIPPED          | SKIPPED           | SKIPPED                 |
+-----------------------------------+--------------------+-------------------+------------------+-------------------+-------------------------+
| Fedora 40                         | PASS               | PASS              | SKIPPED          | SKIPPED           | SKIPPED                 |
+-----------------------------------+--------------------+-------------------+------------------+-------------------+-------------------------+
| openSUSE Leap 15                  | PASS               | SKIPPED           | SKIPPED          | SKIPPED           | SKIPPED                 |
+-----------------------------------+--------------------+-------------------+------------------+-------------------+-------------------------+
| Ubuntu 20.04                      | PASS               | SKIPPED           | SKIPPED          | SKIPPED           | SKIPPED                 |
+-----------------------------------+--------------------+-------------------+------------------+-------------------+-------------------------+
| RHEL8                             | PASS               | SKIPPED           | SKIPPED          | SKIPPED           | SKIPPED                 |
+-----------------------------------+--------------------+-------------------+------------------+-------------------+-------------------------+
| Ubuntu 24.04                      | PASS               | PASS              | PASS             | SKIPPED           | SKIPPED                 |
+-----------------------------------+--------------------+-------------------+------------------+-------------------+-------------------------+
| RHEL9                             | PASS               | SKIPPED           | SKIPPED          | SKIPPED           | SKIPPED                 |
+-----------------------------------+--------------------+-------------------+------------------+-------------------+-------------------------+
| Ubuntu 22.04                      | PASS               | PASS              | SKIPPED          | SKIPPED           | SKIPPED                 |
+-----------------------------------+--------------------+-------------------+------------------+-------------------+-------------------------+
| FreeBSD 13.5                      | PASS               | SKIPPED           | SKIPPED          | SKIPPED           | SKIPPED                 |
+-----------------------------------+--------------------+-------------------+------------------+-------------------+-------------------------+
| Ubuntu 24.04 32 Bit Cross Compile | PASS               | SKIPPED           | SKIPPED          | SKIPPED           | SKIPPED                 |
+-----------------------------------+--------------------+-------------------+------------------+-------------------+-------------------------+
| Alpine                            | PASS               | SKIPPED           | SKIPPED          | SKIPPED           | SKIPPED                 |
+-----------------------------------+--------------------+-------------------+------------------+-------------------+-------------------------+
| FreeBSD 14.2                      | PASS               | SKIPPED           | SKIPPED          | SKIPPED           | SKIPPED                 |
+-----------------------------------+--------------------+-------------------+------------------+-------------------+-------------------------+
| Windows Server 2022               | SKIPPED            | SKIPPED           | SKIPPED          | PASS              | PASS                    |
+-----------------------------------+--------------------+-------------------+------------------+-------------------+-------------------------+


CentOS Stream 9
	Kernel: Depends on container host
	Compiler: gcc 11.5.0 20240719 (Red Hat 11.5.0-2)

Debian 12
	Kernel: Depends on container host
	Compiler: gcc (Debian 12.2.0-14) 12.2.0

CentOS Stream 10
	Kernel: Depends on container host
	Compiler: gcc 14.2.1 20241104 (Red Hat 14.2.1-6)

Fedora 41 (Clang)
	Kernel: Depends on container host
	Compiler: clang 19.1.5 (Fedora 19.1.5-1.fc41)

Fedora 41
	Kernel: Depends on container host
	Compiler: gcc 14.2.1 20240912 (Red Hat 14.2.1-3)

Fedora 40 (Clang)
	Kernel: Depends on container host
	Compiler: clang 18.1.8 (Fedora 18.1.8-1.fc40)

Fedora 40
	Kernel: Depends on container host
	Compiler: gcc 14.2.1 20240912 (Red Hat 14.2.1-3)

openSUSE Leap 15
	Kernel: Depends on container host
	Compiler: gcc (SUSE Linux) 7.5.0

Ubuntu 20.04
	Kernel: Depends on container host
	Compiler: gcc (Ubuntu 9.4.0-1ubuntu1~20.04.2) 9.4.0

RHEL8
	Kernel: Depends on container host
	Compiler: gcc 8.5.0 20210514 (Red Hat 8.5.0-22)

Ubuntu 24.04
	Kernel: Depends on container host
	Compiler: gcc (Ubuntu 13.3.0-6ubuntu2~24.04) 13.3.0

RHEL9
	Kernel: Depends on container host
	Compiler: gcc 11.5.0 20240719 (Red Hat 11.5.0-2)

Ubuntu 22.04
	Kernel: Depends on container host
	Compiler: gcc (Ubuntu 11.4.0-1ubuntu1~22.04) 11.4.0

FreeBSD 13.5
	Kernel: 13.5-RELEASE
	Compiler: clang 19.1.7

Ubuntu 24.04 32 Bit Cross Compile
	Kernel: Depends on container host
	Compiler: gcc (Ubuntu 13.3.0-6ubuntu2~24.04) 13.3.0

Alpine
	Kernel: Depends on container host
	Compiler: gcc (Alpine 14.2.0) 14.2.0

FreeBSD 14.2
	Kernel: 14.2-RELEASE
	Compiler: clang 18.1.6

Windows Server 2022
	Kernel: 10.0.20348.2031
	Compiler: clang 15.0.7, gcc 14.1.0 (MinGW), and MSVC VS 19.39.33521

To view detailed results, visit:
https://lab.dpdk.org/results/dashboard/patchsets/32977/

UNH-IOL DPDK Community Lab

To manage your email subscriptions, visit: 
https://lab.dpdk.org/results/dashboard/preferences/subscriptions/