From mboxrd@z Thu Jan 1 00:00:00 1970 Return-Path: Received: from mails.dpdk.org (mails.dpdk.org [217.70.189.124]) by inbox.dpdk.org (Postfix) with ESMTP id 0EC1046545 for ; Wed, 9 Apr 2025 17:26:21 +0200 (CEST) Received: from mails.dpdk.org (localhost [127.0.0.1]) by mails.dpdk.org (Postfix) with ESMTP id DF3584064F; Wed, 9 Apr 2025 17:26:20 +0200 (CEST) Received: from mail-qt1-f227.google.com (mail-qt1-f227.google.com [209.85.160.227]) by mails.dpdk.org (Postfix) with ESMTP id 2E847402B7 for ; Wed, 9 Apr 2025 17:26:19 +0200 (CEST) Received: by mail-qt1-f227.google.com with SMTP id d75a77b69052e-4769bbc21b0so61941641cf.2 for ; Wed, 09 Apr 2025 08:26:19 -0700 (PDT) DKIM-Signature: v=1; a=rsa-sha256; c=relaxed/relaxed; d=iol.unh.edu; s=unh-iol; t=1744212378; x=1744817178; darn=dpdk.org; h=references:in-reply-to:cc:to:from:subject:message-id:date:from:to :cc:subject:date:message-id:reply-to; bh=iyicgvLvcjnwyWyhr9y/JKsjU3vu9sxYcyg7tj9h3E4=; b=QJPQ9sbKr/opjpp1vfT+H1CbiZoYJtbD6NiFLx1q14TJOewK6EYuFtXIGFA55qo+Gx twbBUKHQy0zYvyBACyzt4iKkdMo6MdJ0D8LgfzfEC67T4iYfMfziUQTLYsUueFzcKTPq E57+nnYnSIALNa4cJjwf5+tmgO+A0QfsoFOG4= X-Google-DKIM-Signature: v=1; a=rsa-sha256; c=relaxed/relaxed; d=1e100.net; s=20230601; t=1744212378; x=1744817178; h=references:in-reply-to:cc:to:from:subject:message-id:date :x-gm-message-state:from:to:cc:subject:date:message-id:reply-to; bh=iyicgvLvcjnwyWyhr9y/JKsjU3vu9sxYcyg7tj9h3E4=; b=pONH+aGcqlR776Rs729Iq7h2fBVFUdMbD1ptaFGeKUUH23zyZBc+bhxjoFa06U6/Iv nVlDn8f8rJfq3wc/BTr4H5JtGMSa8xIZdp7SiJJmUkefGptK1QUWFIeFSwP+07E3bgAG +7l3HduFf6/gaW4nO3GEBtb+lOUxOryAQYFGwrG0+Fz3liG9R5Z9kSWWVMJBBe/SCrWg AscBHYCJhb4S/DGLSRkNi24hZKwjGDEjLJtetSsHU/LhhZAa9wGdzRZaXeFawWmgSRei le6U6rX0aXSfXsomC1r6m1G6fEnzyeh+zzEDe8K9osSM4Mqw0nLYhr+iyVEgv54Vm8oX ulew== X-Gm-Message-State: AOJu0YxyzBJZ8mT43oXuhmB9BrtGl9Hwh8zc+ddZEOTEhg9j/o2Y8IP/ q7efWWWQklumDqSLPKpSKlbJRH9+o2eawTjiBrZkWtmcleeHhxEpscyTSva39VTBC25VowqA4zq 1ux48xuT7fdWDKUNfAUz8ZP/ilLurvcBQp96u8DE3 X-Gm-Gg: ASbGnctQpzygYwoXQsHRV7kIevzZ7kMv1WZk1m3BKJ0/6EOqWtNt86aNJPhLlsPyV5w UuaJIuNwMe6gifo5yEBO1rPYQqwWbYW9p8MewECq79rTMzbrgXAqtmLZw8VIDyQVBXh0s9ykIr0 qibwG6jKrLo+D/1LcHcGVdgd3iALB3MjG+gxedIuOi1f7Peiv+T3s2GrwQWkJ7Tw8Ai4THsMcvd Y1TdxEw2XlZZo43OntDaIlJnPnmZ7dy1DqadDUWiNrGxZievj5vS1O6SORya6+WD9wbqD6IqoWt V7H2+Nwvz/HiBFolNXUbaEBxxwvUZvGcZXgt X-Google-Smtp-Source: AGHT+IHRsepNYqfsSgAutLxRnmHOG+8yqKAZ51LmO5o6IlW8YdVK3NA38JuXwstud3skqitCJblFMcPZY8xV X-Received: by 2002:a05:622a:1108:b0:476:8917:5efe with SMTP id d75a77b69052e-4795f359935mr43960881cf.42.1744212378453; Wed, 09 Apr 2025 08:26:18 -0700 (PDT) Received: from postal.iol.unh.edu (postal.iol.unh.edu. [132.177.123.84]) by smtp-relay.gmail.com with ESMTPS id d75a77b69052e-47964eb426asm1179611cf.17.2025.04.09.08.26.18 (version=TLS1_2 cipher=ECDHE-ECDSA-AES128-GCM-SHA256 bits=128/128); Wed, 09 Apr 2025 08:26:18 -0700 (PDT) X-Relaying-Domain: iol.unh.edu Date: Wed, 09 Apr 2025 08:26:18 -0700 (PDT) Message-ID: <67f6919a.c80a0220.2fba0b.34aaSMTPIN_ADDED_MISSING@mx.google.com> Received: from [172.17.0.5] (unknown [172.18.0.217]) by postal.iol.unh.edu (Postfix) with ESMTP id 27E426052471; Wed, 9 Apr 2025 11:26:18 -0400 (EDT) Subject: |SUCCESS| pw152851 [PATCH] net/igc: fix xstats name From: dpdklab@iol.unh.edu To: Test Report Cc: dpdk-test-reports@iol.unh.edu In-Reply-To: <20250409010711.761050-1-kaiwenx.deng@intel.com> References: <20250409010711.761050-1-kaiwenx.deng@intel.com> Content-Type: text/plain X-BeenThere: test-report@dpdk.org X-Mailman-Version: 2.1.29 Precedence: list List-Id: automatic DPDK test reports List-Unsubscribe: , List-Archive: List-Post: List-Help: List-Subscribe: , Errors-To: test-report-bounces@dpdk.org Test-Label: iol-unit-amd64-testing Test-Status: SUCCESS http://dpdk.org/patch/152851 _Testing PASS_ Submitter: Kaiwen Deng Date: Wednesday, April 09 2025 01:07:11 DPDK git baseline: Repo:dpdk Branch: master CommitID:d7817c378fecd07c59360667f93c25dff4b1a145 152851 --> testing pass Upstream job id: Generic-VM-Unit-Test-DPDK#27885 Test environment and result as below: +---------------------+----------------+ | Environment | dpdk_unit_test | +=====================+================+ | Fedora 40 | PASS | +---------------------+----------------+ | CentOS Stream 9 | PASS | +---------------------+----------------+ | Debian 12 | PASS | +---------------------+----------------+ | CentOS Stream 10 | PASS | +---------------------+----------------+ | Fedora 40 (Clang) | PASS | +---------------------+----------------+ | RHEL9 | PASS | +---------------------+----------------+ | Fedora 41 | PASS | +---------------------+----------------+ | Ubuntu 20.04 | PASS | +---------------------+----------------+ | Fedora 41 (Clang) | PASS | +---------------------+----------------+ | RHEL8 | PASS | +---------------------+----------------+ | Ubuntu 22.04 | PASS | +---------------------+----------------+ | Ubuntu 24.04 | PASS | +---------------------+----------------+ | Windows Server 2022 | PASS | +---------------------+----------------+ Fedora 40 Kernel: Depends on container host Compiler: gcc 14.2.1 20240912 (Red Hat 14.2.1-3) CentOS Stream 9 Kernel: Depends on container host Compiler: gcc 11.5.0 20240719 (Red Hat 11.5.0-2) Debian 12 Kernel: Depends on container host Compiler: gcc (Debian 12.2.0-14) 12.2.0 CentOS Stream 10 Kernel: Depends on container host Compiler: gcc 14.2.1 20241104 (Red Hat 14.2.1-6) Fedora 40 (Clang) Kernel: Depends on container host Compiler: clang 18.1.8 (Fedora 18.1.8-1.fc40) RHEL9 Kernel: Depends on container host Compiler: gcc 11.5.0 20240719 (Red Hat 11.5.0-2) Fedora 41 Kernel: Depends on container host Compiler: gcc 14.2.1 20240912 (Red Hat 14.2.1-3) Ubuntu 20.04 Kernel: Depends on container host Compiler: gcc (Ubuntu 9.4.0-1ubuntu1~20.04.2) 9.4.0 Fedora 41 (Clang) Kernel: Depends on container host Compiler: clang 19.1.5 (Fedora 19.1.5-1.fc41) RHEL8 Kernel: Depends on container host Compiler: gcc 8.5.0 20210514 (Red Hat 8.5.0-22) Ubuntu 22.04 Kernel: Depends on container host Compiler: gcc (Ubuntu 11.4.0-1ubuntu1~22.04) 11.4.0 Ubuntu 24.04 Kernel: Depends on container host Compiler: gcc (Ubuntu 13.3.0-6ubuntu2~24.04) 13.3.0 Windows Server 2022 Kernel: 10.0.20348.2031 Compiler: clang 15.0.7, gcc 14.1.0 (MinGW), and MSVC VS 19.39.33521 To view detailed results, visit: https://lab.dpdk.org/results/dashboard/patchsets/32978/ UNH-IOL DPDK Community Lab To manage your email subscriptions, visit: https://lab.dpdk.org/results/dashboard/preferences/subscriptions/