From mboxrd@z Thu Jan 1 00:00:00 1970 Return-Path: Received: from mails.dpdk.org (mails.dpdk.org [217.70.189.124]) by inbox.dpdk.org (Postfix) with ESMTP id B262946545 for ; Wed, 9 Apr 2025 17:45:22 +0200 (CEST) Received: from mails.dpdk.org (localhost [127.0.0.1]) by mails.dpdk.org (Postfix) with ESMTP id AE9F04064F; Wed, 9 Apr 2025 17:45:22 +0200 (CEST) Received: from mail-qv1-f98.google.com (mail-qv1-f98.google.com [209.85.219.98]) by mails.dpdk.org (Postfix) with ESMTP id E84D0402B7 for ; Wed, 9 Apr 2025 17:45:20 +0200 (CEST) Received: by mail-qv1-f98.google.com with SMTP id 6a1803df08f44-6ecfa716ec1so68287216d6.2 for ; Wed, 09 Apr 2025 08:45:20 -0700 (PDT) DKIM-Signature: v=1; a=rsa-sha256; c=relaxed/relaxed; d=iol.unh.edu; s=unh-iol; t=1744213520; x=1744818320; darn=dpdk.org; h=references:in-reply-to:cc:to:from:subject:message-id:date:from:to :cc:subject:date:message-id:reply-to; bh=g+oijVaJ3SQ8EgOYNTm5nIm152FyxPfJ9L+9QHRui6Y=; b=b1NP7o7Roxrx7nNuYsTK0BUObUInT4U3lGr+XzLSE0jSNnGRqWzW3uHaNx65gUmU74 CIUnTyRw5wK+cyjYoyt38GF5Wx34Y/ZN+ymvNzjuazsvFvFDuTslEnznq/dCD5fw44Of nFFsCDj2ESNx8BVuvtzW4D4HvCiIQRyeu2lUg= X-Google-DKIM-Signature: v=1; a=rsa-sha256; c=relaxed/relaxed; d=1e100.net; s=20230601; t=1744213520; x=1744818320; h=references:in-reply-to:cc:to:from:subject:message-id:date :x-gm-message-state:from:to:cc:subject:date:message-id:reply-to; bh=g+oijVaJ3SQ8EgOYNTm5nIm152FyxPfJ9L+9QHRui6Y=; b=RUnxZivMxudCTouCxO0QoxJ/DS3j04j986UWUfo33JcrTSTrHRaAhSvzTGPyViW7OT ocqoY3AyNwytiLrXmJO9zVmtGABsMTLjlpGhir722UAYwNKqPTPYxRmn5+i1zO1Gws7N uK0aijB7k9+hEs+RZ53i5SZOzw55mn2Cwt+xQFY0bioqftHAiPhcGVZ1aeujqJnRCZy3 Q6yW0jgHzgXnWvoyHn2uyV9yw/RWb/HJhic8QQz7o/dU27Rfvdt9RPssW2NCnx6ftd2s g/fs1t534TPpTiBXsn1+k7MoUTMfuWoMLE3C+vrF/ks/hztHv37LPbmYUk/TbY/ccvpU epCA== X-Gm-Message-State: AOJu0YyD67ChJb2Z4IphJ6ZiPrXLjmE+sNrSnMrJ1HwT/kER8MtgZRps qXI9K+RkDzIviUEHfGmBXg22xKo58tHR5wXPy4QCJ+f8rE88Xjyi95FMsBpBvfCza6AShzV0wCW CWNU97twpR1ShqOPnG9PDywm6t/9cp0FR2q9e3Uq9 X-Gm-Gg: ASbGncvMnCXX2HuufTXmo+uwK86H06Oosqbhk6N2DSowwEqAlj/Ffn3CgYf7+dFFkDM TpxL3k6bnFtuUTiRQ5rEqJQqk7IOlZqRGRns+zic46Lxmg7iie7MnNS1U8FHXXnLQOymCGJIv1W glvPdoukuo10j68nn1hZORVhwDPMP91cZGrqbIm4VcAPesgM97aOgymsfvlNOeDophtJCur2yZJ kyV/tafkDqSgvaWHYLueg22090NIa/FFbfZDO26kxC6cpIpepjEuQKrWkGu8AlAl4VuTHmNYu7G PkdDtKdiNfVrQjQz9GsRrZFSO/Z4U+a97UhJ X-Google-Smtp-Source: AGHT+IGf6QWczueKyA6waCI21dCqTZ4fhmSWs7Dz73RLANnrrw8cUX8XIPdQUgPGvIWiwYjlxvxtkfTdyzdq X-Received: by 2002:ad4:5de8:0:b0:6e4:269f:60fe with SMTP id 6a1803df08f44-6f0dd083140mr47861246d6.10.1744213520310; Wed, 09 Apr 2025 08:45:20 -0700 (PDT) Received: from postal.iol.unh.edu (postal.iol.unh.edu. [132.177.123.84]) by smtp-relay.gmail.com with ESMTPS id 6a1803df08f44-6f0de95cc6esm1360846d6.10.2025.04.09.08.45.20 (version=TLS1_2 cipher=ECDHE-ECDSA-AES128-GCM-SHA256 bits=128/128); Wed, 09 Apr 2025 08:45:20 -0700 (PDT) X-Relaying-Domain: iol.unh.edu Date: Wed, 09 Apr 2025 08:45:20 -0700 (PDT) Message-ID: <67f69610.050a0220.1bdded.3d41SMTPIN_ADDED_MISSING@mx.google.com> Received: from [172.21.0.5] (unknown [172.18.0.240]) by postal.iol.unh.edu (Postfix) with ESMTP id 098816052471; Wed, 9 Apr 2025 11:45:20 -0400 (EDT) Subject: |SUCCESS| pw152851 [PATCH] net/igc: fix xstats name From: dpdklab@iol.unh.edu To: Test Report Cc: dpdk-test-reports@iol.unh.edu In-Reply-To: <20250409010711.761050-1-kaiwenx.deng@intel.com> References: <20250409010711.761050-1-kaiwenx.deng@intel.com> Content-Type: text/plain X-BeenThere: test-report@dpdk.org X-Mailman-Version: 2.1.29 Precedence: list List-Id: automatic DPDK test reports List-Unsubscribe: , List-Archive: List-Post: List-Help: List-Subscribe: , Errors-To: test-report-bounces@dpdk.org Test-Label: iol-unit-amd64-testing Test-Status: SUCCESS http://dpdk.org/patch/152851 _Testing PASS_ Submitter: Kaiwen Deng Date: Wednesday, April 09 2025 01:07:11 DPDK git baseline: Repo:dpdk Branch: master CommitID:d7817c378fecd07c59360667f93c25dff4b1a145 152851 --> testing pass Upstream job id: Generic-VM-Unit-Test-DPDK#27886 Test environment and result as below: +---------------------+----------------+ | Environment | dpdk_unit_test | +=====================+================+ | Fedora 40 | PASS | +---------------------+----------------+ | CentOS Stream 9 | PASS | +---------------------+----------------+ | Debian 12 | PASS | +---------------------+----------------+ | CentOS Stream 10 | PASS | +---------------------+----------------+ | Fedora 40 (Clang) | PASS | +---------------------+----------------+ | RHEL9 | PASS | +---------------------+----------------+ | Fedora 41 | PASS | +---------------------+----------------+ | Ubuntu 20.04 | PASS | +---------------------+----------------+ | Fedora 41 (Clang) | PASS | +---------------------+----------------+ | RHEL8 | PASS | +---------------------+----------------+ | Ubuntu 22.04 | PASS | +---------------------+----------------+ | Ubuntu 24.04 | PASS | +---------------------+----------------+ | Windows Server 2022 | PASS | +---------------------+----------------+ Fedora 40 Kernel: Depends on container host Compiler: gcc 14.2.1 20240912 (Red Hat 14.2.1-3) CentOS Stream 9 Kernel: Depends on container host Compiler: gcc 11.5.0 20240719 (Red Hat 11.5.0-2) Debian 12 Kernel: Depends on container host Compiler: gcc (Debian 12.2.0-14) 12.2.0 CentOS Stream 10 Kernel: Depends on container host Compiler: gcc 14.2.1 20241104 (Red Hat 14.2.1-6) Fedora 40 (Clang) Kernel: Depends on container host Compiler: clang 18.1.8 (Fedora 18.1.8-1.fc40) RHEL9 Kernel: Depends on container host Compiler: gcc 11.5.0 20240719 (Red Hat 11.5.0-2) Fedora 41 Kernel: Depends on container host Compiler: gcc 14.2.1 20240912 (Red Hat 14.2.1-3) Ubuntu 20.04 Kernel: Depends on container host Compiler: gcc (Ubuntu 9.4.0-1ubuntu1~20.04.2) 9.4.0 Fedora 41 (Clang) Kernel: Depends on container host Compiler: clang 19.1.5 (Fedora 19.1.5-1.fc41) RHEL8 Kernel: Depends on container host Compiler: gcc 8.5.0 20210514 (Red Hat 8.5.0-22) Ubuntu 22.04 Kernel: Depends on container host Compiler: gcc (Ubuntu 11.4.0-1ubuntu1~22.04) 11.4.0 Ubuntu 24.04 Kernel: Depends on container host Compiler: gcc (Ubuntu 13.3.0-6ubuntu2~24.04) 13.3.0 Windows Server 2022 Kernel: 10.0.20348.2031 Compiler: clang 15.0.7, gcc 14.1.0 (MinGW), and MSVC VS 19.39.33521 To view detailed results, visit: https://lab.dpdk.org/results/dashboard/patchsets/32978/ UNH-IOL DPDK Community Lab To manage your email subscriptions, visit: https://lab.dpdk.org/results/dashboard/preferences/subscriptions/