From mboxrd@z Thu Jan 1 00:00:00 1970 Return-Path: Received: from mails.dpdk.org (mails.dpdk.org [217.70.189.124]) by inbox.dpdk.org (Postfix) with ESMTP id 407E046546 for ; Wed, 9 Apr 2025 18:23:51 +0200 (CEST) Received: from mails.dpdk.org (localhost [127.0.0.1]) by mails.dpdk.org (Postfix) with ESMTP id 3BA0D40656; Wed, 9 Apr 2025 18:23:51 +0200 (CEST) Received: from mail-il1-f225.google.com (mail-il1-f225.google.com [209.85.166.225]) by mails.dpdk.org (Postfix) with ESMTP id 75E71402B7 for ; Wed, 9 Apr 2025 18:23:49 +0200 (CEST) Received: by mail-il1-f225.google.com with SMTP id e9e14a558f8ab-3cfc8772469so32857875ab.3 for ; Wed, 09 Apr 2025 09:23:49 -0700 (PDT) DKIM-Signature: v=1; a=rsa-sha256; c=relaxed/relaxed; d=iol.unh.edu; s=unh-iol; t=1744215828; x=1744820628; darn=dpdk.org; h=cc:to:from:subject:message-id:date:from:to:cc:subject:date :message-id:reply-to; bh=poN6riEBxjLxDcc/C23fEAezKgLshOuMrJYhHkK6mDM=; b=ivjsaRvYKPHBweBNTGPvFPvTu7cXMDzPYzPP8zZluV6J4gTYjOKFcrsnByqtCR5dJw 4TZYtTyHMuELY0dTZlC2+2Qwz7p0FUHYXRa8rLnnAskT6xvXCczVo+dGQGq4+QRy6Dcj zNbIu9fQJGwXZHZ27p5x/OuoTpRbqKcrrxfHw= X-Google-DKIM-Signature: v=1; a=rsa-sha256; c=relaxed/relaxed; d=1e100.net; s=20230601; t=1744215828; x=1744820628; h=cc:to:from:subject:message-id:date:x-gm-message-state:from:to:cc :subject:date:message-id:reply-to; bh=poN6riEBxjLxDcc/C23fEAezKgLshOuMrJYhHkK6mDM=; b=mLzT86+dOH2S1+9+5T7DlDz37PSO7LN8uciUTU+0ISbot9CkHu/KbUTBJ0ZOXSVbXQ w5TKOazas28fSVPjCi8hw9YKHNNXzLow5DS/txxvXDporYdEI3+fVA0q24XZHGn4fhr8 Ip78O3OgEi3lw28ftZcMgoFqMbkR1jsFYCe/uCErnJbhfrY5PRfooQrFsoyjUA/v7EJx vr2nk275y1WrkGI1FFJg33Z2z1MyLJKfdAc/4WPcznyFYFAn/H/tVfW/EH982Ez18K/T g6nMFxFRPRpZGpMirMBuIk53ByzkmE0YC0Drvsg2NrRr3CGv7C+UkzQjn2p/30tJQQUY ++6g== X-Gm-Message-State: AOJu0YwsI4Ua7MX5usj+QD60IDa4KzNlrJPb+TNyVbanBJ41KahogF63 YvoXVoikc7irMkY1o08OAMOmVDYuINR9EtELZSD0X/T+FuKJTNvcGUhq7ZG4b/oLjLQ3olSOmKv c6IFDP+sVz9bLs05I3eZ8vOgC5IZJ9zY1Adqe+jtDn+mRaOvtRwpo+uy8 X-Gm-Gg: ASbGncv+aqAsn5xIc/Hg+4rOL1d+Iq5NXODZhnb9hyQd1hhvvMKVMt2H0AMZdnNZDP/ c7jPBwjpFM0b03OAbe9jqtoe7YWYbPA8APnBlrQwAAWbIkZEQnEqV47pgaBoJuaxyzbJlsgeZrJ o2MV3bm///mw76A9WPg4fdaBdvII9cgjae2+vyHBdfstU4ZdxVlWGIm/szGHrnUHikWONLxkrxM n8WM6H6/+qGmbWoC7b6xCf2GsajBL3pU+BAxNIRJlxKpJfPMrNHVu0B+ttbWIsI95c5QS3esGs5 AWGF9WBnK74mMfvTFVlnNMomS++kxp99kfgYvXSLYJMByR44 X-Google-Smtp-Source: AGHT+IFn9iHZ00oqG6z8d1m3eZFFYKbwYg2e9CMoOZF8F454vz/MSEWxxTBtPgYp9f9pHLe6ArfnXWtCY1um X-Received: by 2002:a05:6e02:216f:b0:3d5:8937:f419 with SMTP id e9e14a558f8ab-3d77bdb6f6fmr34864735ab.13.1744215828755; Wed, 09 Apr 2025 09:23:48 -0700 (PDT) Received: from postal.iol.unh.edu (postal.iol.unh.edu. [2606:4100:3880:1234::84]) by smtp-relay.gmail.com with ESMTPS id e9e14a558f8ab-3d7dc5969casm1436335ab.70.2025.04.09.09.23.48 (version=TLS1_2 cipher=ECDHE-ECDSA-AES128-GCM-SHA256 bits=128/128); Wed, 09 Apr 2025 09:23:48 -0700 (PDT) X-Relaying-Domain: iol.unh.edu Date: Wed, 09 Apr 2025 09:23:48 -0700 (PDT) Message-ID: <67f69f14.050a0220.18610e.431fSMTPIN_ADDED_MISSING@mx.google.com> Received: from [172.17.0.4] (unknown [172.18.0.217]) by postal.iol.unh.edu (Postfix) with ESMTP id 42FEC6052471; Wed, 9 Apr 2025 12:23:48 -0400 (EDT) Subject: |SUCCESS| [GIT MASTER] d7817c378fecd07c59360667f93c25dff4b1a145 From: dpdklab@iol.unh.edu To: Test Report Cc: dpdk-test-reports@iol.unh.edu, Bruce Richardson Content-Type: text/plain X-BeenThere: test-report@dpdk.org X-Mailman-Version: 2.1.29 Precedence: list List-Id: automatic DPDK test reports List-Unsubscribe: , List-Archive: List-Post: List-Help: List-Subscribe: , Errors-To: test-report-bounces@dpdk.org _Testing PASS_ Branch: dpdk-next-net-intel d7817c378fecd07c59360667f93c25dff4b1a145 --> testing pass Upstream job id: Generic-Unit-Test-DPDK#330012 Test environment and result as below: +-----------------------------+----------------+------------------------------+---------------------------+--------------+ | Environment | dpdk_unit_test | cryptodev_sw_snow3g_autotest | cryptodev_sw_zuc_autotest | lpm_autotest | +=============================+================+==============================+===========================+==============+ | 32-bit Ubuntu 22.04.4 (ARM) | PASS | SKIPPED | SKIPPED | SKIPPED | +-----------------------------+----------------+------------------------------+---------------------------+--------------+ | CentOS Stream 9 (ARM) | PASS | SKIPPED | SKIPPED | SKIPPED | +-----------------------------+----------------+------------------------------+---------------------------+--------------+ | CentOS Stream 10 (ARM) | PASS | SKIPPED | SKIPPED | SKIPPED | +-----------------------------+----------------+------------------------------+---------------------------+--------------+ | Debian 12 (arm) | PASS | PASS | PASS | SKIPPED | +-----------------------------+----------------+------------------------------+---------------------------+--------------+ | Fedora 41 (ARM) | PASS | SKIPPED | SKIPPED | SKIPPED | +-----------------------------+----------------+------------------------------+---------------------------+--------------+ | Fedora 40 (ARM Clang) | PASS | SKIPPED | SKIPPED | SKIPPED | +-----------------------------+----------------+------------------------------+---------------------------+--------------+ | Fedora 40 (ARM) | PASS | SKIPPED | SKIPPED | SKIPPED | +-----------------------------+----------------+------------------------------+---------------------------+--------------+ | RHEL9 (ARM) | PASS | SKIPPED | SKIPPED | SKIPPED | +-----------------------------+----------------+------------------------------+---------------------------+--------------+ | Fedora 41 (ARM Clang) | PASS | SKIPPED | SKIPPED | SKIPPED | +-----------------------------+----------------+------------------------------+---------------------------+--------------+ | Ubuntu 20.04 (ARM) | PASS | SKIPPED | SKIPPED | SKIPPED | +-----------------------------+----------------+------------------------------+---------------------------+--------------+ | Ubuntu 22.04 (ARM) | PASS | SKIPPED | SKIPPED | SKIPPED | +-----------------------------+----------------+------------------------------+---------------------------+--------------+ | Ubuntu 24.04 (ARM) | PASS | SKIPPED | SKIPPED | SKIPPED | +-----------------------------+----------------+------------------------------+---------------------------+--------------+ | Ubuntu 20.04 ARM SVE | SKIPPED | SKIPPED | SKIPPED | PASS | +-----------------------------+----------------+------------------------------+---------------------------+--------------+ 32-bit Ubuntu 22.04.4 (ARM) Kernel: 5.15.83+ aarch64 Compiler: gcc (Ubuntu 11.4.0-1ubuntu1~22.04) 11.4.0 CentOS Stream 9 (ARM) Kernel: Depends on container host Compiler: gcc 11.5.0 20240719 (Red Hat 11.5.0-2) CentOS Stream 10 (ARM) Kernel: Depends on container host Compiler: gcc 14.2.1 20241104 (Red Hat 14.2.1-6) Debian 12 (arm) Kernel: Depends on container host Compiler: gcc (Debian 12.2.0-14) 12.2.0 Fedora 41 (ARM) Kernel: Depends on container host Compiler: gcc 14.2.1 20240912 (Red Hat 14.2.1-3) Fedora 40 (ARM Clang) Kernel: Depends on container host Compiler: clang 18.1.8 (Fedora 18.1.8-1.fc40) Fedora 40 (ARM) Kernel: Depends on container host Compiler: gcc 14.2.1 20240912 (Red Hat 14.2.1-3) RHEL9 (ARM) Kernel: Depends on container host Compiler: gcc 11.5.0 20240719 (Red Hat 11.5.0-2) Fedora 41 (ARM Clang) Kernel: Depends on container host Compiler: clang 19.1.5 (Fedora 19.1.5-1.fc41) Ubuntu 20.04 (ARM) Kernel: Depends on container host Compiler: gcc (Ubuntu 9.4.0-1ubuntu1~20.04.2) 9.4.0 Ubuntu 22.04 (ARM) Kernel: Depends on container host Compiler: gcc (Ubuntu 11.4.0-1ubuntu1~22.04) 11.4.0 Ubuntu 24.04 (ARM) Kernel: Depends on container host Compiler: gcc (Ubuntu 13.3.0-6ubuntu2~24.04) 13.3.0 Ubuntu 20.04 ARM SVE Kernel: Depends on container host Compiler: gcc (Ubuntu 10.5.0-1ubuntu1~20.04) 10.5.0 To view detailed results, visit: https://lab.dpdk.org/results/dashboard/tarballs/33207/ UNH-IOL DPDK Community Lab To manage your email subscriptions, visit: https://lab.dpdk.org/results/dashboard/preferences/subscriptions/