From mboxrd@z Thu Jan 1 00:00:00 1970 Return-Path: Received: from mails.dpdk.org (mails.dpdk.org [217.70.189.124]) by inbox.dpdk.org (Postfix) with ESMTP id C993A46546 for ; Wed, 9 Apr 2025 18:29:10 +0200 (CEST) Received: from mails.dpdk.org (localhost [127.0.0.1]) by mails.dpdk.org (Postfix) with ESMTP id C49F740652; Wed, 9 Apr 2025 18:29:10 +0200 (CEST) Received: from mail-pl1-f226.google.com (mail-pl1-f226.google.com [209.85.214.226]) by mails.dpdk.org (Postfix) with ESMTP id B4074402B7 for ; Wed, 9 Apr 2025 18:29:09 +0200 (CEST) Received: by mail-pl1-f226.google.com with SMTP id d9443c01a7336-22548a28d0cso101520985ad.3 for ; Wed, 09 Apr 2025 09:29:09 -0700 (PDT) DKIM-Signature: v=1; a=rsa-sha256; c=relaxed/relaxed; d=iol.unh.edu; s=unh-iol; t=1744216149; x=1744820949; darn=dpdk.org; h=cc:to:from:subject:message-id:date:from:to:cc:subject:date :message-id:reply-to; bh=slvkGGvShvX3xY24wCN6PBqSiCMaobvV3f9mvlJBefQ=; b=CBys1OEKgNAj5NA8wJ2YHQynxPTyxJE+gCcpWLLn++hSuLQuYgiWvxeK01ACj5rzqz AEco9tPBe964560KzjmbEf8NAvVRD6PKO4zIDO6z9FLBWD8DLEc1ICWrMYtZrIyW9cSi mribjvJXb6SS8Ss+7ZN9q5wSgUN6KiEss4/dw= X-Google-DKIM-Signature: v=1; a=rsa-sha256; c=relaxed/relaxed; d=1e100.net; s=20230601; t=1744216149; x=1744820949; h=cc:to:from:subject:message-id:date:x-gm-message-state:from:to:cc :subject:date:message-id:reply-to; bh=slvkGGvShvX3xY24wCN6PBqSiCMaobvV3f9mvlJBefQ=; b=WC1c8b67WlagCSsQKYjrgvqHoaGCxQYaFwGg7Mmqtinvlap2y6ZHxvyenGCKM6YSHP Mhr40FC1kTvk8uXUoBOE06B9oTLM7LMxHllt9XGtrDsKiSLfh4eb7azsnqimiX9QFAJn lZNYy53pHd6ZjbJQ/X8phaO33M5xxLh6wxGypfjzwz7CP9gdzKadtBOqJcHtKysvqCu+ vuaM4h12NXIPn8eVwaKMst9bj3MDn2FqHME4RaX3K//n9cwRH/XQVqO2J/6ObmTuVC3d wa5GkMkmmNeDvWAPYsbTeuwfMxVS1BWEcfqs95WUnw3ysw2ReAg1BuL8W0Fvehm0nejL KwRA== X-Gm-Message-State: AOJu0Yy1qgqFZtA0u7mKXfnw/sklFUmbfv2nqGHxzyERE+0VxduaV5aM 5JOjQ8kukKvbpgSBW+TTvyjPgZjR+6Hw9BR7j5l/CpoJUhHfl1nhPHe4aHKxTFmaQC1yxXuzhxw jKs1HNWrX+6kVgpYf0AThpgPeu23ggmgB6+UJeit36JAu/M4KsTriCThe X-Gm-Gg: ASbGncuQQi54SFsMNmYqVX3DpMii2inmfaxfJDA5nmZwmuc5UhvNZ+ib2xUaL2fXLBL n3yJ5BmD4B/GtUqpOR572GabNsP7ww3DxaIuY8J8F8B2HvcC3FtOKV95eTDgWp/YeC3yderqziD sBOBnADkRU8SLsNk5ON5BCXKwZqZ4sKqLfJ6+QjhrcMt5bHaPASKUhnnI2sxwNxkV8prbRkcdI1 b1FqkyUQXay0OReE5GNUyk6FWDdayYKLDccqoCTrOEr2pmTbRWt2gNeoFpXYh4+pQv5ggioKBPX 2GumeKgGRKCTjiFDoZmT0qIeieaMij9dgIthqCuTKgTn7w/E X-Google-Smtp-Source: AGHT+IGGOsECYrsh+UxW4Y+D4ZqS6a+2XDwsrUFlAN+6R0ty7YCpxj1ueICT3Nr8Ild5dtk0osh+dAMq0ns2 X-Received: by 2002:a17:903:2f45:b0:224:1074:63a2 with SMTP id d9443c01a7336-22ac2a2b0f2mr58404955ad.43.1744216148952; Wed, 09 Apr 2025 09:29:08 -0700 (PDT) Received: from postal.iol.unh.edu (postal.iol.unh.edu. [2606:4100:3880:1234::84]) by smtp-relay.gmail.com with ESMTPS id d9443c01a7336-22ac7b6b4c4sm811995ad.33.2025.04.09.09.29.08 (version=TLS1_2 cipher=ECDHE-ECDSA-AES128-GCM-SHA256 bits=128/128); Wed, 09 Apr 2025 09:29:08 -0700 (PDT) X-Relaying-Domain: iol.unh.edu Date: Wed, 09 Apr 2025 09:29:08 -0700 (PDT) Message-ID: <67f6a054.170a0220.1e14c3.3278SMTPIN_ADDED_MISSING@mx.google.com> Received: from [172.17.0.3] (unknown [172.18.0.217]) by postal.iol.unh.edu (Postfix) with ESMTP id 18BF56052471; Wed, 9 Apr 2025 12:29:08 -0400 (EDT) Subject: |SUCCESS| [GIT MASTER] 0b2f016cd76d4fb382eea54b8a6aaf9474586fbc From: dpdklab@iol.unh.edu To: Test Report Cc: dpdk-test-reports@iol.unh.edu, Stephen Hemminger Content-Type: text/plain X-BeenThere: test-report@dpdk.org X-Mailman-Version: 2.1.29 Precedence: list List-Id: automatic DPDK test reports List-Unsubscribe: , List-Archive: List-Post: List-Help: List-Subscribe: , Errors-To: test-report-bounces@dpdk.org _Testing PASS_ Branch: dpdk-next-net 0b2f016cd76d4fb382eea54b8a6aaf9474586fbc --> testing pass Upstream job id: Generic-Unit-Test-DPDK#330040 Test environment and result as below: +-------------------+----------------+ | Environment | dpdk_unit_test | +===================+================+ | CentOS Stream 10 | PASS | +-------------------+----------------+ | Fedora 40 | PASS | +-------------------+----------------+ | CentOS Stream 9 | PASS | +-------------------+----------------+ | Debian 12 | PASS | +-------------------+----------------+ | Fedora 41 | PASS | +-------------------+----------------+ | Fedora 40 (Clang) | PASS | +-------------------+----------------+ | Fedora 41 (Clang) | PASS | +-------------------+----------------+ | RHEL8 | PASS | +-------------------+----------------+ | Ubuntu 20.04 | PASS | +-------------------+----------------+ | RHEL9 | PASS | +-------------------+----------------+ | Ubuntu 22.04 | PASS | +-------------------+----------------+ | Ubuntu 24.04 | PASS | +-------------------+----------------+ CentOS Stream 10 Kernel: Depends on container host Compiler: gcc 14.2.1 20241104 (Red Hat 14.2.1-6) Fedora 40 Kernel: Depends on container host Compiler: gcc 14.2.1 20240912 (Red Hat 14.2.1-3) CentOS Stream 9 Kernel: Depends on container host Compiler: gcc 11.5.0 20240719 (Red Hat 11.5.0-2) Debian 12 Kernel: Depends on container host Compiler: gcc (Debian 12.2.0-14) 12.2.0 Fedora 41 Kernel: Depends on container host Compiler: gcc 14.2.1 20240912 (Red Hat 14.2.1-3) Fedora 40 (Clang) Kernel: Depends on container host Compiler: clang 18.1.8 (Fedora 18.1.8-1.fc40) Fedora 41 (Clang) Kernel: Depends on container host Compiler: clang 19.1.5 (Fedora 19.1.5-1.fc41) RHEL8 Kernel: Depends on container host Compiler: gcc 8.5.0 20210514 (Red Hat 8.5.0-22) Ubuntu 20.04 Kernel: Depends on container host Compiler: gcc (Ubuntu 9.4.0-1ubuntu1~20.04.2) 9.4.0 RHEL9 Kernel: Depends on container host Compiler: gcc 11.5.0 20240719 (Red Hat 11.5.0-2) Ubuntu 22.04 Kernel: Depends on container host Compiler: gcc (Ubuntu 11.4.0-1ubuntu1~22.04) 11.4.0 Ubuntu 24.04 Kernel: Depends on container host Compiler: gcc (Ubuntu 13.3.0-6ubuntu2~24.04) 13.3.0 To view detailed results, visit: https://lab.dpdk.org/results/dashboard/tarballs/33208/ UNH-IOL DPDK Community Lab To manage your email subscriptions, visit: https://lab.dpdk.org/results/dashboard/preferences/subscriptions/