From mboxrd@z Thu Jan 1 00:00:00 1970 Return-Path: Received: from mails.dpdk.org (mails.dpdk.org [217.70.189.124]) by inbox.dpdk.org (Postfix) with ESMTP id D77FF46546 for ; Wed, 9 Apr 2025 18:52:36 +0200 (CEST) Received: from mails.dpdk.org (localhost [127.0.0.1]) by mails.dpdk.org (Postfix) with ESMTP id BB25E40652; Wed, 9 Apr 2025 18:52:36 +0200 (CEST) Received: from mail-il1-f226.google.com (mail-il1-f226.google.com [209.85.166.226]) by mails.dpdk.org (Postfix) with ESMTP id 73CB0402B7 for ; Wed, 9 Apr 2025 18:52:35 +0200 (CEST) Received: by mail-il1-f226.google.com with SMTP id e9e14a558f8ab-3d46aaf36a2so52811165ab.3 for ; Wed, 09 Apr 2025 09:52:35 -0700 (PDT) DKIM-Signature: v=1; a=rsa-sha256; c=relaxed/relaxed; d=iol.unh.edu; s=unh-iol; t=1744217555; x=1744822355; darn=dpdk.org; h=cc:to:from:subject:message-id:date:from:to:cc:subject:date :message-id:reply-to; bh=VFLyrKFDstAowIw4Pc4iZWRTFqUqC5fIQf0JSF/64PM=; b=ggR+cOlAu7TM/gNVJkMrU1NCXzYu7RvKUivF0uuQ0dquA+EjHBXLZO+8iWLJkcyRa4 baX56+tYb1ulXE0S6s6jRkiDLb0cS3lnH4MIDfNLQvQA/LA+ZqouQihUas++XoG4pVqJ 2OOoQcypTgDwOTfO70l9Su85Twu2/0ggO+mEI= X-Google-DKIM-Signature: v=1; a=rsa-sha256; c=relaxed/relaxed; d=1e100.net; s=20230601; t=1744217555; x=1744822355; h=cc:to:from:subject:message-id:date:x-gm-message-state:from:to:cc :subject:date:message-id:reply-to; bh=VFLyrKFDstAowIw4Pc4iZWRTFqUqC5fIQf0JSF/64PM=; b=YtShi67kQ/fG4IEAarBeMxgFwmPwK4nxMbAf4OT51ghF4ZZHH2O0/i7xH8dPYp6a7v MZnP8u5IAqG2YWHbWQlBpgwryke0poTMwDd3IP0dyoZf/nqGIRaBNkuUNQtu5R3JgO07 BblI0fNvKZybqc5IcbknfpfuAH6pFUwnhJ8vBz5yRLfYCgo7aBITgqM1rb6fow65Y6Vd AIH0FyfH5YcOdSZPkm9W6GCZmQd5NjWt99mLt2wIFjad+4px8Qk2FKyvd7E6Tg6yZPEZ mHl4JZdy2haw2YwrfSGi/4HamSPZ9k+3Bigy2hbIhqfiR6w2+FHC8X/W5FGXkFwUdGHa mPCw== X-Gm-Message-State: AOJu0YyKAWmU1rWkgHJswkVtegMASF8P4++f3nAHJ3r6I6pB1oxw2Z2v N41SvVsxwTc2z7lmvGw53KgxbmTROJFig5dOAvZvFc38wgn4X+UE8JsYF1jFBNN0GAHA2ZftYcd vaL6BC2T847aS2i3/fxY1EKzs6dgq9O5kkbN28Bj+ X-Gm-Gg: ASbGncu8dwzESCUOPGxcxU/e0nH78+588R+jlFZnkk/zuDZr6G9SCNmrJDJsIhk5Bwp m57BkNXI/ECsLUcGXycHgJhXwY0jxR56UDNywaNqAEl4uclD9Ldos8cjF/bp0jGb4kTuwLxLhoD fFtjfQBHevjKnicX0DTF5aUGjpdx4jaz9D6zHmpUUpuQxYu8qxvGEQEa0YipcvaRdp53v8PUcd5 NNGOkweAwnIv3vwJ4+k3GWfq+hwwV6mPynuZfTG052YLD3i9Zz6ecM0bRtvFnLHCaI7CPUo0u11 LjxvLZrSQwsS7bbROX8pPWc+G5mUKfT9acg9 X-Google-Smtp-Source: AGHT+IFG3XI12UoZdvYY0XNHLi4K7TIdiL5uQbsCShY6QaN0j+3je2ls07exdNMb9NPwCUYb9YbipOeMd+hs X-Received: by 2002:a05:6e02:1fef:b0:3d4:244b:db1d with SMTP id e9e14a558f8ab-3d776ca0c14mr37545015ab.6.1744217554817; Wed, 09 Apr 2025 09:52:34 -0700 (PDT) Received: from postal.iol.unh.edu (postal.iol.unh.edu. [132.177.123.84]) by smtp-relay.gmail.com with ESMTPS id 8926c6da1cb9f-4f505d40a4fsm131841173.34.2025.04.09.09.52.34 (version=TLS1_2 cipher=ECDHE-ECDSA-AES128-GCM-SHA256 bits=128/128); Wed, 09 Apr 2025 09:52:34 -0700 (PDT) X-Relaying-Domain: iol.unh.edu Date: Wed, 09 Apr 2025 09:52:34 -0700 (PDT) Message-ID: <67f6a5d2.050a0220.37672c.3d45SMTPIN_ADDED_MISSING@mx.google.com> Received: from [172.21.0.7] (unknown [172.18.0.240]) by postal.iol.unh.edu (Postfix) with ESMTP id 0C8366052471; Wed, 9 Apr 2025 12:52:34 -0400 (EDT) Subject: |SUCCESS| [GIT MASTER] 0b2f016cd76d4fb382eea54b8a6aaf9474586fbc From: dpdklab@iol.unh.edu To: Test Report Cc: dpdk-test-reports@iol.unh.edu, Stephen Hemminger Content-Type: text/plain X-BeenThere: test-report@dpdk.org X-Mailman-Version: 2.1.29 Precedence: list List-Id: automatic DPDK test reports List-Unsubscribe: , List-Archive: List-Post: List-Help: List-Subscribe: , Errors-To: test-report-bounces@dpdk.org _Testing PASS_ Branch: dpdk-next-net 0b2f016cd76d4fb382eea54b8a6aaf9474586fbc --> testing pass Upstream job id: Generic-Unit-Test-DPDK#330038 Test environment and result as below: +-----------------------------+----------------+--------------+---------------------------+------------------------------+ | Environment | dpdk_unit_test | lpm_autotest | cryptodev_sw_zuc_autotest | cryptodev_sw_snow3g_autotest | +=============================+================+==============+===========================+==============================+ | CentOS Stream 9 (ARM) | PASS | SKIPPED | SKIPPED | SKIPPED | +-----------------------------+----------------+--------------+---------------------------+------------------------------+ | CentOS Stream 10 (ARM) | PASS | SKIPPED | SKIPPED | SKIPPED | +-----------------------------+----------------+--------------+---------------------------+------------------------------+ | Debian 12 (arm) | PASS | SKIPPED | PASS | PASS | +-----------------------------+----------------+--------------+---------------------------+------------------------------+ | Fedora 40 (ARM Clang) | PASS | SKIPPED | SKIPPED | SKIPPED | +-----------------------------+----------------+--------------+---------------------------+------------------------------+ | Fedora 41 (ARM) | PASS | SKIPPED | SKIPPED | SKIPPED | +-----------------------------+----------------+--------------+---------------------------+------------------------------+ | Fedora 40 (ARM) | PASS | SKIPPED | SKIPPED | SKIPPED | +-----------------------------+----------------+--------------+---------------------------+------------------------------+ | Ubuntu 22.04 (ARM) | PASS | SKIPPED | SKIPPED | SKIPPED | +-----------------------------+----------------+--------------+---------------------------+------------------------------+ | Fedora 41 (ARM Clang) | PASS | SKIPPED | SKIPPED | SKIPPED | +-----------------------------+----------------+--------------+---------------------------+------------------------------+ | RHEL9 (ARM) | PASS | SKIPPED | SKIPPED | SKIPPED | +-----------------------------+----------------+--------------+---------------------------+------------------------------+ | Ubuntu 24.04 (ARM) | PASS | SKIPPED | SKIPPED | SKIPPED | +-----------------------------+----------------+--------------+---------------------------+------------------------------+ | Ubuntu 20.04 (ARM) | PASS | SKIPPED | SKIPPED | SKIPPED | +-----------------------------+----------------+--------------+---------------------------+------------------------------+ | 32-bit Ubuntu 22.04.4 (ARM) | PASS | SKIPPED | SKIPPED | SKIPPED | +-----------------------------+----------------+--------------+---------------------------+------------------------------+ | Ubuntu 20.04 ARM SVE | SKIPPED | PASS | SKIPPED | SKIPPED | +-----------------------------+----------------+--------------+---------------------------+------------------------------+ CentOS Stream 9 (ARM) Kernel: Depends on container host Compiler: gcc 11.5.0 20240719 (Red Hat 11.5.0-2) CentOS Stream 10 (ARM) Kernel: Depends on container host Compiler: gcc 14.2.1 20241104 (Red Hat 14.2.1-6) Debian 12 (arm) Kernel: Depends on container host Compiler: gcc (Debian 12.2.0-14) 12.2.0 Fedora 40 (ARM Clang) Kernel: Depends on container host Compiler: clang 18.1.8 (Fedora 18.1.8-1.fc40) Fedora 41 (ARM) Kernel: Depends on container host Compiler: gcc 14.2.1 20240912 (Red Hat 14.2.1-3) Fedora 40 (ARM) Kernel: Depends on container host Compiler: gcc 14.2.1 20240912 (Red Hat 14.2.1-3) Ubuntu 22.04 (ARM) Kernel: Depends on container host Compiler: gcc (Ubuntu 11.4.0-1ubuntu1~22.04) 11.4.0 Fedora 41 (ARM Clang) Kernel: Depends on container host Compiler: clang 19.1.5 (Fedora 19.1.5-1.fc41) RHEL9 (ARM) Kernel: Depends on container host Compiler: gcc 11.5.0 20240719 (Red Hat 11.5.0-2) Ubuntu 24.04 (ARM) Kernel: Depends on container host Compiler: gcc (Ubuntu 13.3.0-6ubuntu2~24.04) 13.3.0 Ubuntu 20.04 (ARM) Kernel: Depends on container host Compiler: gcc (Ubuntu 9.4.0-1ubuntu1~20.04.2) 9.4.0 32-bit Ubuntu 22.04.4 (ARM) Kernel: 5.15.83+ aarch64 Compiler: gcc (Ubuntu 11.4.0-1ubuntu1~22.04) 11.4.0 Ubuntu 20.04 ARM SVE Kernel: Depends on container host Compiler: gcc (Ubuntu 10.5.0-1ubuntu1~20.04) 10.5.0 To view detailed results, visit: https://lab.dpdk.org/results/dashboard/tarballs/33208/ UNH-IOL DPDK Community Lab To manage your email subscriptions, visit: https://lab.dpdk.org/results/dashboard/preferences/subscriptions/