From mboxrd@z Thu Jan 1 00:00:00 1970 Return-Path: Received: from mails.dpdk.org (mails.dpdk.org [217.70.189.124]) by inbox.dpdk.org (Postfix) with ESMTP id D415B46546 for ; Wed, 9 Apr 2025 18:52:57 +0200 (CEST) Received: from mails.dpdk.org (localhost [127.0.0.1]) by mails.dpdk.org (Postfix) with ESMTP id CF3FA40652; Wed, 9 Apr 2025 18:52:57 +0200 (CEST) Received: from mail-pl1-f226.google.com (mail-pl1-f226.google.com [209.85.214.226]) by mails.dpdk.org (Postfix) with ESMTP id 98AF1402B7 for ; Wed, 9 Apr 2025 18:52:56 +0200 (CEST) Received: by mail-pl1-f226.google.com with SMTP id d9443c01a7336-224171d6826so100539485ad.3 for ; Wed, 09 Apr 2025 09:52:56 -0700 (PDT) DKIM-Signature: v=1; a=rsa-sha256; c=relaxed/relaxed; d=iol.unh.edu; s=unh-iol; t=1744217576; x=1744822376; darn=dpdk.org; h=references:in-reply-to:cc:to:from:subject:message-id:date:from:to :cc:subject:date:message-id:reply-to; bh=p59YTGmA0G6r3jh8Pkms7GEg4qN0w6LZsdjgMWa8dZ4=; b=g9aENa/252JnYsYR3jNFIBDjgEGXAGInSAATmjGsEijBEb8+kNDo1u5xeCzm3K4nmk vrYNzOczIJE/Zb9BjoMx/8pIkkJoWZgVNENwC6/lQ6eiHW0wlDiSYwXMYQRAy7o37AW/ S2EInStSysF1ApV8OA0UKmafB1hCcYM4KUs6M= X-Google-DKIM-Signature: v=1; a=rsa-sha256; c=relaxed/relaxed; d=1e100.net; s=20230601; t=1744217576; x=1744822376; h=references:in-reply-to:cc:to:from:subject:message-id:date :x-gm-message-state:from:to:cc:subject:date:message-id:reply-to; bh=p59YTGmA0G6r3jh8Pkms7GEg4qN0w6LZsdjgMWa8dZ4=; b=YgR0LU97DLNAALonl+0XRtUCVrH8YQNAV8ytuwgbHRtNgwZv1Ctk/he+hxPfpuZrUz jIKfM/pf+3J6ApsIBh+DzbM5ZLHtAY64Ome0+qHbDCuDfi4oOovOZJ1XVEom6ntyaSW/ TjPyiRC8aDwIoaH8jZ+G7XurVgL5Iih5XkoUSTBgTFokIScCygHdNskp7ZvIOrZZrnFk fktilOKXrWngewMW4dHw149Psvcp5LnPrZ9u3GcnxWhN8I6q2WE9Nr7qF1F0ap7O7vSu 9C9L/wOk2ZIfjy44OywzX98+/tODQ0jVhBbc7mYtX5X8Y5n/Xe7mj2UL1TXLQMBjyi5/ Dfdg== X-Gm-Message-State: AOJu0YwhngxbmyEYopD9P7x7AOXZc8vwoAP8Gcyc2iOYGaJZFy5V163v NUsaf9KbD1WOxEjr+ue0C9LHBAp6iS69s7dr7ZaVxp3dQE7eL9XgIzEwofg7c+8ZjUdFr0HlID/ L+OZ0dkrWT+dSyxZmVxePEEUWOtxT7esuyIdIFkyPB1xHyI6AVjyrq7xx X-Gm-Gg: ASbGncvxi0tsnU11m3Ao84aiigd4Y4lsGLJE4lX8riP8jcmn97wbyq/R62pDNwyYBw5 S7fh6kBdX2iJtyRKEwKWPw1vLjnG5mB+I141QI8EX5JjVo5gMe3cTHJk7OTpJciis29cTGWBV1U Vx4XfzkhzGgYJqf08nasyQ/VMMjTNjqGi4IK25UyVgnBS2u5oL072MM56kAkqJCCm4SrGk8hCUu TmU9h+ygUIQNgOoxZncW6+VWLmF+nIa15ga6MzIV4vXu7/L2MfHuVaI5idysUPaf4mY2E2RNl6Q Tcu7BGU86y+asvb48ln+gvIDM8BTwtfzzaONU44eTcd+nyqM X-Google-Smtp-Source: AGHT+IEWRWN/lVwGOyxDbaep8zdbIwlwotyFuWhpq3PDly3T91uzNWtS+Yswhmu4Il9QEewkiulictCHI75K X-Received: by 2002:a17:903:1a67:b0:216:2bd7:1c4a with SMTP id d9443c01a7336-22ac3f9a916mr36069555ad.26.1744217575766; Wed, 09 Apr 2025 09:52:55 -0700 (PDT) Received: from postal.iol.unh.edu (postal.iol.unh.edu. [2606:4100:3880:1234::84]) by smtp-relay.gmail.com with ESMTPS id d9443c01a7336-22ac7b6bbabsm813635ad.44.2025.04.09.09.52.55 (version=TLS1_2 cipher=ECDHE-ECDSA-AES128-GCM-SHA256 bits=128/128); Wed, 09 Apr 2025 09:52:55 -0700 (PDT) X-Relaying-Domain: iol.unh.edu Date: Wed, 09 Apr 2025 09:52:55 -0700 (PDT) Message-ID: <67f6a5e7.170a0220.20006d.2c79SMTPIN_ADDED_MISSING@mx.google.com> Received: from [172.21.0.5] (unknown [172.18.0.240]) by postal.iol.unh.edu (Postfix) with ESMTP id E5BEA6052471; Wed, 9 Apr 2025 12:52:54 -0400 (EDT) Subject: |SUCCESS| pw152854 [PATCH] [v1] net/idpf: avoid truncation of consta From: dpdklab@iol.unh.edu To: Test Report Cc: dpdk-test-reports@iol.unh.edu In-Reply-To: <20250409125440.7103-1-praveen.shetty@intel.com> References: <20250409125440.7103-1-praveen.shetty@intel.com> Content-Type: text/plain X-BeenThere: test-report@dpdk.org X-Mailman-Version: 2.1.29 Precedence: list List-Id: automatic DPDK test reports List-Unsubscribe: , List-Archive: List-Post: List-Help: List-Subscribe: , Errors-To: test-report-bounces@dpdk.org Test-Label: iol-compile-arm64-testing Test-Status: SUCCESS http://dpdk.org/patch/152854 _Testing PASS_ Submitter: Praveen Shetty Date: Wednesday, April 09 2025 12:54:40 DPDK git baseline: Repo:dpdk Branch: master CommitID:d7817c378fecd07c59360667f93c25dff4b1a145 152854 --> testing pass Upstream job id: Generic-DPDK-Compile-Meson#378781 Test environment and result as below: +----------------------------------------+--------------------+ | Environment | dpdk_meson_compile | +========================================+====================+ | RHEL9 (ARM) | PASS | +----------------------------------------+--------------------+ | Ubuntu 20.04 ARM SVE | PASS | +----------------------------------------+--------------------+ | Fedora 40 (ARM Clang) | PASS | +----------------------------------------+--------------------+ | Debian 12 with MUSDK | PASS | +----------------------------------------+--------------------+ | Fedora 40 (ARM) | PASS | +----------------------------------------+--------------------+ | Fedora 41 (ARM) | PASS | +----------------------------------------+--------------------+ | Ubuntu 20.04 (ARM) | PASS | +----------------------------------------+--------------------+ | Ubuntu 24.04 (ARM) | PASS | +----------------------------------------+--------------------+ | Fedora 41 (ARM Clang) | PASS | +----------------------------------------+--------------------+ | Ubuntu 22.04 (ARM) | PASS | +----------------------------------------+--------------------+ | CentOS Stream 9 (ARM) | PASS | +----------------------------------------+--------------------+ | CentOS Stream 10 (ARM) | PASS | +----------------------------------------+--------------------+ | Debian 12 (arm) | PASS | +----------------------------------------+--------------------+ | Ubuntu 20.04 ARM Clang Cross Compile | PASS | +----------------------------------------+--------------------+ | Ubuntu 20.04 aarch32 GCC Cross Compile | PASS | +----------------------------------------+--------------------+ | Ubuntu 20.04 ARM GCC Cross Compile | PASS | +----------------------------------------+--------------------+ RHEL9 (ARM) Kernel: Depends on container host Compiler: gcc 11.5.0 20240719 (Red Hat 11.5.0-2) Ubuntu 20.04 ARM SVE Kernel: Depends on container host Compiler: gcc (Ubuntu 10.5.0-1ubuntu1~20.04) 10.5.0 Fedora 40 (ARM Clang) Kernel: Depends on container host Compiler: clang 18.1.8 (Fedora 18.1.8-1.fc40) Debian 12 with MUSDK Kernel: Depends on container host Compiler: gcc (Debian 12.2.0-14) 12.2.0 Fedora 40 (ARM) Kernel: Depends on container host Compiler: gcc 14.2.1 20240912 (Red Hat 14.2.1-3) Fedora 41 (ARM) Kernel: Depends on container host Compiler: gcc 14.2.1 20240912 (Red Hat 14.2.1-3) Ubuntu 20.04 (ARM) Kernel: Depends on container host Compiler: gcc (Ubuntu 9.4.0-1ubuntu1~20.04.2) 9.4.0 Ubuntu 24.04 (ARM) Kernel: Depends on container host Compiler: gcc (Ubuntu 13.3.0-6ubuntu2~24.04) 13.3.0 Fedora 41 (ARM Clang) Kernel: Depends on container host Compiler: clang 19.1.5 (Fedora 19.1.5-1.fc41) Ubuntu 22.04 (ARM) Kernel: Depends on container host Compiler: gcc (Ubuntu 11.4.0-1ubuntu1~22.04) 11.4.0 CentOS Stream 9 (ARM) Kernel: Depends on container host Compiler: gcc 11.5.0 20240719 (Red Hat 11.5.0-2) CentOS Stream 10 (ARM) Kernel: Depends on container host Compiler: gcc 14.2.1 20241104 (Red Hat 14.2.1-6) Debian 12 (arm) Kernel: Depends on container host Compiler: gcc (Debian 12.2.0-14) 12.2.0 Ubuntu 20.04 ARM Clang Cross Compile Kernel: Depends on container host Compiler: clang 10.0.0-4ubuntu1 Ubuntu 20.04 aarch32 GCC Cross Compile Kernel: Depends on container host Compiler: gcc 9.4.0 Ubuntu 20.04 ARM GCC Cross Compile Kernel: Depends on container host Compiler: aarch64-linux-gnu-gcc (Ubuntu 9.4.0-1ubuntu1~20.04.2) 9.4.0 To view detailed results, visit: https://lab.dpdk.org/results/dashboard/patchsets/32981/ UNH-IOL DPDK Community Lab To manage your email subscriptions, visit: https://lab.dpdk.org/results/dashboard/preferences/subscriptions/