From mboxrd@z Thu Jan 1 00:00:00 1970 Return-Path: Received: from mails.dpdk.org (mails.dpdk.org [217.70.189.124]) by inbox.dpdk.org (Postfix) with ESMTP id 142E346546 for ; Wed, 9 Apr 2025 18:56:16 +0200 (CEST) Received: from mails.dpdk.org (localhost [127.0.0.1]) by mails.dpdk.org (Postfix) with ESMTP id 2156840652; Wed, 9 Apr 2025 18:56:15 +0200 (CEST) Received: from mail-pl1-f228.google.com (mail-pl1-f228.google.com [209.85.214.228]) by mails.dpdk.org (Postfix) with ESMTP id 30DE0402B7 for ; Wed, 9 Apr 2025 18:56:13 +0200 (CEST) Received: by mail-pl1-f228.google.com with SMTP id d9443c01a7336-2295d78b433so72034885ad.2 for ; Wed, 09 Apr 2025 09:56:13 -0700 (PDT) DKIM-Signature: v=1; a=rsa-sha256; c=relaxed/relaxed; d=iol.unh.edu; s=unh-iol; t=1744217772; x=1744822572; darn=dpdk.org; h=cc:to:from:subject:message-id:date:from:to:cc:subject:date :message-id:reply-to; bh=wo6G029DFHkF5C8tqluQIuxqHGOPltn2UQLdQdqg9Ls=; b=gGY1NrBICJfnV3NZIcazysBoeCTRO+5r7WrUqobGgpf0QKfBr7RlUTCB+3m9cyHvPh fbAHUqYSgA+h7Janf3Yi/63McY4B6KJVjJ7c+Tz3/xNvUx41pKGvwrGPFHT5sTjOBtym mFMHph/c3tnkuSVpUPojnnjCDNajKBaZPn0B0= X-Google-DKIM-Signature: v=1; a=rsa-sha256; c=relaxed/relaxed; d=1e100.net; s=20230601; t=1744217772; x=1744822572; h=cc:to:from:subject:message-id:date:x-gm-message-state:from:to:cc :subject:date:message-id:reply-to; bh=wo6G029DFHkF5C8tqluQIuxqHGOPltn2UQLdQdqg9Ls=; b=oByYWPOXKcb0j7yqjRL7RTI6gtfCCSbSV9mr69h1jwWqTsGzYOKc2l/2hwZmDEgvOb /xqQgy/BHDvU1hGJjgiBhLUYmeVGLNpJocZwJvv1Grmhr0gbFXO7+rlHDYnHS2sfCI4a KSb+wsu+9X3TN+xakvRTnShGvB2bd/6wC0e6HGDp2rOUaFWH3HLaXAZ/1/LA15vWNH0b 3+7TWc0eK61rsnNpWBbtQv/AvGBbDSDnHkbYe6lL/maQzZ45jIMbwPc3sPMgLmsLpSgB YOHrqZEYy1l6Jxxctr5Du4RjDexQMfLFVlthA+mrHonZH98EX0c1gsuDev01H/k2De6u tCGg== X-Gm-Message-State: AOJu0YyPzx+8rFbrOaKcPyUOsc8KLrU4xDakI2dvEphZm/QNRcdftjBm ESJ5PnjOva8e6Zdjc/7zvL21T0pXYABjUs2xdM6ICrOva1HiN7d6vfVhOUOoztd1pLgAdnc/e/G DN55Wucm75e+5AsUxLEEq6in52ev1KafTORUDk5Q2 X-Gm-Gg: ASbGncsXz8H+gOeQhz+a2KnoVvTP0xm8XLF+bjvJiIaI5MzUPT7l9jBD84KiGGEYlcm Xx/nxbIqEC0s5NYWrL/GzJpi56xqlqeJxhEj2s5N6ZXAmpHmUFzMFcwWT4QyJKM97/J968zI1qs UgTdtA6wvGXx+GPNs0n0WhV8uGNIRrNb9BOP6eGlbb0eP4LO5hNucmSJTPNzt47+Nh1ZIuYSG3o 81tQY+TqA/Pa6Zf7tx/V3/mg+wd3yKQqyOvYAIqvg+ynfG+FRaq6kXnWLuwSUqV8nL0ipn2J5jm sJ2pygyMoJhWXEzC4E3MUtfGZI+yK3ieO93D X-Google-Smtp-Source: AGHT+IHT+rvH7L3kslUxvmK2YKE5NCFly4lpOjlsEn3BemogH0Iy7A7xppEQe/4fRtO1PeOM/0OaLBNroyZZ X-Received: by 2002:a17:903:1b04:b0:215:8809:b3b7 with SMTP id d9443c01a7336-22ac3f321d7mr42536615ad.7.1744217772382; Wed, 09 Apr 2025 09:56:12 -0700 (PDT) Received: from postal.iol.unh.edu (postal.iol.unh.edu. [132.177.123.84]) by smtp-relay.gmail.com with ESMTPS id d9443c01a7336-22ac7b6d37bsm817555ad.48.2025.04.09.09.56.12 (version=TLS1_2 cipher=ECDHE-ECDSA-AES128-GCM-SHA256 bits=128/128); Wed, 09 Apr 2025 09:56:12 -0700 (PDT) X-Relaying-Domain: iol.unh.edu Date: Wed, 09 Apr 2025 09:56:12 -0700 (PDT) Message-ID: <67f6a6ac.170a0220.13419b.32baSMTPIN_ADDED_MISSING@mx.google.com> Received: from [172.21.0.5] (unknown [172.18.0.240]) by postal.iol.unh.edu (Postfix) with ESMTP id 813476052471; Wed, 9 Apr 2025 12:56:11 -0400 (EDT) Subject: |SUCCESS| [GIT MASTER] d7817c378fecd07c59360667f93c25dff4b1a145 From: dpdklab@iol.unh.edu To: Test Report Cc: dpdk-test-reports@iol.unh.edu, Bruce Richardson Content-Type: text/plain X-BeenThere: test-report@dpdk.org X-Mailman-Version: 2.1.29 Precedence: list List-Id: automatic DPDK test reports List-Unsubscribe: , List-Archive: List-Post: List-Help: List-Subscribe: , Errors-To: test-report-bounces@dpdk.org _Testing PASS_ Branch: dpdk-next-net-intel d7817c378fecd07c59360667f93c25dff4b1a145 --> testing pass Upstream job id: Generic-DPDK-Compile-Meson#378816 Test environment and result as below: +-----------------------------------+--------------------+-------------------+------------------+-------------------+ | Environment | dpdk_meson_compile | dpdk_compile_spdk | dpdk_compile_ovs | dpdk_msvc_compile | +===================================+====================+===================+==================+===================+ | CentOS Stream 9 | PASS | PASS | SKIPPED | SKIPPED | +-----------------------------------+--------------------+-------------------+------------------+-------------------+ | CentOS Stream 10 | PASS | SKIPPED | SKIPPED | SKIPPED | +-----------------------------------+--------------------+-------------------+------------------+-------------------+ | Fedora 40 (Clang) | PASS | PASS | SKIPPED | SKIPPED | +-----------------------------------+--------------------+-------------------+------------------+-------------------+ | Debian 12 | PASS | PASS | SKIPPED | SKIPPED | +-----------------------------------+--------------------+-------------------+------------------+-------------------+ | Fedora 40 | PASS | PASS | SKIPPED | SKIPPED | +-----------------------------------+--------------------+-------------------+------------------+-------------------+ | Fedora 41 (Clang) | PASS | PASS | PASS | SKIPPED | +-----------------------------------+--------------------+-------------------+------------------+-------------------+ | Fedora 41 | PASS | PASS | PASS | SKIPPED | +-----------------------------------+--------------------+-------------------+------------------+-------------------+ | RHEL8 | PASS | SKIPPED | SKIPPED | SKIPPED | +-----------------------------------+--------------------+-------------------+------------------+-------------------+ | openSUSE Leap 15 | PASS | SKIPPED | SKIPPED | SKIPPED | +-----------------------------------+--------------------+-------------------+------------------+-------------------+ | RHEL9 | PASS | SKIPPED | SKIPPED | SKIPPED | +-----------------------------------+--------------------+-------------------+------------------+-------------------+ | Ubuntu 20.04 | PASS | SKIPPED | SKIPPED | SKIPPED | +-----------------------------------+--------------------+-------------------+------------------+-------------------+ | Ubuntu 24.04 | PASS | PASS | PASS | SKIPPED | +-----------------------------------+--------------------+-------------------+------------------+-------------------+ | Alpine | PASS | SKIPPED | SKIPPED | SKIPPED | +-----------------------------------+--------------------+-------------------+------------------+-------------------+ | Ubuntu 24.04 32 Bit Cross Compile | PASS | SKIPPED | SKIPPED | SKIPPED | +-----------------------------------+--------------------+-------------------+------------------+-------------------+ | FreeBSD 13.5 | PASS | SKIPPED | SKIPPED | SKIPPED | +-----------------------------------+--------------------+-------------------+------------------+-------------------+ | FreeBSD 14.2 | PASS | SKIPPED | SKIPPED | SKIPPED | +-----------------------------------+--------------------+-------------------+------------------+-------------------+ | Windows Server 2022 | SKIPPED | SKIPPED | SKIPPED | PASS | +-----------------------------------+--------------------+-------------------+------------------+-------------------+ CentOS Stream 9 Kernel: Depends on container host Compiler: gcc 11.5.0 20240719 (Red Hat 11.5.0-2) CentOS Stream 10 Kernel: Depends on container host Compiler: gcc 14.2.1 20241104 (Red Hat 14.2.1-6) Fedora 40 (Clang) Kernel: Depends on container host Compiler: clang 18.1.8 (Fedora 18.1.8-1.fc40) Debian 12 Kernel: Depends on container host Compiler: gcc (Debian 12.2.0-14) 12.2.0 Fedora 40 Kernel: Depends on container host Compiler: gcc 14.2.1 20240912 (Red Hat 14.2.1-3) Fedora 41 (Clang) Kernel: Depends on container host Compiler: clang 19.1.5 (Fedora 19.1.5-1.fc41) Fedora 41 Kernel: Depends on container host Compiler: gcc 14.2.1 20240912 (Red Hat 14.2.1-3) RHEL8 Kernel: Depends on container host Compiler: gcc 8.5.0 20210514 (Red Hat 8.5.0-22) openSUSE Leap 15 Kernel: Depends on container host Compiler: gcc (SUSE Linux) 7.5.0 RHEL9 Kernel: Depends on container host Compiler: gcc 11.5.0 20240719 (Red Hat 11.5.0-2) Ubuntu 20.04 Kernel: Depends on container host Compiler: gcc (Ubuntu 9.4.0-1ubuntu1~20.04.2) 9.4.0 Ubuntu 24.04 Kernel: Depends on container host Compiler: gcc (Ubuntu 13.3.0-6ubuntu2~24.04) 13.3.0 Alpine Kernel: Depends on container host Compiler: gcc (Alpine 14.2.0) 14.2.0 Ubuntu 24.04 32 Bit Cross Compile Kernel: Depends on container host Compiler: gcc (Ubuntu 13.3.0-6ubuntu2~24.04) 13.3.0 FreeBSD 13.5 Kernel: 13.5-RELEASE Compiler: clang 19.1.7 FreeBSD 14.2 Kernel: 14.2-RELEASE Compiler: clang 18.1.6 Windows Server 2022 Kernel: 10.0.20348.2031 Compiler: clang 15.0.7, gcc 14.1.0 (MinGW), and MSVC VS 19.39.33521 To view detailed results, visit: https://lab.dpdk.org/results/dashboard/tarballs/33207/ UNH-IOL DPDK Community Lab To manage your email subscriptions, visit: https://lab.dpdk.org/results/dashboard/preferences/subscriptions/