From mboxrd@z Thu Jan 1 00:00:00 1970 Return-Path: Received: from mails.dpdk.org (mails.dpdk.org [217.70.189.124]) by inbox.dpdk.org (Postfix) with ESMTP id 9EEE646546 for ; Wed, 9 Apr 2025 19:11:31 +0200 (CEST) Received: from mails.dpdk.org (localhost [127.0.0.1]) by mails.dpdk.org (Postfix) with ESMTP id 9F0DC402D2; Wed, 9 Apr 2025 19:11:30 +0200 (CEST) Received: from mail-pl1-f227.google.com (mail-pl1-f227.google.com [209.85.214.227]) by mails.dpdk.org (Postfix) with ESMTP id 20A12402B7 for ; Wed, 9 Apr 2025 19:11:30 +0200 (CEST) Received: by mail-pl1-f227.google.com with SMTP id d9443c01a7336-223fd89d036so87676795ad.1 for ; Wed, 09 Apr 2025 10:11:30 -0700 (PDT) DKIM-Signature: v=1; a=rsa-sha256; c=relaxed/relaxed; d=iol.unh.edu; s=unh-iol; t=1744218689; x=1744823489; darn=dpdk.org; h=references:in-reply-to:cc:to:from:subject:message-id:date:from:to :cc:subject:date:message-id:reply-to; bh=5HZcHc0B6geuOZu99sbj2yZf6A/S79y2ERR5fH3sdJg=; b=axv09qTjT4XZxPlcn7V59jhRowY8dgBqW22qlK2RaEJ7eqPiT3Ss8EjFCtZal5wBxq cOhsmK2hgQ3GXmyzaBc5JBiHpK9MvGOP+pXFzcCASSWlgns4eAHHIzxtZtaWZkmyeGZz hCGjX2aDzTOyVVwUOjlzb3btFFveRDVCqTN2Y= X-Google-DKIM-Signature: v=1; a=rsa-sha256; c=relaxed/relaxed; d=1e100.net; s=20230601; t=1744218689; x=1744823489; h=references:in-reply-to:cc:to:from:subject:message-id:date :x-gm-message-state:from:to:cc:subject:date:message-id:reply-to; bh=5HZcHc0B6geuOZu99sbj2yZf6A/S79y2ERR5fH3sdJg=; b=pNDq+aNqt58fy3V6xf2M0H6rPerHSAuAlxCf2SMx+qxr2+f0Imc6OsFZwdcYOM95aP PgPJoRh8QqUydessWydrnXsJJIkfWb6arl1KPkvj3nVOtUrMzCHPIhgP8l4yWMUMk8Pz phHr+JtQR42eW2yVwHwPFy5e8yr8x3UxjwN/oxOoskhcKRMIaYS7QfUp2ntACMV4cinm nwsEVAwxwQwGA88FQenl+NS0redn2RtbiHxxusqctQPntitpJ1ih7XVv3Pdit75APyGD ojXuGwGKoFxLPpg1A3WNfce1iUb6Wi4hCowWImChQMahFpTpKYluRx/v2hxBf1R5jHbz XOhA== X-Gm-Message-State: AOJu0YxrQq+QFM4ohvLG/QpR5DZuJlYtQYlptMkdCPkYzxPlLOaL5GAo I6Q2bgd4LhYR1DiwY4gbT1PfrSMsxqfbXWF/5/QU3NxVti5Ns4cvz5AcV5HIRGqP/IPkhdNA4Lt LWintuP4LBjg5IpiJYWEl0IGDveXEuzghLJ05U+7Y X-Gm-Gg: ASbGncviOomQXeetxUmRYZrEoNRn//QaBflzFvW8N+e2qoy/G3dgyPPi2BLlTcAsKtj 9KmdjtNl6YbT8f898VHqFPvwS53cX6+GPTTWUZnyVBkf447FNveLJ5i49Ra5KeGefravtxYt1Kq WXswEg1YIv700WQWBtZgRtbcNDajHxGK1XvKTPTw1h6NS5PKIFWE5DohhcUj2XVwWkxe+20r49W uexFF6FyL1e+moH1QY9wRhB+gGNvORV1UmDGM5+OGIasmeoE3OBU51lhzN+jOV4XoF9vU/KC9Ph K4rHyT8rw2xCwom9HO6NItttClx9cBoeve2B X-Google-Smtp-Source: AGHT+IGXOfAjfR1nPT0+UqWQ6df9anbhgCVh3L3djkQGz/1jTqTme0JhitMETvui8RRL+8WeXxxhaszLMbAi X-Received: by 2002:a17:903:234a:b0:227:eb61:34b8 with SMTP id d9443c01a7336-22ac3f9b5c4mr52530215ad.25.1744218689222; Wed, 09 Apr 2025 10:11:29 -0700 (PDT) Received: from postal.iol.unh.edu (postal.iol.unh.edu. [132.177.123.84]) by smtp-relay.gmail.com with ESMTPS id d9443c01a7336-22ac7c93b18sm846985ad.84.2025.04.09.10.11.29 (version=TLS1_2 cipher=ECDHE-ECDSA-AES128-GCM-SHA256 bits=128/128); Wed, 09 Apr 2025 10:11:29 -0700 (PDT) X-Relaying-Domain: iol.unh.edu Date: Wed, 09 Apr 2025 10:11:29 -0700 (PDT) Message-ID: <67f6aa41.170a0220.1e82d5.3308SMTPIN_ADDED_MISSING@mx.google.com> Received: from [172.17.0.6] (unknown [172.18.0.217]) by postal.iol.unh.edu (Postfix) with ESMTP id 6B8486052471; Wed, 9 Apr 2025 13:11:28 -0400 (EDT) Subject: |SUCCESS| pw152854 [PATCH] [v1] net/idpf: avoid truncation of consta From: dpdklab@iol.unh.edu To: Test Report Cc: dpdk-test-reports@iol.unh.edu In-Reply-To: <20250409125440.7103-1-praveen.shetty@intel.com> References: <20250409125440.7103-1-praveen.shetty@intel.com> Content-Type: text/plain X-BeenThere: test-report@dpdk.org X-Mailman-Version: 2.1.29 Precedence: list List-Id: automatic DPDK test reports List-Unsubscribe: , List-Archive: List-Post: List-Help: List-Subscribe: , Errors-To: test-report-bounces@dpdk.org Test-Label: iol-compile-amd64-testing Test-Status: SUCCESS http://dpdk.org/patch/152854 _Testing PASS_ Submitter: Praveen Shetty Date: Wednesday, April 09 2025 12:54:40 DPDK git baseline: Repo:dpdk Branch: master CommitID:d7817c378fecd07c59360667f93c25dff4b1a145 152854 --> testing pass Upstream job id: Windows-Compile-DPDK-Native#27793 Test environment and result as below: +-----------------------------------+--------------------+-------------------+------------------+-------------------+-------------------------+----------------------+ | Environment | dpdk_meson_compile | dpdk_compile_spdk | dpdk_compile_ovs | dpdk_msvc_compile | dpdk_llvm_clang_compile | dpdk_mingw64_compile | +===================================+====================+===================+==================+===================+=========================+======================+ | CentOS Stream 9 | PASS | PASS | SKIPPED | SKIPPED | SKIPPED | SKIPPED | +-----------------------------------+--------------------+-------------------+------------------+-------------------+-------------------------+----------------------+ | CentOS Stream 10 | PASS | SKIPPED | SKIPPED | SKIPPED | SKIPPED | SKIPPED | +-----------------------------------+--------------------+-------------------+------------------+-------------------+-------------------------+----------------------+ | Fedora 40 | PASS | PASS | SKIPPED | SKIPPED | SKIPPED | SKIPPED | +-----------------------------------+--------------------+-------------------+------------------+-------------------+-------------------------+----------------------+ | Debian 12 | PASS | PASS | SKIPPED | SKIPPED | SKIPPED | SKIPPED | +-----------------------------------+--------------------+-------------------+------------------+-------------------+-------------------------+----------------------+ | Fedora 40 (Clang) | PASS | PASS | SKIPPED | SKIPPED | SKIPPED | SKIPPED | +-----------------------------------+--------------------+-------------------+------------------+-------------------+-------------------------+----------------------+ | Fedora 41 | PASS | PASS | PASS | SKIPPED | SKIPPED | SKIPPED | +-----------------------------------+--------------------+-------------------+------------------+-------------------+-------------------------+----------------------+ | Fedora 41 (Clang) | PASS | PASS | PASS | SKIPPED | SKIPPED | SKIPPED | +-----------------------------------+--------------------+-------------------+------------------+-------------------+-------------------------+----------------------+ | RHEL8 | PASS | SKIPPED | SKIPPED | SKIPPED | SKIPPED | SKIPPED | +-----------------------------------+--------------------+-------------------+------------------+-------------------+-------------------------+----------------------+ | RHEL9 | PASS | SKIPPED | SKIPPED | SKIPPED | SKIPPED | SKIPPED | +-----------------------------------+--------------------+-------------------+------------------+-------------------+-------------------------+----------------------+ | Ubuntu 20.04 | PASS | SKIPPED | SKIPPED | SKIPPED | SKIPPED | SKIPPED | +-----------------------------------+--------------------+-------------------+------------------+-------------------+-------------------------+----------------------+ | Ubuntu 22.04 | PASS | PASS | SKIPPED | SKIPPED | SKIPPED | SKIPPED | +-----------------------------------+--------------------+-------------------+------------------+-------------------+-------------------------+----------------------+ | Ubuntu 24.04 | PASS | PASS | PASS | SKIPPED | SKIPPED | SKIPPED | +-----------------------------------+--------------------+-------------------+------------------+-------------------+-------------------------+----------------------+ | Ubuntu 24.04 32 Bit Cross Compile | PASS | SKIPPED | SKIPPED | SKIPPED | SKIPPED | SKIPPED | +-----------------------------------+--------------------+-------------------+------------------+-------------------+-------------------------+----------------------+ | FreeBSD 13.5 | PASS | SKIPPED | SKIPPED | SKIPPED | SKIPPED | SKIPPED | +-----------------------------------+--------------------+-------------------+------------------+-------------------+-------------------------+----------------------+ | FreeBSD 14.2 | PASS | SKIPPED | SKIPPED | SKIPPED | SKIPPED | SKIPPED | +-----------------------------------+--------------------+-------------------+------------------+-------------------+-------------------------+----------------------+ | openSUSE Leap 15 | PASS | SKIPPED | SKIPPED | SKIPPED | SKIPPED | SKIPPED | +-----------------------------------+--------------------+-------------------+------------------+-------------------+-------------------------+----------------------+ | Alpine | PASS | SKIPPED | SKIPPED | SKIPPED | SKIPPED | SKIPPED | +-----------------------------------+--------------------+-------------------+------------------+-------------------+-------------------------+----------------------+ | Windows Server 2022 | SKIPPED | SKIPPED | SKIPPED | PASS | PASS | PASS | +-----------------------------------+--------------------+-------------------+------------------+-------------------+-------------------------+----------------------+ CentOS Stream 9 Kernel: Depends on container host Compiler: gcc 11.5.0 20240719 (Red Hat 11.5.0-2) CentOS Stream 10 Kernel: Depends on container host Compiler: gcc 14.2.1 20241104 (Red Hat 14.2.1-6) Fedora 40 Kernel: Depends on container host Compiler: gcc 14.2.1 20240912 (Red Hat 14.2.1-3) Debian 12 Kernel: Depends on container host Compiler: gcc (Debian 12.2.0-14) 12.2.0 Fedora 40 (Clang) Kernel: Depends on container host Compiler: clang 18.1.8 (Fedora 18.1.8-1.fc40) Fedora 41 Kernel: Depends on container host Compiler: gcc 14.2.1 20240912 (Red Hat 14.2.1-3) Fedora 41 (Clang) Kernel: Depends on container host Compiler: clang 19.1.5 (Fedora 19.1.5-1.fc41) RHEL8 Kernel: Depends on container host Compiler: gcc 8.5.0 20210514 (Red Hat 8.5.0-22) RHEL9 Kernel: Depends on container host Compiler: gcc 11.5.0 20240719 (Red Hat 11.5.0-2) Ubuntu 20.04 Kernel: Depends on container host Compiler: gcc (Ubuntu 9.4.0-1ubuntu1~20.04.2) 9.4.0 Ubuntu 22.04 Kernel: Depends on container host Compiler: gcc (Ubuntu 11.4.0-1ubuntu1~22.04) 11.4.0 Ubuntu 24.04 Kernel: Depends on container host Compiler: gcc (Ubuntu 13.3.0-6ubuntu2~24.04) 13.3.0 Ubuntu 24.04 32 Bit Cross Compile Kernel: Depends on container host Compiler: gcc (Ubuntu 13.3.0-6ubuntu2~24.04) 13.3.0 FreeBSD 13.5 Kernel: 13.5-RELEASE Compiler: clang 19.1.7 FreeBSD 14.2 Kernel: 14.2-RELEASE Compiler: clang 18.1.6 openSUSE Leap 15 Kernel: Depends on container host Compiler: gcc (SUSE Linux) 7.5.0 Alpine Kernel: Depends on container host Compiler: gcc (Alpine 14.2.0) 14.2.0 Windows Server 2022 Kernel: 10.0.20348.2031 Compiler: clang 15.0.7, gcc 14.1.0 (MinGW), and MSVC VS 19.39.33521 To view detailed results, visit: https://lab.dpdk.org/results/dashboard/patchsets/32981/ UNH-IOL DPDK Community Lab To manage your email subscriptions, visit: https://lab.dpdk.org/results/dashboard/preferences/subscriptions/