From mboxrd@z Thu Jan 1 00:00:00 1970 Return-Path: Received: from mails.dpdk.org (mails.dpdk.org [217.70.189.124]) by inbox.dpdk.org (Postfix) with ESMTP id 9437C46546 for ; Wed, 9 Apr 2025 19:19:20 +0200 (CEST) Received: from mails.dpdk.org (localhost [127.0.0.1]) by mails.dpdk.org (Postfix) with ESMTP id 57AA6402D2; Wed, 9 Apr 2025 19:19:20 +0200 (CEST) Received: from mail-il1-f228.google.com (mail-il1-f228.google.com [209.85.166.228]) by mails.dpdk.org (Postfix) with ESMTP id 71353402B7 for ; Wed, 9 Apr 2025 19:19:19 +0200 (CEST) Received: by mail-il1-f228.google.com with SMTP id e9e14a558f8ab-3d46aaf36a2so53009675ab.3 for ; Wed, 09 Apr 2025 10:19:19 -0700 (PDT) DKIM-Signature: v=1; a=rsa-sha256; c=relaxed/relaxed; d=iol.unh.edu; s=unh-iol; t=1744219159; x=1744823959; darn=dpdk.org; h=cc:to:from:subject:message-id:date:from:to:cc:subject:date :message-id:reply-to; bh=6MKjqK2vthSXOup8kwRc15nF2Sx+Ca81Z+5cj0KoCvE=; b=O4oH1guGLIDcIpOz0rAbcSrnd10k8yc7RcKwESpUCTIqzmBUAG9mBkuFTvbC1f5gwk ocqwe/7jOXhyPxdOW/2pqaCVa1lQ3BvMkDmtuZjzWvQs/dUw7BbQRaM15VEvQAVDoQRn 2OFkt7xWpMCN9epCWBbEiOWUsGF5UuPuWHwLY= X-Google-DKIM-Signature: v=1; a=rsa-sha256; c=relaxed/relaxed; d=1e100.net; s=20230601; t=1744219159; x=1744823959; h=cc:to:from:subject:message-id:date:x-gm-message-state:from:to:cc :subject:date:message-id:reply-to; bh=6MKjqK2vthSXOup8kwRc15nF2Sx+Ca81Z+5cj0KoCvE=; b=EoFUTWlhgLRDy+dnXyVMEBh7a/QAG8dHaWGrR9tkIhGEssHTgUu/EFoKmfj+mGYZ6t IcdGNyf85VaTgOTj3j9znWBqKw1J4ER0O8UrE8ZCTzTgAg/EtXtJ6aDgDR6tCx9GGy3s VEHoARxX0/lDa0QQDp/R5+zohzPum2bzey+DeQJaWZM1ph0io8CfdoS6yOFwFy29gHSp aAg6WKVjH3OqIYzhk5Pgm4+n2X9prQJCSsAqMDsZS8zncSzmjlVCTi4/6ulFyL2Ol9T7 wPXQqDx+LzGvxLBIIkSn74COfXKkkq6S6WeG+klklj5fqVYq1pmnXq3gEXV38bd4Wn/s QHrQ== X-Gm-Message-State: AOJu0YxTbvTKuWstCcwjI4q9HT6ynYXzqDuClFsi/GeG4Yf2l0uj+ZWF N2Qs5FSuwZoFL5GtSbt3bXnpHVl/+OA3vjfNZ6uKI4cmRl7CmP+D5RGH/GnuCWpXBzoZnZo/FFF QqBi84uRmzM4EhoaC7RHxlUFRbMVaVZc+aO4alImAa9R7nQwmZBsUnTwa X-Gm-Gg: ASbGncsGNxOyM2GMocDBsEMLeNvezRlvv3VssbVjyxy/grZ7H4cAR8eT+yn0RHA8yP1 LLv7X1Ia7TQVTIFtJMWl0tX5ue75VK32zFQMAJ9w7meVk1wKjNjRsronL3UDBNPJO6apb1GNlM6 0ODzDKgb+p/4IuuvuK7pV4YVDSABjGyuOohpkk9KKE+NiF4FeGlijn4ET0+upBZgpTFhAFRhdWm 7SzoxZyCdKWyLs9B+HExBCiWXXa8XGwgGlcUuWOHuHLQeXEKkH26Qf4HA7te1mZj5mY4phXYsdL UltDkMhhf3w79I7jRb1nTgyik+7FacyrJrF2ajIRe/J33/33 X-Google-Smtp-Source: AGHT+IHgnFacUeakm/Lg8D3XeSlEc6h3oIADGU2qemGIodKN6PJPq6F4aw3v45pVCE0RbcS/dzGRV46WZvDk X-Received: by 2002:a92:cda5:0:b0:3d4:38a4:388e with SMTP id e9e14a558f8ab-3d776c93da1mr43215015ab.1.1744219158761; Wed, 09 Apr 2025 10:19:18 -0700 (PDT) Received: from postal.iol.unh.edu (postal.iol.unh.edu. [2606:4100:3880:1234::84]) by smtp-relay.gmail.com with ESMTPS id e9e14a558f8ab-3d7dbaa3fbasm1451115ab.30.2025.04.09.10.19.18 (version=TLS1_2 cipher=ECDHE-ECDSA-AES128-GCM-SHA256 bits=128/128); Wed, 09 Apr 2025 10:19:18 -0700 (PDT) X-Relaying-Domain: iol.unh.edu Date: Wed, 09 Apr 2025 10:19:18 -0700 (PDT) Message-ID: <67f6ac16.050a0220.1e2a87.3e79SMTPIN_ADDED_MISSING@mx.google.com> Received: from [172.17.0.3] (unknown [172.18.0.217]) by postal.iol.unh.edu (Postfix) with ESMTP id 44A8E6052471; Wed, 9 Apr 2025 13:19:18 -0400 (EDT) Subject: |SUCCESS| [GIT MASTER] d7817c378fecd07c59360667f93c25dff4b1a145 From: dpdklab@iol.unh.edu To: Test Report Cc: dpdk-test-reports@iol.unh.edu, Bruce Richardson Content-Type: text/plain X-BeenThere: test-report@dpdk.org X-Mailman-Version: 2.1.29 Precedence: list List-Id: automatic DPDK test reports List-Unsubscribe: , List-Archive: List-Post: List-Help: List-Subscribe: , Errors-To: test-report-bounces@dpdk.org _Testing PASS_ Branch: dpdk-next-net-intel d7817c378fecd07c59360667f93c25dff4b1a145 --> testing pass Upstream job id: Windows-Compile-DPDK-Native#27794 Test environment and result as below: +-----------------------------------+--------------------+-------------------+------------------+-------------------+-------------------------+ | Environment | dpdk_meson_compile | dpdk_compile_spdk | dpdk_compile_ovs | dpdk_msvc_compile | dpdk_llvm_clang_compile | +===================================+====================+===================+==================+===================+=========================+ | CentOS Stream 9 | PASS | PASS | SKIPPED | SKIPPED | SKIPPED | +-----------------------------------+--------------------+-------------------+------------------+-------------------+-------------------------+ | CentOS Stream 10 | PASS | SKIPPED | SKIPPED | SKIPPED | SKIPPED | +-----------------------------------+--------------------+-------------------+------------------+-------------------+-------------------------+ | Fedora 40 (Clang) | PASS | PASS | SKIPPED | SKIPPED | SKIPPED | +-----------------------------------+--------------------+-------------------+------------------+-------------------+-------------------------+ | Debian 12 | PASS | PASS | SKIPPED | SKIPPED | SKIPPED | +-----------------------------------+--------------------+-------------------+------------------+-------------------+-------------------------+ | Fedora 40 | PASS | PASS | SKIPPED | SKIPPED | SKIPPED | +-----------------------------------+--------------------+-------------------+------------------+-------------------+-------------------------+ | Fedora 41 (Clang) | PASS | PASS | PASS | SKIPPED | SKIPPED | +-----------------------------------+--------------------+-------------------+------------------+-------------------+-------------------------+ | Fedora 41 | PASS | PASS | PASS | SKIPPED | SKIPPED | +-----------------------------------+--------------------+-------------------+------------------+-------------------+-------------------------+ | RHEL8 | PASS | SKIPPED | SKIPPED | SKIPPED | SKIPPED | +-----------------------------------+--------------------+-------------------+------------------+-------------------+-------------------------+ | openSUSE Leap 15 | PASS | SKIPPED | SKIPPED | SKIPPED | SKIPPED | +-----------------------------------+--------------------+-------------------+------------------+-------------------+-------------------------+ | RHEL9 | PASS | SKIPPED | SKIPPED | SKIPPED | SKIPPED | +-----------------------------------+--------------------+-------------------+------------------+-------------------+-------------------------+ | Ubuntu 20.04 | PASS | SKIPPED | SKIPPED | SKIPPED | SKIPPED | +-----------------------------------+--------------------+-------------------+------------------+-------------------+-------------------------+ | Ubuntu 24.04 | PASS | PASS | PASS | SKIPPED | SKIPPED | +-----------------------------------+--------------------+-------------------+------------------+-------------------+-------------------------+ | Alpine | PASS | SKIPPED | SKIPPED | SKIPPED | SKIPPED | +-----------------------------------+--------------------+-------------------+------------------+-------------------+-------------------------+ | Ubuntu 24.04 32 Bit Cross Compile | PASS | SKIPPED | SKIPPED | SKIPPED | SKIPPED | +-----------------------------------+--------------------+-------------------+------------------+-------------------+-------------------------+ | FreeBSD 13.5 | PASS | SKIPPED | SKIPPED | SKIPPED | SKIPPED | +-----------------------------------+--------------------+-------------------+------------------+-------------------+-------------------------+ | FreeBSD 14.2 | PASS | SKIPPED | SKIPPED | SKIPPED | SKIPPED | +-----------------------------------+--------------------+-------------------+------------------+-------------------+-------------------------+ | Windows Server 2022 | SKIPPED | SKIPPED | SKIPPED | PASS | PASS | +-----------------------------------+--------------------+-------------------+------------------+-------------------+-------------------------+ CentOS Stream 9 Kernel: Depends on container host Compiler: gcc 11.5.0 20240719 (Red Hat 11.5.0-2) CentOS Stream 10 Kernel: Depends on container host Compiler: gcc 14.2.1 20241104 (Red Hat 14.2.1-6) Fedora 40 (Clang) Kernel: Depends on container host Compiler: clang 18.1.8 (Fedora 18.1.8-1.fc40) Debian 12 Kernel: Depends on container host Compiler: gcc (Debian 12.2.0-14) 12.2.0 Fedora 40 Kernel: Depends on container host Compiler: gcc 14.2.1 20240912 (Red Hat 14.2.1-3) Fedora 41 (Clang) Kernel: Depends on container host Compiler: clang 19.1.5 (Fedora 19.1.5-1.fc41) Fedora 41 Kernel: Depends on container host Compiler: gcc 14.2.1 20240912 (Red Hat 14.2.1-3) RHEL8 Kernel: Depends on container host Compiler: gcc 8.5.0 20210514 (Red Hat 8.5.0-22) openSUSE Leap 15 Kernel: Depends on container host Compiler: gcc (SUSE Linux) 7.5.0 RHEL9 Kernel: Depends on container host Compiler: gcc 11.5.0 20240719 (Red Hat 11.5.0-2) Ubuntu 20.04 Kernel: Depends on container host Compiler: gcc (Ubuntu 9.4.0-1ubuntu1~20.04.2) 9.4.0 Ubuntu 24.04 Kernel: Depends on container host Compiler: gcc (Ubuntu 13.3.0-6ubuntu2~24.04) 13.3.0 Alpine Kernel: Depends on container host Compiler: gcc (Alpine 14.2.0) 14.2.0 Ubuntu 24.04 32 Bit Cross Compile Kernel: Depends on container host Compiler: gcc (Ubuntu 13.3.0-6ubuntu2~24.04) 13.3.0 FreeBSD 13.5 Kernel: 13.5-RELEASE Compiler: clang 19.1.7 FreeBSD 14.2 Kernel: 14.2-RELEASE Compiler: clang 18.1.6 Windows Server 2022 Kernel: 10.0.20348.2031 Compiler: clang 15.0.7, gcc 14.1.0 (MinGW), and MSVC VS 19.39.33521 To view detailed results, visit: https://lab.dpdk.org/results/dashboard/tarballs/33207/ UNH-IOL DPDK Community Lab To manage your email subscriptions, visit: https://lab.dpdk.org/results/dashboard/preferences/subscriptions/