From mboxrd@z Thu Jan 1 00:00:00 1970 Return-Path: Received: from mails.dpdk.org (mails.dpdk.org [217.70.189.124]) by inbox.dpdk.org (Postfix) with ESMTP id 1152B46546 for ; Wed, 9 Apr 2025 19:39:57 +0200 (CEST) Received: from mails.dpdk.org (localhost [127.0.0.1]) by mails.dpdk.org (Postfix) with ESMTP id 0BC9840652; Wed, 9 Apr 2025 19:39:57 +0200 (CEST) Received: from mail-yw1-f226.google.com (mail-yw1-f226.google.com [209.85.128.226]) by mails.dpdk.org (Postfix) with ESMTP id 99258402B7 for ; Wed, 9 Apr 2025 19:39:55 +0200 (CEST) Received: by mail-yw1-f226.google.com with SMTP id 00721157ae682-6fee63b9139so10401767b3.1 for ; Wed, 09 Apr 2025 10:39:55 -0700 (PDT) DKIM-Signature: v=1; a=rsa-sha256; c=relaxed/relaxed; d=iol.unh.edu; s=unh-iol; t=1744220395; x=1744825195; darn=dpdk.org; h=cc:to:from:subject:message-id:date:from:to:cc:subject:date :message-id:reply-to; bh=YNjx1LLzL/pwkqW5D0MpXH0IW6lQmzt7fXqH46h7+fA=; b=QWGvWkEHruDGGpr3Es6nCPtoYIWChATcynenVtTTLk1hUt+CLA91cr+Um5QGkut671 amafgncAAwMJeynnskjHWX+o324aw7LmrOZvo5832xU5Bftd18gTUBXYg9rqHgD5y/CJ GWyoQ+GnNZX5eDDk8P3fDewFj2fi+qFIJE6es= X-Google-DKIM-Signature: v=1; a=rsa-sha256; c=relaxed/relaxed; d=1e100.net; s=20230601; t=1744220395; x=1744825195; h=cc:to:from:subject:message-id:date:x-gm-message-state:from:to:cc :subject:date:message-id:reply-to; bh=YNjx1LLzL/pwkqW5D0MpXH0IW6lQmzt7fXqH46h7+fA=; b=rJEz3q0CiHBi4qSa+OWVK5DisiFvNvQrhp7IeAgEp5EkQ+FnJ9s+Qj/zSpBqSPdfWw Uh+5c78/zTxsrJB7W1ZW6854zISiKnHtFVj31ybb6/ZbH5Ak1iYxF4VWlhrHPbCeL8K5 qgXoLzSot+3Y+wIYEkm+nAd8xSfh0FsmxM4Bj3jjW/mMkPJyI92+ObyZpSHAlGMZDaXo igev8PjQcU8S29NHMyIpXfD8nl/70t6NJ/hqHMUhkfCIrAedFUkCFeOGwQ+P1Sn47T/U RVBmaPiGr+eJB5oD8JjjHLWeK/c0fwsFM6EVlO9jwbRTtivT4+7ywqd9ga2gyCBpE8VI JL/g== X-Gm-Message-State: AOJu0YwmNRrew6w+9fvN/4JP7kbXJqJbMPJ9hNZUNvcrblQS9uJEa+yZ y19NIK31mPqWtCmrrxwqb76ZhAMurz6mFNEH1noSCQjpG7rMY58L2xv1MZTZSqMnGlP1gqM+L1Y hDJhJpKZBnuuShUG5Ri+vPp58NtzdXEI68HKbEIEaDQnoEJJiE738upql X-Gm-Gg: ASbGnct31jrZwCsYTjo1oWKdXjXImvKn1wTaQaoXYmZ85Po1jJVWWwNugO6j25Nmb0G 1LLwJBkrPeunYF//HdmMcF1aKXW4HpGYhnO8ECcCXsT47P3QGMnNFMkacJlNI5068mDZ4ugnNmf QcIMcAO9cO+brPji1WuTjxMyGLuhDof4YmnG5w+K3BbxVe4m4qeJrqxzMNzARDvLHeKs5KuGCHe 9+R1emTY4JWKcEW9f//0OSmt6yXzM+lxj9mvk8PPOJzSVCySRxJosoCt2nT9PZTgM/jyHA/FoT8 3aoQZqQT/zhiNteXNYDiX1w3DrKuI9hLr7LPwuXhr36gTUs+ X-Google-Smtp-Source: AGHT+IGrPOHi797T24rhF8AoLvXxNgZGLbdWkpkiA5Nn/28F1hghpykAEc0NIbGJGCpcaD4HzH4oVTqW61I+ X-Received: by 2002:a81:fb01:0:b0:6fe:bf32:a427 with SMTP id 00721157ae682-7054738073bmr5679957b3.0.1744220394939; Wed, 09 Apr 2025 10:39:54 -0700 (PDT) Received: from postal.iol.unh.edu (postal.iol.unh.edu. [2606:4100:3880:1234::84]) by smtp-relay.gmail.com with ESMTPS id 00721157ae682-7053e382778sm1662327b3.65.2025.04.09.10.39.54 (version=TLS1_2 cipher=ECDHE-ECDSA-AES128-GCM-SHA256 bits=128/128); Wed, 09 Apr 2025 10:39:54 -0700 (PDT) X-Relaying-Domain: iol.unh.edu Date: Wed, 09 Apr 2025 10:39:54 -0700 (PDT) Message-ID: <67f6b0ea.0d0a0220.2991da.5feaSMTPIN_ADDED_MISSING@mx.google.com> Received: from [172.17.0.4] (unknown [172.18.0.217]) by postal.iol.unh.edu (Postfix) with ESMTP id 8CD226052471; Wed, 9 Apr 2025 13:39:54 -0400 (EDT) Subject: |SUCCESS| [GIT MASTER] 0b2f016cd76d4fb382eea54b8a6aaf9474586fbc From: dpdklab@iol.unh.edu To: Test Report Cc: dpdk-test-reports@iol.unh.edu, Stephen Hemminger Content-Type: text/plain X-BeenThere: test-report@dpdk.org X-Mailman-Version: 2.1.29 Precedence: list List-Id: automatic DPDK test reports List-Unsubscribe: , List-Archive: List-Post: List-Help: List-Subscribe: , Errors-To: test-report-bounces@dpdk.org _Testing PASS_ Branch: dpdk-next-net 0b2f016cd76d4fb382eea54b8a6aaf9474586fbc --> testing pass Upstream job id: Generic-DPDK-Compile-Meson#378848 Test environment and result as below: +-----------------------------------+--------------------+-------------------+------------------+-------------------+-------------------------+----------------------+ | Environment | dpdk_meson_compile | dpdk_compile_spdk | dpdk_compile_ovs | dpdk_msvc_compile | dpdk_llvm_clang_compile | dpdk_mingw64_compile | +===================================+====================+===================+==================+===================+=========================+======================+ | CentOS Stream 9 | PASS | PASS | SKIPPED | SKIPPED | SKIPPED | SKIPPED | +-----------------------------------+--------------------+-------------------+------------------+-------------------+-------------------------+----------------------+ | CentOS Stream 10 | PASS | SKIPPED | SKIPPED | SKIPPED | SKIPPED | SKIPPED | +-----------------------------------+--------------------+-------------------+------------------+-------------------+-------------------------+----------------------+ | Fedora 40 (Clang) | PASS | PASS | SKIPPED | SKIPPED | SKIPPED | SKIPPED | +-----------------------------------+--------------------+-------------------+------------------+-------------------+-------------------------+----------------------+ | Fedora 40 | PASS | PASS | SKIPPED | SKIPPED | SKIPPED | SKIPPED | +-----------------------------------+--------------------+-------------------+------------------+-------------------+-------------------------+----------------------+ | Debian 12 | PASS | PASS | SKIPPED | SKIPPED | SKIPPED | SKIPPED | +-----------------------------------+--------------------+-------------------+------------------+-------------------+-------------------------+----------------------+ | Fedora 41 (Clang) | PASS | PASS | PASS | SKIPPED | SKIPPED | SKIPPED | +-----------------------------------+--------------------+-------------------+------------------+-------------------+-------------------------+----------------------+ | Fedora 41 | PASS | PASS | PASS | SKIPPED | SKIPPED | SKIPPED | +-----------------------------------+--------------------+-------------------+------------------+-------------------+-------------------------+----------------------+ | openSUSE Leap 15 | PASS | SKIPPED | SKIPPED | SKIPPED | SKIPPED | SKIPPED | +-----------------------------------+--------------------+-------------------+------------------+-------------------+-------------------------+----------------------+ | RHEL8 | PASS | SKIPPED | SKIPPED | SKIPPED | SKIPPED | SKIPPED | +-----------------------------------+--------------------+-------------------+------------------+-------------------+-------------------------+----------------------+ | RHEL9 | PASS | SKIPPED | SKIPPED | SKIPPED | SKIPPED | SKIPPED | +-----------------------------------+--------------------+-------------------+------------------+-------------------+-------------------------+----------------------+ | Ubuntu 20.04 | PASS | SKIPPED | SKIPPED | SKIPPED | SKIPPED | SKIPPED | +-----------------------------------+--------------------+-------------------+------------------+-------------------+-------------------------+----------------------+ | Ubuntu 22.04 | PASS | PASS | SKIPPED | SKIPPED | SKIPPED | SKIPPED | +-----------------------------------+--------------------+-------------------+------------------+-------------------+-------------------------+----------------------+ | Ubuntu 24.04 | PASS | PASS | PASS | SKIPPED | SKIPPED | SKIPPED | +-----------------------------------+--------------------+-------------------+------------------+-------------------+-------------------------+----------------------+ | Alpine | PASS | SKIPPED | SKIPPED | SKIPPED | SKIPPED | SKIPPED | +-----------------------------------+--------------------+-------------------+------------------+-------------------+-------------------------+----------------------+ | Ubuntu 24.04 32 Bit Cross Compile | PASS | SKIPPED | SKIPPED | SKIPPED | SKIPPED | SKIPPED | +-----------------------------------+--------------------+-------------------+------------------+-------------------+-------------------------+----------------------+ | FreeBSD 13.5 | PASS | SKIPPED | SKIPPED | SKIPPED | SKIPPED | SKIPPED | +-----------------------------------+--------------------+-------------------+------------------+-------------------+-------------------------+----------------------+ | FreeBSD 14.2 | PASS | SKIPPED | SKIPPED | SKIPPED | SKIPPED | SKIPPED | +-----------------------------------+--------------------+-------------------+------------------+-------------------+-------------------------+----------------------+ | Windows Server 2022 | SKIPPED | SKIPPED | SKIPPED | PASS | PASS | PASS | +-----------------------------------+--------------------+-------------------+------------------+-------------------+-------------------------+----------------------+ CentOS Stream 9 Kernel: Depends on container host Compiler: gcc 11.5.0 20240719 (Red Hat 11.5.0-2) CentOS Stream 10 Kernel: Depends on container host Compiler: gcc 14.2.1 20241104 (Red Hat 14.2.1-6) Fedora 40 (Clang) Kernel: Depends on container host Compiler: clang 18.1.8 (Fedora 18.1.8-1.fc40) Fedora 40 Kernel: Depends on container host Compiler: gcc 14.2.1 20240912 (Red Hat 14.2.1-3) Debian 12 Kernel: Depends on container host Compiler: gcc (Debian 12.2.0-14) 12.2.0 Fedora 41 (Clang) Kernel: Depends on container host Compiler: clang 19.1.5 (Fedora 19.1.5-1.fc41) Fedora 41 Kernel: Depends on container host Compiler: gcc 14.2.1 20240912 (Red Hat 14.2.1-3) openSUSE Leap 15 Kernel: Depends on container host Compiler: gcc (SUSE Linux) 7.5.0 RHEL8 Kernel: Depends on container host Compiler: gcc 8.5.0 20210514 (Red Hat 8.5.0-22) RHEL9 Kernel: Depends on container host Compiler: gcc 11.5.0 20240719 (Red Hat 11.5.0-2) Ubuntu 20.04 Kernel: Depends on container host Compiler: gcc (Ubuntu 9.4.0-1ubuntu1~20.04.2) 9.4.0 Ubuntu 22.04 Kernel: Depends on container host Compiler: gcc (Ubuntu 11.4.0-1ubuntu1~22.04) 11.4.0 Ubuntu 24.04 Kernel: Depends on container host Compiler: gcc (Ubuntu 13.3.0-6ubuntu2~24.04) 13.3.0 Alpine Kernel: Depends on container host Compiler: gcc (Alpine 14.2.0) 14.2.0 Ubuntu 24.04 32 Bit Cross Compile Kernel: Depends on container host Compiler: gcc (Ubuntu 13.3.0-6ubuntu2~24.04) 13.3.0 FreeBSD 13.5 Kernel: 13.5-RELEASE Compiler: clang 19.1.7 FreeBSD 14.2 Kernel: 14.2-RELEASE Compiler: clang 18.1.6 Windows Server 2022 Kernel: 10.0.20348.2031 Compiler: clang 15.0.7, gcc 14.1.0 (MinGW), and MSVC VS 19.39.33521 To view detailed results, visit: https://lab.dpdk.org/results/dashboard/tarballs/33208/ UNH-IOL DPDK Community Lab To manage your email subscriptions, visit: https://lab.dpdk.org/results/dashboard/preferences/subscriptions/