From mboxrd@z Thu Jan 1 00:00:00 1970 Return-Path: Received: from mails.dpdk.org (mails.dpdk.org [217.70.189.124]) by inbox.dpdk.org (Postfix) with ESMTP id D36C446546 for ; Wed, 9 Apr 2025 19:48:43 +0200 (CEST) Received: from mails.dpdk.org (localhost [127.0.0.1]) by mails.dpdk.org (Postfix) with ESMTP id DCC9740652; Wed, 9 Apr 2025 19:48:42 +0200 (CEST) Received: from mail-pf1-f226.google.com (mail-pf1-f226.google.com [209.85.210.226]) by mails.dpdk.org (Postfix) with ESMTP id EBC72402B7 for ; Wed, 9 Apr 2025 19:48:41 +0200 (CEST) Received: by mail-pf1-f226.google.com with SMTP id d2e1a72fcca58-7390d21bb1cso6972101b3a.2 for ; Wed, 09 Apr 2025 10:48:41 -0700 (PDT) DKIM-Signature: v=1; a=rsa-sha256; c=relaxed/relaxed; d=iol.unh.edu; s=unh-iol; t=1744220921; x=1744825721; darn=dpdk.org; h=references:in-reply-to:cc:to:from:subject:message-id:date:from:to :cc:subject:date:message-id:reply-to; bh=AnCD/i00WhwyTax4OqiuUMuG+kPiYuz9tuT+hC5fdoo=; b=hx8/aFrucKi4RB/3xJVtIPLnOOT3b7bSd/5Baa56s9D0BQiTaHR+Mc4j5MjdJs1xEp vrYGhIY+JXkExItThpn5NLQVqpA/68JK0EjxF5jJLDknWMOVUJ6EJeGkDB8eF9Iq5WgY ZAyNyKeFkbGB/BA4CLpsjW74B5UniM14J1cmU= X-Google-DKIM-Signature: v=1; a=rsa-sha256; c=relaxed/relaxed; d=1e100.net; s=20230601; t=1744220921; x=1744825721; h=references:in-reply-to:cc:to:from:subject:message-id:date :x-gm-message-state:from:to:cc:subject:date:message-id:reply-to; bh=AnCD/i00WhwyTax4OqiuUMuG+kPiYuz9tuT+hC5fdoo=; b=E5L55ZF2WjuKAXUal4yjQQ3WDkl3dDRMzkAyeP0PaSD5HguEZzqO3aIq8arFw2aLQr p8v5uZ+Ez0A75PIxB9LxLTMEvYilvZyI/VVfm0N5zvntCqRjDnGfJsHxafx/589LHcKK EZGX+0v4tKyg+kFiv0BMxd8vWbURZhRQy3PCdFqp8P1uFzc/H8zZBZJSZFsO4boAyK23 akw0NfwDiGe8agWziywsrjOeqio7hiK/nxoq3e+qIHPcgNzSKgwJ4liHiLWgpfPjT4jG 8tyqN0sL22hYw4v6NaluUYqvmgB8HvWCCycv/g63JD6jcmJomTRxyMZKxZEPkH+iAwEN lCag== X-Gm-Message-State: AOJu0Yzw/RQjgf9EDExHAPvRGkdTiHgX5NrjBj31kjwE4h8VNFULbhEJ +e71Rsvotl33a1pU6Jw3fCDZ4ezpz1Hxvs37/DtjfsWMZGeDH6CBe/WzPqj7pEYad82VhG3O+b7 rarsz5bS0/Ae69zFfk7d1cbGVG6zx5G4wIHhaFsrb9EaR1NjoIyqGY35q X-Gm-Gg: ASbGnct39/qpUsd5BCFBVis2SA8K9rifa3ABI0RDDbQHAxS1otyaX8Eru87FWAJDpPJ 7LMwH17HiLUOAZ2SUpke2dLMTx6Ym8f0wyzwtgZFU6eHVUaZZq2v1ZfZ+rdZSLB49VkCKuUUMwa 256Epm1l7LOj0sBM1XFM6fyIKn8c6maGFbbfzqWBqtUQDL7IokPHRRszuPkYFQ6NbaSgPyBwvHV okliluv+s0RiTDk35CEc18dQ5T1JMJSiMaEYH7Mem7EHegOyatXErQU7PmQdEqpdPxyD2HvWKID 1jilc0rTs3lQxDWNJ6XZcJEc7F2zBpiV/Rx9CmmuOMvkRbLS X-Google-Smtp-Source: AGHT+IFXoY8LNujBBHFjkhhrKZCtBA7HHAly63MaXtRn1FPD02bl/NrdKSVAb1tS0/OvYMnG3cqiTf+8f+xV X-Received: by 2002:a05:6a00:3a0b:b0:736:53bc:f1ab with SMTP id d2e1a72fcca58-73bae4d826fmr5134513b3a.12.1744220921021; Wed, 09 Apr 2025 10:48:41 -0700 (PDT) Received: from postal.iol.unh.edu (postal.iol.unh.edu. [2606:4100:3880:1234::84]) by smtp-relay.gmail.com with ESMTPS id d2e1a72fcca58-73bb1d2b23esm149029b3a.3.2025.04.09.10.48.40 (version=TLS1_2 cipher=ECDHE-ECDSA-AES128-GCM-SHA256 bits=128/128); Wed, 09 Apr 2025 10:48:41 -0700 (PDT) X-Relaying-Domain: iol.unh.edu Date: Wed, 09 Apr 2025 10:48:41 -0700 (PDT) Message-ID: <67f6b2f9.050a0220.262139.4c90SMTPIN_ADDED_MISSING@mx.google.com> Received: from [172.17.0.3] (unknown [172.18.0.217]) by postal.iol.unh.edu (Postfix) with ESMTP id F23326052477; Wed, 9 Apr 2025 13:48:39 -0400 (EDT) Subject: |SUCCESS| pw152854 [PATCH] [v1] net/idpf: avoid truncation of consta From: dpdklab@iol.unh.edu To: Test Report Cc: dpdk-test-reports@iol.unh.edu In-Reply-To: <20250409125440.7103-1-praveen.shetty@intel.com> References: <20250409125440.7103-1-praveen.shetty@intel.com> Content-Type: text/plain X-BeenThere: test-report@dpdk.org X-Mailman-Version: 2.1.29 Precedence: list List-Id: automatic DPDK test reports List-Unsubscribe: , List-Archive: List-Post: List-Help: List-Subscribe: , Errors-To: test-report-bounces@dpdk.org Test-Label: iol-unit-amd64-testing Test-Status: SUCCESS http://dpdk.org/patch/152854 _Testing PASS_ Submitter: Praveen Shetty Date: Wednesday, April 09 2025 12:54:40 DPDK git baseline: Repo:dpdk Branch: master CommitID:d7817c378fecd07c59360667f93c25dff4b1a145 152854 --> testing pass Upstream job id: Generic-VM-Unit-Test-DPDK#27893 Test environment and result as below: +---------------------+----------------+ | Environment | dpdk_unit_test | +=====================+================+ | CentOS Stream 9 | PASS | +---------------------+----------------+ | Fedora 40 | PASS | +---------------------+----------------+ | Debian 12 | PASS | +---------------------+----------------+ | Fedora 41 (Clang) | PASS | +---------------------+----------------+ | CentOS Stream 10 | PASS | +---------------------+----------------+ | Fedora 40 (Clang) | PASS | +---------------------+----------------+ | RHEL8 | PASS | +---------------------+----------------+ | RHEL9 | PASS | +---------------------+----------------+ | Fedora 41 | PASS | +---------------------+----------------+ | Ubuntu 20.04 | PASS | +---------------------+----------------+ | Ubuntu 22.04 | PASS | +---------------------+----------------+ | Ubuntu 24.04 | PASS | +---------------------+----------------+ | Windows Server 2022 | PASS | +---------------------+----------------+ CentOS Stream 9 Kernel: Depends on container host Compiler: gcc 11.5.0 20240719 (Red Hat 11.5.0-2) Fedora 40 Kernel: Depends on container host Compiler: gcc 14.2.1 20240912 (Red Hat 14.2.1-3) Debian 12 Kernel: Depends on container host Compiler: gcc (Debian 12.2.0-14) 12.2.0 Fedora 41 (Clang) Kernel: Depends on container host Compiler: clang 19.1.5 (Fedora 19.1.5-1.fc41) CentOS Stream 10 Kernel: Depends on container host Compiler: gcc 14.2.1 20241104 (Red Hat 14.2.1-6) Fedora 40 (Clang) Kernel: Depends on container host Compiler: clang 18.1.8 (Fedora 18.1.8-1.fc40) RHEL8 Kernel: Depends on container host Compiler: gcc 8.5.0 20210514 (Red Hat 8.5.0-22) RHEL9 Kernel: Depends on container host Compiler: gcc 11.5.0 20240719 (Red Hat 11.5.0-2) Fedora 41 Kernel: Depends on container host Compiler: gcc 14.2.1 20240912 (Red Hat 14.2.1-3) Ubuntu 20.04 Kernel: Depends on container host Compiler: gcc (Ubuntu 9.4.0-1ubuntu1~20.04.2) 9.4.0 Ubuntu 22.04 Kernel: Depends on container host Compiler: gcc (Ubuntu 11.4.0-1ubuntu1~22.04) 11.4.0 Ubuntu 24.04 Kernel: Depends on container host Compiler: gcc (Ubuntu 13.3.0-6ubuntu2~24.04) 13.3.0 Windows Server 2022 Kernel: 10.0.20348.2031 Compiler: clang 15.0.7, gcc 14.1.0 (MinGW), and MSVC VS 19.39.33521 To view detailed results, visit: https://lab.dpdk.org/results/dashboard/patchsets/32981/ UNH-IOL DPDK Community Lab To manage your email subscriptions, visit: https://lab.dpdk.org/results/dashboard/preferences/subscriptions/