From mboxrd@z Thu Jan 1 00:00:00 1970 Return-Path: Received: from mails.dpdk.org (mails.dpdk.org [217.70.189.124]) by inbox.dpdk.org (Postfix) with ESMTP id 86F1D46546 for ; Wed, 9 Apr 2025 19:53:34 +0200 (CEST) Received: from mails.dpdk.org (localhost [127.0.0.1]) by mails.dpdk.org (Postfix) with ESMTP id 514CE40652; Wed, 9 Apr 2025 19:53:34 +0200 (CEST) Received: from mail-pl1-f225.google.com (mail-pl1-f225.google.com [209.85.214.225]) by mails.dpdk.org (Postfix) with ESMTP id C632D402B7 for ; Wed, 9 Apr 2025 19:53:33 +0200 (CEST) Received: by mail-pl1-f225.google.com with SMTP id d9443c01a7336-227b650504fso67236805ad.0 for ; Wed, 09 Apr 2025 10:53:33 -0700 (PDT) DKIM-Signature: v=1; a=rsa-sha256; c=relaxed/relaxed; d=iol.unh.edu; s=unh-iol; t=1744221213; x=1744826013; darn=dpdk.org; h=references:in-reply-to:cc:to:from:subject:message-id:date:from:to :cc:subject:date:message-id:reply-to; bh=ugHT1bLN03WPFfY61gBQ6FoWgtvsgwqXyK9GqmiCLfY=; b=bdYNmqNFMe546z4PMRL47UvLjvifIHB39NcFluLCFz3NmFxoI0SMpgNzuHF1CSvG0b puoMaaI9DvQ64utGJW15q/LSqUpe8lWgDd7NoS4trluOOq6QSFb/zkXlTCRf1jSVD35j b+VwfE29GSYpyRGAXkPP4TQhBIg4bMBYTU2/E= X-Google-DKIM-Signature: v=1; a=rsa-sha256; c=relaxed/relaxed; d=1e100.net; s=20230601; t=1744221213; x=1744826013; h=references:in-reply-to:cc:to:from:subject:message-id:date :x-gm-message-state:from:to:cc:subject:date:message-id:reply-to; bh=ugHT1bLN03WPFfY61gBQ6FoWgtvsgwqXyK9GqmiCLfY=; b=BDFFrewZFxxp90cbi8yzwAZRIUU5si3tnHCXuECXRHAx0Ner0RqTzVFNesy86glM2j 1fG6tl9TA/3Mc0p2KnjfKmPhGxjWO+e18X2cP/FYhlTv44wshwKFiBcuDKlsGGQhp2RB 9eQQ/lWDrvtXOshEsVoaeY7LPnR1pq3HBJjHVsLFA1Tf5GudDK4qQCmpVNcyI+Jz8zeq 1Ujix42LPpGcdQPMkS7U9gTYOPyc+jFKtv3c7HbMbossbgPjoEXc7bBw8dYoEYrHkkNQ 0YiRu7GX6RpRlQEiZESbIODlBU8M1OFGbXIMZPZg2HPme3wt56JpK+0qZbQD3ghbAhNW D/QA== X-Gm-Message-State: AOJu0YzstLWYU4LstiR6DsnaPwyNqVglT46jmnpbWMCklQY8dUzw+c/j DBNsjSuuv/UkylstZOWDpm2y9y0wWkNutAX7tQ++TZI4VcRGFp51vBVItIod/d+CMnJcDCE3gsd ayEdg75dUhPGLkVkKkoOt1oMI5MPAI+jAa83/24lgkIxuuSW7I4fhU2zf X-Gm-Gg: ASbGncsERr0lD+NXe02pJefgPEbqsmVJDHnmB7zPR9EsxoPn18ST+3WUiOsuvjdaPXQ 0xds77JGkJc9QdpdyJVYhfFgigQPtrxCoJ0wfixdzDtuPGJlT+o5eDnwogzuKzbDKJjw3I59yoc HW+ziE2ySxLNdjtZDoDoq26P7Qw7MmonXa+KgH0jj9Zl7Tb5+Nb7zJgwyczRgMZvPYgU2qZ1fhK PfglAIW64EMi5uom5PlfMJT0CIfVrg0urBUFVOQezn8APMk+qSVWn6Y31x/URK3BnilZ6j+qSmO TTl5YvWdwFoAv92Z5Y1D426e9GWAfit/5az1ri7rd7XaZWp+ X-Google-Smtp-Source: AGHT+IGJGX6zMyHeLcSWZoRJWjOo7nzsU7scqQD5MCGURPYIJhsk6VNw2c+eq5L0/d0ctD/ZVzW9vtzlBNkt X-Received: by 2002:a17:902:dacc:b0:224:2717:7992 with SMTP id d9443c01a7336-22ac3fee4e7mr38969965ad.33.1744221212674; Wed, 09 Apr 2025 10:53:32 -0700 (PDT) Received: from postal.iol.unh.edu (postal.iol.unh.edu. [2606:4100:3880:1234::84]) by smtp-relay.gmail.com with ESMTPS id d9443c01a7336-22ac7b4026bsm882805ad.21.2025.04.09.10.53.32 (version=TLS1_2 cipher=ECDHE-ECDSA-AES128-GCM-SHA256 bits=128/128); Wed, 09 Apr 2025 10:53:32 -0700 (PDT) X-Relaying-Domain: iol.unh.edu Date: Wed, 09 Apr 2025 10:53:32 -0700 (PDT) Message-ID: <67f6b41c.170a0220.26eac3.37b0SMTPIN_ADDED_MISSING@mx.google.com> Received: from [172.17.0.3] (unknown [172.18.0.217]) by postal.iol.unh.edu (Postfix) with ESMTP id 201B76052471; Wed, 9 Apr 2025 13:53:32 -0400 (EDT) Subject: |SUCCESS| pw152854 [PATCH] [v1] net/idpf: avoid truncation of consta From: dpdklab@iol.unh.edu To: Test Report Cc: dpdk-test-reports@iol.unh.edu In-Reply-To: <20250409125440.7103-1-praveen.shetty@intel.com> References: <20250409125440.7103-1-praveen.shetty@intel.com> Content-Type: text/plain X-BeenThere: test-report@dpdk.org X-Mailman-Version: 2.1.29 Precedence: list List-Id: automatic DPDK test reports List-Unsubscribe: , List-Archive: List-Post: List-Help: List-Subscribe: , Errors-To: test-report-bounces@dpdk.org Test-Label: iol-unit-amd64-testing Test-Status: SUCCESS http://dpdk.org/patch/152854 _Testing PASS_ Submitter: Praveen Shetty Date: Wednesday, April 09 2025 12:54:40 DPDK git baseline: Repo:dpdk Branch: master CommitID:d7817c378fecd07c59360667f93c25dff4b1a145 152854 --> testing pass Upstream job id: Generic-VM-Unit-Test-DPDK#27894 Test environment and result as below: +---------------------+----------------+ | Environment | dpdk_unit_test | +=====================+================+ | CentOS Stream 9 | PASS | +---------------------+----------------+ | Fedora 40 | PASS | +---------------------+----------------+ | Debian 12 | PASS | +---------------------+----------------+ | Fedora 41 (Clang) | PASS | +---------------------+----------------+ | CentOS Stream 10 | PASS | +---------------------+----------------+ | Fedora 40 (Clang) | PASS | +---------------------+----------------+ | RHEL8 | PASS | +---------------------+----------------+ | RHEL9 | PASS | +---------------------+----------------+ | Fedora 41 | PASS | +---------------------+----------------+ | Ubuntu 20.04 | PASS | +---------------------+----------------+ | Ubuntu 22.04 | PASS | +---------------------+----------------+ | Ubuntu 24.04 | PASS | +---------------------+----------------+ | Windows Server 2022 | PASS | +---------------------+----------------+ CentOS Stream 9 Kernel: Depends on container host Compiler: gcc 11.5.0 20240719 (Red Hat 11.5.0-2) Fedora 40 Kernel: Depends on container host Compiler: gcc 14.2.1 20240912 (Red Hat 14.2.1-3) Debian 12 Kernel: Depends on container host Compiler: gcc (Debian 12.2.0-14) 12.2.0 Fedora 41 (Clang) Kernel: Depends on container host Compiler: clang 19.1.5 (Fedora 19.1.5-1.fc41) CentOS Stream 10 Kernel: Depends on container host Compiler: gcc 14.2.1 20241104 (Red Hat 14.2.1-6) Fedora 40 (Clang) Kernel: Depends on container host Compiler: clang 18.1.8 (Fedora 18.1.8-1.fc40) RHEL8 Kernel: Depends on container host Compiler: gcc 8.5.0 20210514 (Red Hat 8.5.0-22) RHEL9 Kernel: Depends on container host Compiler: gcc 11.5.0 20240719 (Red Hat 11.5.0-2) Fedora 41 Kernel: Depends on container host Compiler: gcc 14.2.1 20240912 (Red Hat 14.2.1-3) Ubuntu 20.04 Kernel: Depends on container host Compiler: gcc (Ubuntu 9.4.0-1ubuntu1~20.04.2) 9.4.0 Ubuntu 22.04 Kernel: Depends on container host Compiler: gcc (Ubuntu 11.4.0-1ubuntu1~22.04) 11.4.0 Ubuntu 24.04 Kernel: Depends on container host Compiler: gcc (Ubuntu 13.3.0-6ubuntu2~24.04) 13.3.0 Windows Server 2022 Kernel: 10.0.20348.2031 Compiler: clang 15.0.7, gcc 14.1.0 (MinGW), and MSVC VS 19.39.33521 To view detailed results, visit: https://lab.dpdk.org/results/dashboard/patchsets/32981/ UNH-IOL DPDK Community Lab To manage your email subscriptions, visit: https://lab.dpdk.org/results/dashboard/preferences/subscriptions/