From mboxrd@z Thu Jan 1 00:00:00 1970 Return-Path: Received: from mails.dpdk.org (mails.dpdk.org [217.70.189.124]) by inbox.dpdk.org (Postfix) with ESMTP id 7290346546 for ; Wed, 9 Apr 2025 19:54:27 +0200 (CEST) Received: from mails.dpdk.org (localhost [127.0.0.1]) by mails.dpdk.org (Postfix) with ESMTP id 6E45540652; Wed, 9 Apr 2025 19:54:27 +0200 (CEST) Received: from mail-io1-f99.google.com (mail-io1-f99.google.com [209.85.166.99]) by mails.dpdk.org (Postfix) with ESMTP id 6DFF9402B7 for ; Wed, 9 Apr 2025 19:54:26 +0200 (CEST) Received: by mail-io1-f99.google.com with SMTP id ca18e2360f4ac-85e46f5c50fso233196839f.3 for ; Wed, 09 Apr 2025 10:54:26 -0700 (PDT) DKIM-Signature: v=1; a=rsa-sha256; c=relaxed/relaxed; d=iol.unh.edu; s=unh-iol; t=1744221266; x=1744826066; darn=dpdk.org; h=cc:to:from:subject:message-id:date:from:to:cc:subject:date :message-id:reply-to; bh=KlWMAA+0TR9b2Uu7vSwbIwXES6RUHj8G7L9gcGmX94c=; b=eYR3VfFOf35RdGMTkhh5lhUrYydI8vIAiMr71q3lO+rDz6e8c1Qp03JYoW2dKaKPXa bhDW0pNeAEaAMJDTzFdo+0lM+ChI2Eq9Pd7ogh2ADg1oPxfSAvxjfkGt3DllJIaqpjib qkJLLBHG48xc+6XlspIXQKUO/vKO59vvmg5pA= X-Google-DKIM-Signature: v=1; a=rsa-sha256; c=relaxed/relaxed; d=1e100.net; s=20230601; t=1744221266; x=1744826066; h=cc:to:from:subject:message-id:date:x-gm-message-state:from:to:cc :subject:date:message-id:reply-to; bh=KlWMAA+0TR9b2Uu7vSwbIwXES6RUHj8G7L9gcGmX94c=; b=wQLwe35KxyZJRDirNsjW2o8CVLxn9TxU8fM3zidTSqVx0aGFpoSKPy+IrvQqIR9Ath HpB//6l/r4gI0dAJDEAAuUjzWy9Yl2w928HLRebSmy3VSGGL3lfWmAcD/FYnOn7TrH1p vdMM91ehZ5I8l+IXme5o2d2tn8fU0NlzHzKuxCsH7yNhJnoEHpItTReSX5ylDvZIk6nD msS3MIcuzqxxmrhtLewWB91lgNG6V1zG3IkGQHBP17OFzbuYvOIGNdeODutSgDO36VHu Gs0bm0QYAjA8NGpYvQM+7WWQfQFhJT8zqC6qBpVwHb4MHhiI2Hh2spJxqZVk8wzc+RvF wUEA== X-Gm-Message-State: AOJu0YzHiNMfhHfLw6wb6pjF8zcb+E1jeyIfO3Wt3qZVOu6O6fe64CIQ jYG/Tal1zDykvJ/RaYiTWsrQmj5jvsaApNP6w9zDaVwfizgKwb/IySfC95m3liKsuu+yE6VMrul IfmmVL1uTJld4jB21MbB50R7Pw1hQfP9jk0YEb9bn X-Gm-Gg: ASbGncsWj9LIqFeWLTDkxS1HKSn0/wqcngvR0QomPqBx6x5bKLU8DSCTiD1NBJnzUJS UCnOIOaKiZII1Yrz2148EwCmcQxbwRQfcZ7IoA6pxBO4xW/q1hRL0ZuP0QaUrxvkod3+HYePF+9 jOVGoy93wNTVMWh78gctWWGnoPrQnexKB+cUG4aKkiQEVA+sUuDYbYRSqcZnkhLugW0ijyTfled o6grodHsIWppdkZwC2SGNomtO1PI3JQJO5AOJ3ieiQy6ME6SREcFRNwH8yTqB9lEYw5S8nLjAXG pfSvWibY3f3B/eDluKuckNb9HmTnTwLkPrSc X-Google-Smtp-Source: AGHT+IENOP1dy+hEIIgqQBE/uekGlt0gWWOnu8CkIZiXjC6iHdthKVVW6Nuo7Ofy7+7oFObEcDNAYFmBUJ06 X-Received: by 2002:a05:6602:4c05:b0:85d:a211:9883 with SMTP id ca18e2360f4ac-8616127c7bamr373011739f.10.1744221265790; Wed, 09 Apr 2025 10:54:25 -0700 (PDT) Received: from postal.iol.unh.edu (postal.iol.unh.edu. [132.177.123.84]) by smtp-relay.gmail.com with ESMTPS id ca18e2360f4ac-861656f8c69sm11419839f.31.2025.04.09.10.54.25 (version=TLS1_2 cipher=ECDHE-ECDSA-AES128-GCM-SHA256 bits=128/128); Wed, 09 Apr 2025 10:54:25 -0700 (PDT) X-Relaying-Domain: iol.unh.edu Date: Wed, 09 Apr 2025 10:54:25 -0700 (PDT) Message-ID: <67f6b451.050a0220.84d56.383eSMTPIN_ADDED_MISSING@mx.google.com> Received: from [172.17.0.4] (unknown [172.18.0.217]) by postal.iol.unh.edu (Postfix) with ESMTP id 55C616052471; Wed, 9 Apr 2025 13:54:25 -0400 (EDT) Subject: |SUCCESS| [GIT MASTER] d7817c378fecd07c59360667f93c25dff4b1a145 From: dpdklab@iol.unh.edu To: Test Report Cc: dpdk-test-reports@iol.unh.edu, Bruce Richardson Content-Type: text/plain X-BeenThere: test-report@dpdk.org X-Mailman-Version: 2.1.29 Precedence: list List-Id: automatic DPDK test reports List-Unsubscribe: , List-Archive: List-Post: List-Help: List-Subscribe: , Errors-To: test-report-bounces@dpdk.org _Testing PASS_ Branch: dpdk-next-net-intel d7817c378fecd07c59360667f93c25dff4b1a145 --> testing pass Upstream job id: Generic-DPDK-Compile-Meson#378833 Test environment and result as below: +----------------------------------------+--------------------+ | Environment | dpdk_meson_compile | +========================================+====================+ | RHEL9 (ARM) | PASS | +----------------------------------------+--------------------+ | Ubuntu 20.04 ARM GCC Cross Compile | PASS | +----------------------------------------+--------------------+ | Ubuntu 20.04 ARM SVE | PASS | +----------------------------------------+--------------------+ | Debian 12 with MUSDK | PASS | +----------------------------------------+--------------------+ | Fedora 40 (ARM) | PASS | +----------------------------------------+--------------------+ | Fedora 40 (ARM Clang) | PASS | +----------------------------------------+--------------------+ | Fedora 41 (ARM) | PASS | +----------------------------------------+--------------------+ | Fedora 41 (ARM Clang) | PASS | +----------------------------------------+--------------------+ | Ubuntu 20.04 (ARM) | PASS | +----------------------------------------+--------------------+ | Ubuntu 22.04 (ARM) | PASS | +----------------------------------------+--------------------+ | CentOS Stream 9 (ARM) | PASS | +----------------------------------------+--------------------+ | Ubuntu 24.04 (ARM) | PASS | +----------------------------------------+--------------------+ | Debian 12 (arm) | PASS | +----------------------------------------+--------------------+ | CentOS Stream 10 (ARM) | PASS | +----------------------------------------+--------------------+ | Ubuntu 20.04 ARM Clang Cross Compile | PASS | +----------------------------------------+--------------------+ | Ubuntu 20.04 aarch32 GCC Cross Compile | PASS | +----------------------------------------+--------------------+ RHEL9 (ARM) Kernel: Depends on container host Compiler: gcc 11.5.0 20240719 (Red Hat 11.5.0-2) Ubuntu 20.04 ARM GCC Cross Compile Kernel: Depends on container host Compiler: aarch64-linux-gnu-gcc (Ubuntu 9.4.0-1ubuntu1~20.04.2) 9.4.0 Ubuntu 20.04 ARM SVE Kernel: Depends on container host Compiler: gcc (Ubuntu 10.5.0-1ubuntu1~20.04) 10.5.0 Debian 12 with MUSDK Kernel: Depends on container host Compiler: gcc (Debian 12.2.0-14) 12.2.0 Fedora 40 (ARM) Kernel: Depends on container host Compiler: gcc 14.2.1 20240912 (Red Hat 14.2.1-3) Fedora 40 (ARM Clang) Kernel: Depends on container host Compiler: clang 18.1.8 (Fedora 18.1.8-1.fc40) Fedora 41 (ARM) Kernel: Depends on container host Compiler: gcc 14.2.1 20240912 (Red Hat 14.2.1-3) Fedora 41 (ARM Clang) Kernel: Depends on container host Compiler: clang 19.1.5 (Fedora 19.1.5-1.fc41) Ubuntu 20.04 (ARM) Kernel: Depends on container host Compiler: gcc (Ubuntu 9.4.0-1ubuntu1~20.04.2) 9.4.0 Ubuntu 22.04 (ARM) Kernel: Depends on container host Compiler: gcc (Ubuntu 11.4.0-1ubuntu1~22.04) 11.4.0 CentOS Stream 9 (ARM) Kernel: Depends on container host Compiler: gcc 11.5.0 20240719 (Red Hat 11.5.0-2) Ubuntu 24.04 (ARM) Kernel: Depends on container host Compiler: gcc (Ubuntu 13.3.0-6ubuntu2~24.04) 13.3.0 Debian 12 (arm) Kernel: Depends on container host Compiler: gcc (Debian 12.2.0-14) 12.2.0 CentOS Stream 10 (ARM) Kernel: Depends on container host Compiler: gcc 14.2.1 20241104 (Red Hat 14.2.1-6) Ubuntu 20.04 ARM Clang Cross Compile Kernel: Depends on container host Compiler: clang 10.0.0-4ubuntu1 Ubuntu 20.04 aarch32 GCC Cross Compile Kernel: Depends on container host Compiler: gcc 9.4.0 To view detailed results, visit: https://lab.dpdk.org/results/dashboard/tarballs/33207/ UNH-IOL DPDK Community Lab To manage your email subscriptions, visit: https://lab.dpdk.org/results/dashboard/preferences/subscriptions/