From mboxrd@z Thu Jan 1 00:00:00 1970 Return-Path: Received: from mails.dpdk.org (mails.dpdk.org [217.70.189.124]) by inbox.dpdk.org (Postfix) with ESMTP id 3882046547 for ; Wed, 9 Apr 2025 20:23:43 +0200 (CEST) Received: from mails.dpdk.org (localhost [127.0.0.1]) by mails.dpdk.org (Postfix) with ESMTP id 0D73B40652; Wed, 9 Apr 2025 20:23:43 +0200 (CEST) Received: from mail-pl1-f228.google.com (mail-pl1-f228.google.com [209.85.214.228]) by mails.dpdk.org (Postfix) with ESMTP id 7B989402B7 for ; Wed, 9 Apr 2025 20:23:41 +0200 (CEST) Received: by mail-pl1-f228.google.com with SMTP id d9443c01a7336-22548a28d0cso103302875ad.3 for ; Wed, 09 Apr 2025 11:23:41 -0700 (PDT) DKIM-Signature: v=1; a=rsa-sha256; c=relaxed/relaxed; d=iol.unh.edu; s=unh-iol; t=1744223020; x=1744827820; darn=dpdk.org; h=cc:to:from:subject:message-id:date:from:to:cc:subject:date :message-id:reply-to; bh=8tT+oggu+vdfX6zyx7vj9uNhPHavGyMnUglL45sSGcw=; b=dsW2VcDw8UslHDuLtYtnGECGY8wzLmP/UNN7m5fyG50Tt4BshhnOMlxVuHABAiZ/HE uQUaMfV/NwAyZ8jcP1JT+699I6cu/LqCiToNfOP5qbYK5Z6cTtJEbZGT6+6hJYGO6auV QnmrL05oaT5BXwvFZnjP09N5JpAvz31QKF5ig= X-Google-DKIM-Signature: v=1; a=rsa-sha256; c=relaxed/relaxed; d=1e100.net; s=20230601; t=1744223020; x=1744827820; h=cc:to:from:subject:message-id:date:x-gm-message-state:from:to:cc :subject:date:message-id:reply-to; bh=8tT+oggu+vdfX6zyx7vj9uNhPHavGyMnUglL45sSGcw=; b=XFWIxjaxDRIm1i84+2yvFXw9FSSSqfss9x6TsN6DZAW5EhNwAgcLG3F2baTwiZam1K rmNYKKBIQioQQc0nw8RaPicnIP1SMk9PNrXFfgk948DkGMs9fCG1VUD9L/AIHPJ9/1Gk wOn3AUK+vPN+OK+ZPTAbCaZ6qY4F+lixhNU0udxiN9ubR0uowrxJCY5jkzSb8H5unWCo xCCyNJVH3VpB8+jfZcU6pR3v51MZaVG3DHg8jSAKN8SXkYDulHNzMrWjb/mHHzk3twzw qNlVUMKKze4fChMTxhkXnmR7SJOLBRnKDpqgj/73e4+2cGHKpnajFMSqI8ptcy2HDcRi zx/A== X-Gm-Message-State: AOJu0YzPgqx591aYMqk29aK+QP18Nt0Bm/Sk+Lgs0Iq/x5CrmpeZ8nrr VCcXpsXfzgUfW3TQOmjgNQcT2eM85Wis/Z/YFML/hpcppFzGHl0iKr3zKfjRQ0aBGyxOcylLOQL rpz17hcMUqMEOXRR5LqLIuGOGD1+5vQjI3bKFo5HfGHACOhv/T0ec9ylW X-Gm-Gg: ASbGncudnInU3AdD6i3TCRdozcdbR6nFTTsFxkKF/Z+JfXnReHDFAW5d7XqZZoVyR0i hkeu+bqB60gUscjO0S/6GljO/20dJlQEosig21ur2yC7WuLXwaKPN0j7J48F5E3E/M/AS4iuyKo T42U2bFh4u+xosqoD1+V0wQErlED7fsTRuRfyEeizX/N4jxaipYxFxbcrE8VZ4nbFkGlzOu4bp2 Bitofsq5rxVYR29mbO9/WqxF4OrIGShWqIF61MokSCVUPHNukIPo/62PynyTsuxYCclyV8CaYlS YLiPtM6vycoh6x2XnCO2H/Wfi6HM3Dvd3rGrz30kGA2wI8PB X-Google-Smtp-Source: AGHT+IG1fLdQWVdvrX1I+jfDDcd45PwDmPvgnI5L01YiBSoc3NlL/73J4N8z7j5rRriFo6RdalL/9wPZS52I X-Received: by 2002:a17:902:e74f:b0:224:1074:638e with SMTP id d9443c01a7336-22ac2a2dceamr54611415ad.52.1744223020490; Wed, 09 Apr 2025 11:23:40 -0700 (PDT) Received: from postal.iol.unh.edu (postal.iol.unh.edu. [2606:4100:3880:1234::84]) by smtp-relay.gmail.com with ESMTPS id d9443c01a7336-22ac7b40b12sm898185ad.12.2025.04.09.11.23.40 (version=TLS1_2 cipher=ECDHE-ECDSA-AES128-GCM-SHA256 bits=128/128); Wed, 09 Apr 2025 11:23:40 -0700 (PDT) X-Relaying-Domain: iol.unh.edu Date: Wed, 09 Apr 2025 11:23:40 -0700 (PDT) Message-ID: <67f6bb2c.170a0220.4b6d1.3455SMTPIN_ADDED_MISSING@mx.google.com> Received: from [172.17.0.3] (unknown [172.18.0.217]) by postal.iol.unh.edu (Postfix) with ESMTP id 008FB6052471; Wed, 9 Apr 2025 14:23:40 -0400 (EDT) Subject: |SUCCESS| [GIT MASTER] 0b2f016cd76d4fb382eea54b8a6aaf9474586fbc From: dpdklab@iol.unh.edu To: Test Report Cc: dpdk-test-reports@iol.unh.edu, Stephen Hemminger Content-Type: text/plain X-BeenThere: test-report@dpdk.org X-Mailman-Version: 2.1.29 Precedence: list List-Id: automatic DPDK test reports List-Unsubscribe: , List-Archive: List-Post: List-Help: List-Subscribe: , Errors-To: test-report-bounces@dpdk.org _Testing PASS_ Branch: dpdk-next-net 0b2f016cd76d4fb382eea54b8a6aaf9474586fbc --> testing pass Upstream job id: Generic-DPDK-Compile-Meson#378864 Test environment and result as below: +----------------------------------------+--------------------+ | Environment | dpdk_meson_compile | +========================================+====================+ | RHEL9 (ARM) | PASS | +----------------------------------------+--------------------+ | Ubuntu 20.04 ARM SVE | PASS | +----------------------------------------+--------------------+ | Ubuntu 20.04 ARM GCC Cross Compile | PASS | +----------------------------------------+--------------------+ | Debian 12 with MUSDK | PASS | +----------------------------------------+--------------------+ | Fedora 40 (ARM) | PASS | +----------------------------------------+--------------------+ | Fedora 40 (ARM Clang) | PASS | +----------------------------------------+--------------------+ | Fedora 41 (ARM) | PASS | +----------------------------------------+--------------------+ | Fedora 41 (ARM Clang) | PASS | +----------------------------------------+--------------------+ | Ubuntu 20.04 (ARM) | PASS | +----------------------------------------+--------------------+ | Ubuntu 22.04 (ARM) | PASS | +----------------------------------------+--------------------+ | Ubuntu 24.04 (ARM) | PASS | +----------------------------------------+--------------------+ | CentOS Stream 9 (ARM) | PASS | +----------------------------------------+--------------------+ | CentOS Stream 10 (ARM) | PASS | +----------------------------------------+--------------------+ | Debian 12 (arm) | PASS | +----------------------------------------+--------------------+ | Ubuntu 20.04 ARM Clang Cross Compile | PASS | +----------------------------------------+--------------------+ | Ubuntu 20.04 aarch32 GCC Cross Compile | PASS | +----------------------------------------+--------------------+ RHEL9 (ARM) Kernel: Depends on container host Compiler: gcc 11.5.0 20240719 (Red Hat 11.5.0-2) Ubuntu 20.04 ARM SVE Kernel: Depends on container host Compiler: gcc (Ubuntu 10.5.0-1ubuntu1~20.04) 10.5.0 Ubuntu 20.04 ARM GCC Cross Compile Kernel: Depends on container host Compiler: aarch64-linux-gnu-gcc (Ubuntu 9.4.0-1ubuntu1~20.04.2) 9.4.0 Debian 12 with MUSDK Kernel: Depends on container host Compiler: gcc (Debian 12.2.0-14) 12.2.0 Fedora 40 (ARM) Kernel: Depends on container host Compiler: gcc 14.2.1 20240912 (Red Hat 14.2.1-3) Fedora 40 (ARM Clang) Kernel: Depends on container host Compiler: clang 18.1.8 (Fedora 18.1.8-1.fc40) Fedora 41 (ARM) Kernel: Depends on container host Compiler: gcc 14.2.1 20240912 (Red Hat 14.2.1-3) Fedora 41 (ARM Clang) Kernel: Depends on container host Compiler: clang 19.1.5 (Fedora 19.1.5-1.fc41) Ubuntu 20.04 (ARM) Kernel: Depends on container host Compiler: gcc (Ubuntu 9.4.0-1ubuntu1~20.04.2) 9.4.0 Ubuntu 22.04 (ARM) Kernel: Depends on container host Compiler: gcc (Ubuntu 11.4.0-1ubuntu1~22.04) 11.4.0 Ubuntu 24.04 (ARM) Kernel: Depends on container host Compiler: gcc (Ubuntu 13.3.0-6ubuntu2~24.04) 13.3.0 CentOS Stream 9 (ARM) Kernel: Depends on container host Compiler: gcc 11.5.0 20240719 (Red Hat 11.5.0-2) CentOS Stream 10 (ARM) Kernel: Depends on container host Compiler: gcc 14.2.1 20241104 (Red Hat 14.2.1-6) Debian 12 (arm) Kernel: Depends on container host Compiler: gcc (Debian 12.2.0-14) 12.2.0 Ubuntu 20.04 ARM Clang Cross Compile Kernel: Depends on container host Compiler: clang 10.0.0-4ubuntu1 Ubuntu 20.04 aarch32 GCC Cross Compile Kernel: Depends on container host Compiler: gcc 9.4.0 To view detailed results, visit: https://lab.dpdk.org/results/dashboard/tarballs/33208/ UNH-IOL DPDK Community Lab To manage your email subscriptions, visit: https://lab.dpdk.org/results/dashboard/preferences/subscriptions/