From mboxrd@z Thu Jan 1 00:00:00 1970 Return-Path: Received: from mails.dpdk.org (mails.dpdk.org [217.70.189.124]) by inbox.dpdk.org (Postfix) with ESMTP id 278CF46547 for ; Wed, 9 Apr 2025 20:23:54 +0200 (CEST) Received: from mails.dpdk.org (localhost [127.0.0.1]) by mails.dpdk.org (Postfix) with ESMTP id 2270140652; Wed, 9 Apr 2025 20:23:54 +0200 (CEST) Received: from mail-io1-f98.google.com (mail-io1-f98.google.com [209.85.166.98]) by mails.dpdk.org (Postfix) with ESMTP id C114D402B7 for ; Wed, 9 Apr 2025 20:23:52 +0200 (CEST) Received: by mail-io1-f98.google.com with SMTP id ca18e2360f4ac-85d9a87660fso2592139f.1 for ; Wed, 09 Apr 2025 11:23:52 -0700 (PDT) DKIM-Signature: v=1; a=rsa-sha256; c=relaxed/relaxed; d=iol.unh.edu; s=unh-iol; t=1744223032; x=1744827832; darn=dpdk.org; h=cc:to:from:subject:message-id:date:from:to:cc:subject:date :message-id:reply-to; bh=Vkt2M2QKm4i9flCZc1lON2/QVDgiAG5VCz/VyBZOjs4=; b=M0gBXIzcLPa+vYjsNcyLuUkuft+f/5PdKCXxnsqT/LkvrjTZhEDt1S6DzGXI5yUj+1 BGeyQB9jM8aVFnq4GcMtaBZHO5av0R95BqsylSlcw2SPP4l3Q+fUDF3/rPcUaHhfu8qm UrWLP1Mc3SmzvOcQH7B7Z3k+Yu40M75hVi7YM= X-Google-DKIM-Signature: v=1; a=rsa-sha256; c=relaxed/relaxed; d=1e100.net; s=20230601; t=1744223032; x=1744827832; h=cc:to:from:subject:message-id:date:x-gm-message-state:from:to:cc :subject:date:message-id:reply-to; bh=Vkt2M2QKm4i9flCZc1lON2/QVDgiAG5VCz/VyBZOjs4=; b=E0NXsi+LeLJbIdAoe0+XWmfm779kcHlZDjTnKDsSmyOSE5AIUMYcpUJHVudGI7xH5Z LlLMn24GH0cKqFEj7/KwoxBcfPsYW4pu+w+LdME2DTlrx599SI30BIOVgEpOcIJjUODd n1AAARiCJ9NLwj3PkG7vdgrZuRjjumFItnsaWFtt3DgHXiN+tFd9DK+CHmCBADVAxQ61 f5uiaJmxmShu0OGxckhE4TLefNJSFTQotOadBEFoG9L6j9kIDbTB24Z2JVuKmbNMnyKm gNhfp91mzU6fslP8A9QCTs9j4Uyz9FN+X2cn+Du4kjODoWv4DwYvLXk1WEolSfLqH1xM oINA== X-Gm-Message-State: AOJu0YzYx9XD4MukwpF+eB/1pkrzd5jTjvKkQ/m6XhRNszdYfwRVAVJp LfmM8FhDxeEUj8pKbB1ilN5Gp6/P6SVsgd7FTFpWthF5Huj71idZ/dsTxU03cJd4TydirOYtBF7 LI4QnghaCtWpvSgTUEZ5YT0ZseKHZZOUWc5BBHnNh7bxu86UDIvvQ4hgb X-Gm-Gg: ASbGncv3TlSjkyH4fB19MFfNp9/Gvxa2h7YheJHp60iF3H09qrXth4wp4LaUeLhYpcI 9lcF3GGSJ55twGPUps+1VimY6ovpxYiRk6ylBH7EllomKg9F5dNxhAUlESiXoKRhItu9JzqbcT5 nkjYMOXUtsAkVx8YdtTuvhYlK3S0uYd4k6Sku/YYJZSGsig1uu4dWCf5SYh2xTDP/ViL+D/FoPx QCH0YvjTKPGs9Yr38Eq4wqzY2MWlDgy2EITtQeCbu9mqSYMxii+xk505h1Px/A/aZScEMXoEaHt sNl2vnOFUrpYx3PtXwytzCAULXBiiYi6UgThVwKoFGPY2H9x X-Google-Smtp-Source: AGHT+IEFOe10o5r2VXA2eXSLU7FgSlustKeSiqJ2CvJRw2jk374e+9xggU3TZ0y7cneHOaKSKb2ETKYuzGPk X-Received: by 2002:a05:6602:3805:b0:85d:a1c4:ee03 with SMTP id ca18e2360f4ac-8616282482amr434154139f.7.1744223032046; Wed, 09 Apr 2025 11:23:52 -0700 (PDT) Received: from postal.iol.unh.edu (postal.iol.unh.edu. [2606:4100:3880:1234::84]) by smtp-relay.gmail.com with ESMTPS id 8926c6da1cb9f-4f505cfb6f7sm140265173.4.2025.04.09.11.23.51 (version=TLS1_2 cipher=ECDHE-ECDSA-AES128-GCM-SHA256 bits=128/128); Wed, 09 Apr 2025 11:23:52 -0700 (PDT) X-Relaying-Domain: iol.unh.edu Date: Wed, 09 Apr 2025 11:23:52 -0700 (PDT) Message-ID: <67f6bb38.050a0220.2c5435.425cSMTPIN_ADDED_MISSING@mx.google.com> Received: from [172.17.0.3] (unknown [172.18.0.217]) by postal.iol.unh.edu (Postfix) with ESMTP id 8B38A6052471; Wed, 9 Apr 2025 14:23:51 -0400 (EDT) Subject: |SUCCESS| [GIT MASTER] 0b2f016cd76d4fb382eea54b8a6aaf9474586fbc From: dpdklab@iol.unh.edu To: Test Report Cc: dpdk-test-reports@iol.unh.edu, Stephen Hemminger Content-Type: text/plain X-BeenThere: test-report@dpdk.org X-Mailman-Version: 2.1.29 Precedence: list List-Id: automatic DPDK test reports List-Unsubscribe: , List-Archive: List-Post: List-Help: List-Subscribe: , Errors-To: test-report-bounces@dpdk.org _Testing PASS_ Branch: dpdk-next-net 0b2f016cd76d4fb382eea54b8a6aaf9474586fbc --> testing pass Upstream job id: Generic-VM-Unit-Test-DPDK#27898 Test environment and result as below: +---------------------+----------------+ | Environment | dpdk_unit_test | +=====================+================+ | CentOS Stream 10 | PASS | +---------------------+----------------+ | Fedora 40 | PASS | +---------------------+----------------+ | CentOS Stream 9 | PASS | +---------------------+----------------+ | Debian 12 | PASS | +---------------------+----------------+ | Fedora 41 | PASS | +---------------------+----------------+ | Fedora 40 (Clang) | PASS | +---------------------+----------------+ | Fedora 41 (Clang) | PASS | +---------------------+----------------+ | RHEL8 | PASS | +---------------------+----------------+ | Ubuntu 20.04 | PASS | +---------------------+----------------+ | RHEL9 | PASS | +---------------------+----------------+ | Ubuntu 22.04 | PASS | +---------------------+----------------+ | Ubuntu 24.04 | PASS | +---------------------+----------------+ | Windows Server 2022 | PASS | +---------------------+----------------+ CentOS Stream 10 Kernel: Depends on container host Compiler: gcc 14.2.1 20241104 (Red Hat 14.2.1-6) Fedora 40 Kernel: Depends on container host Compiler: gcc 14.2.1 20240912 (Red Hat 14.2.1-3) CentOS Stream 9 Kernel: Depends on container host Compiler: gcc 11.5.0 20240719 (Red Hat 11.5.0-2) Debian 12 Kernel: Depends on container host Compiler: gcc (Debian 12.2.0-14) 12.2.0 Fedora 41 Kernel: Depends on container host Compiler: gcc 14.2.1 20240912 (Red Hat 14.2.1-3) Fedora 40 (Clang) Kernel: Depends on container host Compiler: clang 18.1.8 (Fedora 18.1.8-1.fc40) Fedora 41 (Clang) Kernel: Depends on container host Compiler: clang 19.1.5 (Fedora 19.1.5-1.fc41) RHEL8 Kernel: Depends on container host Compiler: gcc 8.5.0 20210514 (Red Hat 8.5.0-22) Ubuntu 20.04 Kernel: Depends on container host Compiler: gcc (Ubuntu 9.4.0-1ubuntu1~20.04.2) 9.4.0 RHEL9 Kernel: Depends on container host Compiler: gcc 11.5.0 20240719 (Red Hat 11.5.0-2) Ubuntu 22.04 Kernel: Depends on container host Compiler: gcc (Ubuntu 11.4.0-1ubuntu1~22.04) 11.4.0 Ubuntu 24.04 Kernel: Depends on container host Compiler: gcc (Ubuntu 13.3.0-6ubuntu2~24.04) 13.3.0 Windows Server 2022 Kernel: 10.0.20348.2031 Compiler: clang 15.0.7, gcc 14.1.0 (MinGW), and MSVC VS 19.39.33521 To view detailed results, visit: https://lab.dpdk.org/results/dashboard/tarballs/33208/ UNH-IOL DPDK Community Lab To manage your email subscriptions, visit: https://lab.dpdk.org/results/dashboard/preferences/subscriptions/